Workbook
Name VLAN種別: [1]データシート!$A$2:$A$10
Name メモリー拡張_A: [2]data!$F$2:$F$3
Name メモリー拡張_B: [2]data!$G$2:$G$4
Name メモリー拡張_C: [2]data!$H$2:$H$6
Name メモリー拡張_D: [2]data!$I$2:$I$8
Name メモリー拡張_E: [2]data!$J$2:$J$10
Name メモリー拡張_F: [2]data!$K$2:$K$14

Sheet ImportExport
A1: レコードの開始行 | B1: テナントID | C1: 契約者名 | D1: ノード利用台数 | E1: Windows Server Standard 利用数 | F1: Windows Server Datacenter 利用数 | G1: Red Hat Enterprise Linux Standard 利用数 | H1: Red Hat Enterprise Linux Virtual Datacenter 利用数 | I1: Veeam Backup & Replication Enterprise plus 利用数 | J1: FortiVM VM01v（FW） 利用数 | K1: FortiVM VM02v（UTM） 利用数 | L1: vCenter Serverアクセス用IPアドレス | M1: vCenter Serverデフォルトゲートウェイ IPアドレス | N1: 予備ESXiノード IPアドレス | O1: Red Hat Satelliteアクセス用IPアドレス | P1: Red Hat Satelliteデフォルトゲートウェイ IPアドレス | Q1: Veeam_仮想マシン名 | R1: Veeam_仮想マシンユーザ名 | S1: Veeam_仮想マシンパスワード | T1: データストア名（共用） | U1: データストア容量（共用） | V1: VLAN管理番号 | W1: VLAN接続先 | X1: 管理者アカウント | Y1: 作業者アカウント | Z1: ESXiノード IPアドレス | AA1: データストア名（専用） | AB1: データストア容量（専用） | AC1: vCenter Server試験用 IPアドレス | AD1: Red Hat Satellite試験用 IPアドレス | AE1: VLAN利用数 | AF1: クラスタ利用数 | AG1: vCenter Serverスタティックルート 送信元セグメント | AH1: vCenter Serverスタティックルート 宛先IPアドレス | AI1: FortiVM VM02v（FW） 利用数 | AJ1: FortiVM VM04v（FW） 利用数 | AK1: FortiVM VM08v（FW） 利用数 | AL1: FortiVM VM16v（FW） 利用数 | AM1: FortiVM VM32v（FW） 利用数 | AN1: FortiVM VM04v（UTM） 利用数 | AO1: FortiVM VM08v（UTM） 利用数 | AP1: FortiVM VM16v（UTM） 利用数 | AQ1: FortiVM VM32v（UTM） 利用数 | AR1: FortiVM_v2 VM01s（FW） 利用数 | AS1: FortiVM_v2 VM02s（FW） 利用数 | AT1: FortiVM_v2 VM04s（FW） 利用数 | AU1: FortiVM_v2 VM08s（FW） 利用数 | AV1: FortiVM_v2 VM16s（FW） 利用数 | AW1: FortiVM_v2 VM32s（FW） 利用数 | AX1: FortiVM_v2 VM02s（UTM） 利用数 | AY1: FortiVM_v2 VM04s（UTM） 利用数 | AZ1: FortiVM_v2 VM08s（UTM） 利用数 | BA1: FortiVM_v2 VM16s（UTM） 利用数 | BB1: FortiVM_v2 VM32s（UTM） 利用数 | JN1: i | KL1: i | MA1: EXT_テナントID | MB1: EXT_契約者名 | MC1: EXT_ノード利用台数 | MD1: EXT_Windows Server Standard 利用数 | ME1: EXT_Windows Server Datacenter 利用数 | MF1: EXT_Red Hat Enterprise Linux Standard 利用数 | MG1: EXT_Red Hat Enterprise Linux Virtual Datacenter 利用数 | MH1: EXT_Veeam Backup & Replication Enterprise plus 利用数 | MI1: EXT_FortiVM VM01v（FW） 利用数 | MJ1: EXT_FortiVM VM02v（UTM） 利用数 | MK1: EXT_vCenter Serverアクセス用IPアドレス | ML1: EXT_vCenter Serverデフォルトゲートウェイ IPアドレス | MM1: EXT_予備ESXiノード IPアドレス | MN1: EXT_Red Hat Satelliteアクセス用IPアドレス | MO1: EXT_Red Hat Satelliteデフォルトゲートウェイ IPアドレス | MP1: EXT_Veeam_仮想マシン名 | MQ1: EXT_Veeam_仮想マシンユーザ名 | MR1: EXT_Veeam_仮想マシンパスワード | MS1: EXT_データストア名（共用） | MT1: EXT_データストア容量（共用） | MU1: EXT_VLAN管理番号 | MV1: EXT_VLAN接続先 | MW1: EXT_管理者アカウント | MX1: EXT_作業者アカウント | MY1: EXT_ESXiノード IPアドレス | MZ1: EXT_データストア名（専用） | NA1: EXT_データストア容量（専用） | NB1: EXT_vCenter Server試験用 IPアドレス | NC1: EXT_Red Hat Satellite試験用 IPアドレス | ND1: EXT_VLAN利用数 | NE1: EXT_クラスタ利用数 | NF1: EXT_vCenter Serverスタティックルート 送信元セグメント | NG1: EXT_vCenter Serverスタティックルート 宛先IPアドレス | NH1: EXT_FortiVM VM02v（FW） 利用数 | NI1: EXT_FortiVM VM04v（FW） 利用数 | NJ1: EXT_FortiVM VM08v（FW） 利用数 | NK1: EXT_FortiVM VM16v（FW） 利用数 | NL1: EXT_FortiVM VM32v（FW） 利用数 | NM1: EXT_FortiVM VM04v（UTM） 利用数 | NN1: EXT_FortiVM VM08v（UTM） 利用数 | NO1: EXT_FortiVM VM16v（UTM） 利用数 | NP1: EXT_FortiVM VM32v（UTM） 利用数 | NQ1: EXT_FortiVM_v2 VM01s（FW） 利用数 | NR1: EXT_FortiVM_v2 VM02s（FW） 利用数 | NS1: EXT_FortiVM_v2 VM04s（FW） 利用数 | NT1: EXT_FortiVM_v2 VM08s（FW） 利用数 | NU1: EXT_FortiVM_v2 VM16s（FW） 利用数 | NV1: EXT_FortiVM_v2 VM32s（FW） 利用数 | NW1: EXT_FortiVM_v2 VM02s（UTM） 利用数 | NX1: EXT_FortiVM_v2 VM04s（UTM） 利用数 | NY1: EXT_FortiVM_v2 VM08s（UTM） 利用数 | NZ1: EXT_FortiVM_v2 VM16s（UTM） 利用数 | OA1: EXT_FortiVM_v2 VM32s（UTM） 利用数
A2: * | B2: =事前ヒアリングシート!#REF! -> #REF! | C2: =事前ヒアリングシート!#REF! -> #REF! | D2: =IF(事前ヒアリングシート!D5=0,"",事前ヒアリングシート!D5) | E2: =IF(事前ヒアリングシート!D13=0,"",事前ヒアリングシート!D13) | F2: =IF(事前ヒアリングシート!#REF!=0,"",事前ヒアリングシート!#REF!) -> #REF! | G2: =IF(事前ヒアリングシート!#REF!=0,"",事前ヒアリングシート!#REF!) -> #REF! | H2: =IF(事前ヒアリングシート!#REF!=0,"",事前ヒアリングシート!#REF!) -> #REF! | I2: =IF(事前ヒアリングシート!#REF!=0,"",事前ヒアリングシート!#REF!) -> #REF! | J2: =IF(事前ヒアリングシート!#REF!=0,"",事前ヒアリングシート!#REF!) -> #REF! | K2: =IF(事前ヒアリングシート!#REF!=0,"",事前ヒアリングシート!#REF!) -> #REF! | L2: =事前ヒアリングシート!#REF! -> #REF! | M2: =事前ヒアリングシート!#REF! -> #REF! | N2: =事前ヒアリングシート!#REF! -> #REF! | Q2: =IF(#REF!=0, "",#REF!) -> #REF! | R2: =IF(#REF!=0, "",#REF!) -> #REF! | S2: =IF(#REF!=0, "",#REF!) -> #REF! | T2: =IF(U2="","", "ds_" & B2 & "_001") | U2: =IF(事前ヒアリングシート!D14=0,"",事前ヒアリングシート!D14) | AC2: =事前ヒアリングシート!#REF! -> #REF! | AE2: =IF(事前ヒアリングシート!D7=0,"",事前ヒアリングシート!D7) | AF2: =IF(事前ヒアリングシート!D6=0,"",事前ヒアリングシート!D6) | AG2: =IF(事前ヒアリングシート!#REF!=0,"",事前ヒアリングシート!#REF!) -> #REF! | AH2: =IF(事前ヒアリングシート!#REF!=0,"",事前ヒアリングシート!#REF!) -> #REF! | AI2: =IF(事前ヒアリングシート!#REF!=0,"",事前ヒアリングシート!#REF!) -> #REF! | AJ2: =IF(事前ヒアリングシート!#REF!=0,"",事前ヒアリングシート!#REF!) -> #REF! | AK2: =IF(事前ヒアリングシート!#REF!=0,"",事前ヒアリングシート!#REF!) -> #REF! | AL2: =IF(事前ヒアリングシート!#REF!=0,"",事前ヒアリングシート!#REF!) -> #REF! | AM2: =IF(事前ヒアリングシート!#REF!=0,"",事前ヒアリングシート!#REF!) -> #REF! | AN2: =IF(事前ヒアリングシート!#REF!=0,"",事前ヒアリングシート!#REF!) -> #REF! | ... BB2: =IF(事前ヒアリングシート!#REF!=0,"",事前ヒアリングシート!#REF!) -> #REF!
T3: =IF(U3="","", "ds_" & B2 & "_002") | U3: =IF(事前ヒアリングシート!D15=0,"",事前ヒアリングシート!D15)
T4: =IF(U4="","", "ds_" & B2 & "_003") | U4: =IF(事前ヒアリングシート!D18=0,"",事前ヒアリングシート!D18)
T5: =IF(U5="","", "ds_" & B2 & "_004") -> #REF! | U5: =IF(事前ヒアリングシート!#REF!=0,"",事前ヒアリングシート!#REF!) -> #REF!
T6: =IF(U6="","", "ds_" & B2 & "_005") -> #REF! | U6: =IF(事前ヒアリングシート!#REF!=0,"",事前ヒアリングシート!#REF!) -> #REF!
T7: =IF(U7="","", "ds_" & B2 & "_006") -> #REF! | U7: =IF(事前ヒアリングシート!#REF!=0,"",事前ヒアリングシート!#REF!) -> #REF!
T8: =IF(U8="","", "ds_" & B2 & "_007") -> #REF! | U8: =IF(事前ヒアリングシート!#REF!=0,"",事前ヒアリングシート!#REF!) -> #REF!
T9: =IF(U9="","", "ds_" & B2 & "_008") -> #REF! | U9: =IF(事前ヒアリングシート!#REF!=0,"",事前ヒアリングシート!#REF!) -> #REF!
T10: =IF(U10="","", "ds_" & B2 & "_009") -> #REF! | U10: =IF(事前ヒアリングシート!#REF!=0,"",事前ヒアリングシート!#REF!) -> #REF!
T11: =IF(U11="","", "ds_" & B2 & "_010") -> #REF! | U11: =IF(事前ヒアリングシート!#REF!=0,"",事前ヒアリングシート!#REF!) -> #REF!
T12: =IF(U12="","", "ds_" & B2 & "_011") -> #REF! | U12: =IF(事前ヒアリングシート!#REF!=0,"",事前ヒアリングシート!#REF!) -> #REF!
T13: =IF(U13="","", "ds_" & B2 & "_012") -> #REF! | U13: =IF(事前ヒアリングシート!#REF!=0,"",事前ヒアリングシート!#REF!) -> #REF!
T14: =IF(U14="","", "ds_" & B2 & "_013") -> #REF! | U14: =IF(事前ヒアリングシート!#REF!=0,"",事前ヒアリングシート!#REF!) -> #REF!
T15: =IF(U15="","", "ds_" & B2 & "_014") -> #REF! | U15: =IF(事前ヒアリングシート!#REF!=0,"",事前ヒアリングシート!#REF!) -> #REF!
T16: =IF(U16="","", "ds_" & B2 & "_015") -> #REF! | U16: =IF(事前ヒアリングシート!#REF!=0,"",事前ヒアリングシート!#REF!) -> #REF!
T17: =IF(U17="","", "ds_" & B2 & "_016") -> #REF! | U17: =IF(事前ヒアリングシート!#REF!=0,"",事前ヒアリングシート!#REF!) -> #REF!
T18: =IF(U18="","", "ds_" & B2 & "_017") -> #REF! | U18: =IF(事前ヒアリングシート!#REF!=0,"",事前ヒアリングシート!#REF!) -> #REF!
T19: =IF(U19="","", "ds_" & B2 & "_018") -> #REF! | U19: =IF(事前ヒアリングシート!#REF!=0,"",事前ヒアリングシート!#REF!) -> #REF!
T20: =IF(U20="","", "ds_" & B2 & "_019") -> #REF! | U20: =IF(事前ヒアリングシート!#REF!=0,"",事前ヒアリングシート!#REF!) -> #REF!
T21: =IF(U21="","", "ds_" & B2 & "_020") -> #REF! | U21: =IF(事前ヒアリングシート!#REF!=0,"",事前ヒアリングシート!#REF!) -> #REF!
T22: =IF(U22="","", "ds_" & B2 & "_021") -> #REF! | U22: =IF(事前ヒアリングシート!#REF!=0,"",事前ヒアリングシート!#REF!) -> #REF!
T23: =IF(U23="","", "ds_" & B2 & "_022") -> #REF! | U23: =IF(事前ヒアリングシート!#REF!=0,"",事前ヒアリングシート!#REF!) -> #REF!
T24: =IF(U24="","", "ds_" & B2 & "_023") -> #REF! | U24: =IF(事前ヒアリングシート!#REF!=0,"",事前ヒアリングシート!#REF!) -> #REF!
T25: =IF(U25="","", "ds_" & B2 & "_024") -> #REF! | U25: =IF(事前ヒアリングシート!#REF!=0,"",事前ヒアリングシート!#REF!) -> #REF!
T26: =IF(U26="","", "ds_" & B2 & "_025") -> #REF! | U26: =IF(事前ヒアリングシート!#REF!=0,"",事前ヒアリングシート!#REF!) -> #REF!
T27: =IF(U27="","", "ds_" & B2 & "_026") -> #REF! | U27: =IF(事前ヒアリングシート!#REF!=0,"",事前ヒアリングシート!#REF!) -> #REF!
T28: =IF(U28="","", "ds_" & B2 & "_027") -> #REF! | U28: =IF(事前ヒアリングシート!#REF!=0,"",事前ヒアリングシート!#REF!) -> #REF!
T29: =IF(U29="","", "ds_" & B2 & "_028") -> #REF! | U29: =IF(事前ヒアリングシート!#REF!=0,"",事前ヒアリングシート!#REF!) -> #REF!
T30: =IF(U30="","", "ds_" & B2 & "_029") -> #REF! | U30: =IF(事前ヒアリングシート!#REF!=0,"",事前ヒアリングシート!#REF!) -> #REF!
T31: =IF(U31="","", "ds_" & B2 & "_030") -> #REF! | U31: =IF(事前ヒアリングシート!#REF!=0,"",事前ヒアリングシート!#REF!) -> #REF!
T32: =IF(U32="","", "ds_" & B2 & "_031") -> #REF! | U32: =IF(事前ヒアリングシート!#REF!=0,"",事前ヒアリングシート!#REF!) -> #REF!
T33: =IF(U33="","", "ds_" & B2 & "_032") -> #REF! | U33: =IF(事前ヒアリングシート!#REF!=0,"",事前ヒアリングシート!#REF!) -> #REF!
T34: =IF(U34="","", "ds_" & B2 & "_033") -> #REF! | U34: =IF(事前ヒアリングシート!#REF!=0,"",事前ヒアリングシート!#REF!) -> #REF!
T35: =IF(U35="","", "ds_" & B2 & "_034") -> #REF! | U35: =IF(事前ヒアリングシート!#REF!=0,"",事前ヒアリングシート!#REF!) -> #REF!
T36: =IF(U36="","", "ds_" & B2 & "_035") -> #REF! | U36: =IF(事前ヒアリングシート!#REF!=0,"",事前ヒアリングシート!#REF!) -> #REF!
T37: =IF(U37="","", "ds_" & B2 & "_036") -> #REF! | U37: =IF(事前ヒアリングシート!#REF!=0,"",事前ヒアリングシート!#REF!) -> #REF!
T38: =IF(U38="","", "ds_" & B2 & "_037") -> #REF! | U38: =IF(事前ヒアリングシート!#REF!=0,"",事前ヒアリングシート!#REF!) -> #REF!
T39: =IF(U39="","", "ds_" & B2 & "_038") -> #REF! | U39: =IF(事前ヒアリングシート!#REF!=0,"",事前ヒアリングシート!#REF!) -> #REF!
T40: =IF(U40="","", "ds_" & B2 & "_039") -> #REF! | U40: =IF(事前ヒアリングシート!#REF!=0,"",事前ヒアリングシート!#REF!) -> #REF!
T41: =IF(U41="","", "ds_" & B2 & "_040") -> #REF! | U41: =IF(事前ヒアリングシート!#REF!=0,"",事前ヒアリングシート!#REF!) -> #REF!
T42: =IF(U42="","", "ds_" & B2 & "_041") -> #REF! | U42: =IF(事前ヒアリングシート!#REF!=0,"",事前ヒアリングシート!#REF!) -> #REF!
T43: =IF(U43="","", "ds_" & B2 & "_042") -> #REF! | U43: =IF(事前ヒアリングシート!#REF!=0,"",事前ヒアリングシート!#REF!) -> #REF!
T44: =IF(U44="","", "ds_" & B2 & "_043") -> #REF! | U44: =IF(事前ヒアリングシート!#REF!=0,"",事前ヒアリングシート!#REF!) -> #REF!
T45: =IF(U45="","", "ds_" & B2 & "_044") -> #REF! | U45: =IF(事前ヒアリングシート!#REF!=0,"",事前ヒアリングシート!#REF!) -> #REF!
T46: =IF(U46="","", "ds_" & B2 & "_045") -> #REF! | U46: =IF(事前ヒアリングシート!#REF!=0,"",事前ヒアリングシート!#REF!) -> #REF!
T47: =IF(U47="","", "ds_" & B2 & "_046") -> #REF! | U47: =IF(事前ヒアリングシート!#REF!=0,"",事前ヒアリングシート!#REF!) -> #REF!
T48: =IF(U48="","", "ds_" & B2 & "_047") -> #REF! | U48: =IF(事前ヒアリングシート!#REF!=0,"",事前ヒアリングシート!#REF!) -> #REF!
T49: =IF(U49="","", "ds_" & B2 & "_048") -> #REF! | U49: =IF(事前ヒアリングシート!#REF!=0,"",事前ヒアリングシート!#REF!) -> #REF!
T50: =IF(U50="","", "ds_" & B2 & "_049") -> #REF! | U50: =IF(事前ヒアリングシート!#REF!=0,"",事前ヒアリングシート!#REF!) -> #REF!
T51: =IF(U51="","", "ds_" & B2 & "_050") -> #REF! | U51: =IF(事前ヒアリングシート!#REF!=0,"",事前ヒアリングシート!#REF!) -> #REF!
V52: =IF(W52="", "", 事前ヒアリングシート!#REF!) -> #REF! | W52: =IF(事前ヒアリングシート!#REF!="","",事前ヒアリングシート!#REF!) -> #REF!
V53: =IF(W53="", "", 事前ヒアリングシート!#REF!) -> #REF! | W53: =IF(事前ヒアリングシート!#REF!="","",事前ヒアリングシート!#REF!) -> #REF!
V54: =IF(W54="", "", 事前ヒアリングシート!#REF!) -> #REF! | W54: =IF(事前ヒアリングシート!#REF!="","",事前ヒアリングシート!#REF!) -> #REF!
V55: =IF(W55="", "", 事前ヒアリングシート!#REF!) -> #REF! | W55: =IF(事前ヒアリングシート!#REF!="","",事前ヒアリングシート!#REF!) -> #REF!
V56: =IF(W56="", "", 事前ヒアリングシート!#REF!) -> #REF! | W56: =IF(事前ヒアリングシート!#REF!="","",事前ヒアリングシート!#REF!) -> #REF!
V57: =IF(W57="", "", 事前ヒアリングシート!#REF!) -> #REF! | W57: =IF(事前ヒアリングシート!#REF!="","",事前ヒアリングシート!#REF!) -> #REF!
V58: =IF(W58="", "", 事前ヒアリングシート!#REF!) -> #REF! | W58: =IF(事前ヒアリングシート!#REF!="","",事前ヒアリングシート!#REF!) -> #REF!
V59: =IF(W59="", "", 事前ヒアリングシート!#REF!) -> #REF! | W59: =IF(事前ヒアリングシート!#REF!="","",事前ヒアリングシート!#REF!) -> #REF!
V60: =IF(W60="", "", 事前ヒアリングシート!#REF!) -> #REF! | W60: =IF(事前ヒアリングシート!#REF!="","",事前ヒアリングシート!#REF!) -> #REF!
V61: =IF(W61="", "", 事前ヒアリングシート!#REF!) -> #REF! | W61: =IF(事前ヒアリングシート!#REF!="","",事前ヒアリングシート!#REF!) -> #REF!
V62: =IF(W62="", "", 事前ヒアリングシート!#REF!) -> #REF! | W62: =IF(事前ヒアリングシート!#REF!="","",事前ヒアリングシート!#REF!) -> #REF!
V63: =IF(W63="", "", 事前ヒアリングシート!#REF!) -> #REF! | W63: =IF(事前ヒアリングシート!#REF!="","",事前ヒアリングシート!#REF!) -> #REF!
... V451: =IF(W451="", "", 事前ヒアリングシート!#REF!) -> #REF! | W451: =IF(事前ヒアリングシート!#REF!="","",事前ヒアリングシート!#REF!) -> #REF!
X452: =IF(#REF!="", "",#REF!) -> #REF!
X453: =IF(#REF!="", "",#REF!) -> #REF!
X454: =IF(#REF!="", "",#REF!) -> #REF!
X455: =IF(#REF!="", "",#REF!) -> #REF!
X456: =IF(#REF!="", "",#REF!) -> #REF!
X457: =IF(#REF!="", "",#REF!) -> #REF!
X458: =IF(#REF!="", "",#REF!) -> #REF!
X459: =IF(#REF!="", "",#REF!) -> #REF!
X460: =IF(#REF!="", "",#REF!) -> #REF!
X461: =IF(#REF!="", "",#REF!) -> #REF!
X462: =IF(#REF!="", "",#REF!) -> #REF!
X463: =IF(#REF!="", "",#REF!) -> #REF!
... X551: =IF(#REF!="", "",#REF!) -> #REF!
Y552: =IF(#REF!="", "",#REF!) -> #REF!
Y553: =IF(#REF!="", "",#REF!) -> #REF!
Y554: =IF(#REF!="", "",#REF!) -> #REF!
Y555: =IF(#REF!="", "",#REF!) -> #REF!
Y556: =IF(#REF!="", "",#REF!) -> #REF!
Y557: =IF(#REF!="", "",#REF!) -> #REF!
Y558: =IF(#REF!="", "",#REF!) -> #REF!
Y559: =IF(#REF!="", "",#REF!) -> #REF!
Y560: =IF(#REF!="", "",#REF!) -> #REF!
Y561: =IF(#REF!="", "",#REF!) -> #REF!
Y562: =IF(#REF!="", "",#REF!) -> #REF!
Y563: =IF(#REF!="", "",#REF!) -> #REF!
... Y651: =IF(#REF!="", "",#REF!) -> #REF!
Z652: =IF(事前ヒアリングシート!#REF!="","",事前ヒアリングシート!#REF!) -> #REF!
Z653: =IF(事前ヒアリングシート!#REF!="","",事前ヒアリングシート!#REF!) -> #REF!
Z654: =IF(事前ヒアリングシート!#REF!="","",事前ヒアリングシート!#REF!) -> #REF!
Z655: =IF(事前ヒアリングシート!#REF!="","",事前ヒアリングシート!#REF!) -> #REF!
Z656: =IF(事前ヒアリングシート!#REF!="","",事前ヒアリングシート!#REF!) -> #REF!
Z657: =IF(事前ヒアリングシート!#REF!="","",事前ヒアリングシート!#REF!) -> #REF!
Z658: =IF(事前ヒアリングシート!#REF!="","",事前ヒアリングシート!#REF!) -> #REF!
Z659: =IF(事前ヒアリングシート!#REF!="","",事前ヒアリングシート!#REF!) -> #REF!
Z660: =IF(事前ヒアリングシート!#REF!="","",事前ヒアリングシート!#REF!) -> #REF!
Z661: =IF(事前ヒアリングシート!#REF!="","",事前ヒアリングシート!#REF!) -> #REF!
...

Sheet 事前ヒアリングシート
K1: ver.1.0.0
A2: (事前)VMware環境ヒアリングシート | K2: 46015
A4: カテゴリ | B4: 項目名 | C4: key | D4: 新規設定 （変更後の設定） | E4: 説明
A5: 仮想基盤 | B5: vCenterバージョン/ビルド番号 | C5: node_size | E5: ご利用中のvCenterのバージョン/ビルド番号をご記入ください。(例: 8.0 U3e 24674346)
B6: ESXiバージョン/ビルド番号 | C6: cluster_size | E6: ご利用中のESXiのバージョン/ビルド番号をご記入ください。(例: 8.0 U3e 24674346) ノードごとに異なる場合、すべてのバージョン/ビルド番号をご記入ください。
B7: vSphereエディション | C7: vlan_size | E7: vSphereのエディションを選択してください。
B8: 仮想スイッチ種別 | E8: スイッチの種別を選択してください。
B9: 空きリソース(オンプレミス) | C9: cluster_size | E9: 合計CPU12core／メモリ15GB／ディスク60GBの空きがあること。
B10: 空きリソース(SCP Type-S) | C10: cluster_size | E10: 合計CPU16core／メモリ34GB／ディスク362GBの空きがあること
B11: CPU | C11: cluster_size | E11: ご利用中のノードに搭載されているCPUの名称をご記入ください。(例: Intel Xeon Gold 5218) ノードごとに異なる場合、すべてのノードについてご記入ください。
B12: HCXデプロイ用アカウントの貸与 | C12: cluster_size | E12: HCX Connectorのデプロイに必要な権限が付与されたアカウントを弊社へ貸与いただく必要があります。
B13: NSX | C13: cluster_size | E13: オンプレミス環境でのNSX/NSX-Tの利用状況をご記入ください。
A14: 仮想マシン | B14: 仮想マシンハードウェアバージョン | C14: shared_storage_1 | E14: 移行予定の仮想マシンにおいて、最も古い仮想マシンハードウェアバージョンをご記入ください。
B15: VMware Tools | C15: shared_storage_2 | E15: 移行予定の仮想マシンにおける、VMware Tools(open-vm-tools)のインストール状況をご記入ください。
B16: 最大ディスク数 | C16: shared_storage_3 | E16: 移行予定の仮想マシンにおける、ディスクの最大本数をご記入ください。
B17: ディスクの暗号化 | C17: shared_storage_3 | E17: 移行予定の仮想マシンにおける、ディスクの暗号化状況をご記入ください。
B18: 仮想化ベースのセキュリティ(VBS) | C18: shared_storage_3 | E18: 移行予定の仮想マシンにおける、仮想化ベースのセキュリティ(VBS)の利用状況をご記入ください。
A19: ネットワーク | B19: 仮想マシンネットワーク L2延伸 | C19: shared_storage_1 | E19: 移行予定の仮想マシンに接続されているネットワークが、SCP Type-SへL2延伸されている必要があります。
B20: 回線帯域 | C20: shared_storage_2 | E20: オンプレミス環境とSCP Type-Sを接続する回線の帯域をご記入ください。
B21: ポート/プロトコルの通信許可状況 | C21: shared_storage_3 | E21: HCXの各コンポーネントが、以下サイトに記載のポート/プロトコルで通信できる必要があります。 https://ports.broadcom.com/view
B22: IPアドレス | C22: shared_storage_3 | E22: ESXiの管理用アドレスが所属するセグメントに、HCXコンポーネント用としてIPアドレスが1つ以上空きがある必要があります。

Sheet Selection
A1: エディション | B1: スイッチ | C1: リソース | D1: アカウント貸与 | E1: VMware Tools | F1: NSX | G1: 暗号化 | H1: VBS | I1: L2延伸 | J1: 許可 | K1: IPアドレス | L1: Value | M1: VLAN契約数 | N1: Value | O1: グローバル接続 | P1: Value | Q1: ポータル接続 | R1: Value | S1: Satellite接続 | T1: Value | U1: VLAN管理番号 | V1: 同意確認 | W1: Value | X1: クラスタ利用数 | Y1: Value | Z1: FortiVM利用数 | AA1: Value
A2: Essentials | B2: 標準スイッチ | C2: 空きあり | D2: 可能 | E2: 全台インストール済み | F2: 利用している | G2: 利用している | H2: 利用している | I2: L2延伸済み | J2: 許可済み/許可予定 | K2: 空きあり | L2: 1 | M2: 10 | N2: 10 | O2: ●(/28) | P2: /28 | R2: FALSE | T2: FALSE | U2: - | W2: FALSE | X2: 1 | Y2: 1 | Z2: 1 | AA2: 1
A3: Essentials Plus | B3: 分散スイッチ | C3: 空きなし | D3: 不可能 | E3: 一部インストール済み | F3: 利用していない | G3: 利用していない | H3: 利用していない | I3: L2延伸されていない | K3: 空きなし | L3: 2 | M3: 20 | N3: 20 | O3: ●(/29) | P3: /29 | Q3: ● | R3: TRUE | S3: ● | T3: TRUE | U3: グローバル接続（/27） | V3: 同意します | W3: TRUE | X3: 2 | Y3: 2 | Z3: 2 | AA3: 2
A4: Standard | E4: 未インストール | L4: 3 | M4: 30 | N4: 30 | U4: グローバル接続（/28） | X4: 3 | Y4: 3 | Z4: 3 | AA4: 3
A5: Enterprise Plus | L5: 4 | M5: 40 | N5: 40 | U5: グローバル接続（/29） | X5: 4 | Y5: 4 | Z5: 4 | AA5: 4
