Workbook
Name haisupekku: [1]Sheet2!#REF!
Name VLAN種別: [2]データシート!$A$2:$A$10
Name カスタマイズ: [1]Sheet2!#REF!
Name カスタマイズ_GPU搭載: [1]Sheet2!#REF!
Name スタンダード: [1]Sheet2!#REF!
Name スタンダードv2: [1]Sheet2!#REF!
Name ハイスペック: [1]Sheet2!#REF!
Name ハイスペックv2: [1]Sheet2!#REF!
Name メモリー拡張_A: [3]data!$F$2:$F$3
Name メモリー拡張_B: [3]data!$G$2:$G$4
Name メモリー拡張_C: [3]data!$H$2:$H$6
Name メモリー拡張_D: [3]data!$I$2:$I$8
Name メモリー拡張_E: [3]data!$J$2:$J$10
Name メモリー拡張_F: [3]data!$K$2:$K$14
Name 追加選択: [1]Sheet2!#REF!

Sheet ImportExport
A1: レコードの開始行 | B1: テナントID | C1: 契約者名 | D1: 試験用IPアドレス | E1: 特別対応分 | F1: お申込みサーバ番号 | G1: サーバ名 | H1: ベースサーバプラン | I1: CPU追加 | J1: メモリ追加数 | K1: 標準搭載メモリ数 | L1: メモリ1枚あたりの容量 | M1: 合計搭載メモリ数 | N1: ディスク種類① | O1: ディスク種類① 数量 | P1: ディスク種類② | Q1: ディスク種類② 数量 | R1: ディスク種類③ | S1: ディスク種類③ 数量 | T1: ディスク種類④ | U1: ディスク種類④ 数量 | V1: NIC追加 | W1: NIC冗長化グループ1 | X1: NIC冗長化グループ1_タグVLAN | Y1: NIC冗長化グループ1_接続VLAN管理番号 | Z1: NIC冗長化グループ2 | AA1: NIC冗長化グループ2_タグVLAN | AB1: NIC冗長化グループ2_接続VLAN管理番号 | AC1: 標準NIC-port1 | AD1: 標準NIC-port2 | AE1: 追加NIC-port1 | AF1: 追加NIC-port2 | AG1: VLAN管理番号 | AH1: ネットワークアドレス | AI1: デフォルトゲートウェイ | AJ1: IPアドレス | AK1: ログインID | AL1: OSインストールオプション申込み | AM1: インストールOS種別 | AN1: 備考 | BH1: EXT_テナントID | BI1: EXT_契約者名 | BJ1: EXT_試験用IPアドレス | BK1: EXT_特別対応分 | BL1: EXT_お申込みサーバ番号 | BM1: EXT_サーバ名 | BN1: EXT_ベースサーバプラン | BO1: EXT_CPU追加 | BP1: EXT_メモリ追加数 | BQ1: EXT_標準搭載メモリ数 | BR1: EXT_メモリ1枚あたりの容量 | BS1: EXT_合計搭載メモリ数 | BT1: EXT_ディスク種類① | BU1: EXT_ディスク種類① 数量 | BV1: EXT_ディスク種類② | BW1: EXT_ディスク種類② 数量 | BX1: EXT_ディスク種類③ | BY1: EXT_ディスク種類③ 数量 | BZ1: EXT_ディスク種類④ | CA1: EXT_ディスク種類④ 数量 | CB1: EXT_NIC追加 | CC1: EXT_NIC冗長化グループ1 | CD1: EXT_NIC冗長化グループ1_タグVLAN | CE1: EXT_NIC冗長化グループ1_接続VLAN管理番号 | CF1: EXT_NIC冗長化グループ2 | CG1: EXT_NIC冗長化グループ2_タグVLAN | CH1: EXT_NIC冗長化グループ2_接続VLAN管理番号 | CI1: EXT_標準NIC-port1 | CJ1: EXT_標準NIC-port2 | CK1: EXT_追加NIC-port1 | CL1: EXT_標準NIC-port2 | CM1: EXT_VLAN管理番号 | CN1: EXT_ネットワークアドレス | CO1: EXT_デフォルトゲートウェイ | CP1: EXT_IPアドレス | CQ1: EXT_ログインID | CR1: EXT_OSインストールオプション申込み | CS1: EXT_インストールOS種別 | CT1: EXT_備考
A2: * | B2: =IF('設定シート（ベースサーバv3）'!B6=0,"",'設定シート（ベースサーバv3）'!B6) | C2: =IF('設定シート（ベースサーバv3）'!B7=0,"",'設定シート（ベースサーバv3）'!B7) | D2: =IF('設定シート（ベースサーバv3）'!B8=0,"",'設定シート（ベースサーバv3）'!B8) | E2: =IF('設定シート（ベースサーバv3）'!B9=0,"",'設定シート（ベースサーバv3）'!B9) | F2: ='設定シート（ベースサーバv3）'!L12 -> 1 | G2: =IF('設定シート（ベースサーバv3）'!L13=0,"",'設定シート（ベースサーバv3）'!L13) | H2: =IF('設定シート（ベースサーバv3）'!L15=0,"",'設定シート（ベースサーバv3）'!L15) | I2: =IF('設定シート（ベースサーバv3）'!L16=0,"",'設定シート（ベースサーバv3）'!L16) | J2: =IF('設定シート（ベースサーバv3）'!L17=0,"0",'設定シート（ベースサーバv3）'!L17) | K2: =IF('設定シート（ベースサーバv3）'!L18=0,"",'設定シート（ベースサーバv3）'!L18) | L2: =IF('設定シート（ベースサーバv3）'!L19=0,"",'設定シート（ベースサーバv3）'!L19) | M2: =IF('設定シート（ベースサーバv3）'!L20=1,"1",'設定シート（ベースサーバv3）'!L20) | N2: =IF('設定シート（ベースサーバv3）'!L21=0,"",'設定シート（ベースサーバv3）'!L21) | O2: =IF('設定シート（ベースサーバv3）'!L22=0,"",'設定シート（ベースサーバv3）'!L22) | P2: =IF('設定シート（ベースサーバv3）'!L23=0,"",'設定シート（ベースサーバv3）'!L23) | Q2: =IF('設定シート（ベースサーバv3）'!L24=0,"",'設定シート（ベースサーバv3）'!L24) | R2: =IF('設定シート（ベースサーバv3）'!L25=0,"",'設定シート（ベースサーバv3）'!L25) | S2: =IF('設定シート（ベースサーバv3）'!L26=0,"",'設定シート（ベースサーバv3）'!L26) | T2: =IF('設定シート（ベースサーバv3）'!L27=0,"",'設定シート（ベースサーバv3）'!L27) | U2: =IF('設定シート（ベースサーバv3）'!L28=0,"",'設定シート（ベースサーバv3）'!L28) | V2: =IF('設定シート（ベースサーバv3）'!L29=0,"",'設定シート（ベースサーバv3）'!L29) | W2: =IF('設定シート（ベースサーバv3）'!L30=0,"",'設定シート（ベースサーバv3）'!L30) | X2: =IF('設定シート（ベースサーバv3）'!L31=0,"",'設定シート（ベースサーバv3）'!L31) | Y2: =IF('設定シート（ベースサーバv3）'!L32=0,"",'設定シート（ベースサーバv3）'!L32) | Z2: =IF('設定シート（ベースサーバv3）'!L33=0,"",'設定シート（ベースサーバv3）'!L33) | AA2: =IF('設定シート（ベースサーバv3）'!L34=0,"",'設定シート（ベースサーバv3）'!L34) | AB2: =IF('設定シート（ベースサーバv3）'!L35=0,"",'設定シート（ベースサーバv3）'!L35) | AC2: =IF('設定シート（ベースサーバv3）'!L36=0,"",'設定シート（ベースサーバv3）'!L36) | AD2: =IF('設定シート（ベースサーバv3）'!L37=0,"",'設定シート（ベースサーバv3）'!L37) | AE2: =IF('設定シート（ベースサーバv3）'!L38=0,"",'設定シート（ベースサーバv3）'!L38) | AF2: =IF('設定シート（ベースサーバv3）'!L39=0,"",'設定シート（ベースサーバv3）'!L39) | AG2: =IF('設定シート（ベースサーバv3）'!L40=0,"",'設定シート（ベースサーバv3）'!L40) | AH2: =IF('設定シート（ベースサーバv3）'!L41=0,"",'設定シート（ベースサーバv3）'!L41) | AI2: =IF('設定シート（ベースサーバv3）'!L42=0,"",'設定シート（ベースサーバv3）'!L42) | AJ2: =IF('設定シート（ベースサーバv3）'!L43=0,"",'設定シート（ベースサーバv3）'!L43) | AK2: =IF('設定シート（ベースサーバv3）'!L44=0,"",'設定シート（ベースサーバv3）'!L44) | AL2: =IF('設定シート（ベースサーバv3）'!L45=0,"",'設定シート（ベースサーバv3）'!L45) | AM2: =IF('設定シート（ベースサーバv3）'!L46=0,"",'設定シート（ベースサーバv3）'!L46) | AN2: =IF('設定シート（ベースサーバv3）'!L47=0,"",'設定シート（ベースサーバv3）'!L47)
F3: ='設定シート（ベースサーバv3）'!P12 -> 2 | G3: =IF('設定シート（ベースサーバv3）'!P13=0,"",'設定シート（ベースサーバv3）'!P13) | H3: =IF('設定シート（ベースサーバv3）'!P15=0,"",'設定シート（ベースサーバv3）'!P15) | I3: =IF('設定シート（ベースサーバv3）'!P16=0,"",'設定シート（ベースサーバv3）'!P16) | J3: =IF('設定シート（ベースサーバv3）'!P17=0,"0",'設定シート（ベースサーバv3）'!P17) | K3: =IF('設定シート（ベースサーバv3）'!P18=0,"",'設定シート（ベースサーバv3）'!P18) | L3: =IF('設定シート（ベースサーバv3）'!P19=0,"",'設定シート（ベースサーバv3）'!P19) | M3: =IF('設定シート（ベースサーバv3）'!P20=1,"1",'設定シート（ベースサーバv3）'!P20) | N3: =IF('設定シート（ベースサーバv3）'!P21=0,"",'設定シート（ベースサーバv3）'!P21) | O3: =IF('設定シート（ベースサーバv3）'!P22=0,"",'設定シート（ベースサーバv3）'!P22) | P3: =IF('設定シート（ベースサーバv3）'!P23=0,"",'設定シート（ベースサーバv3）'!P23) | Q3: =IF('設定シート（ベースサーバv3）'!P24=0,"",'設定シート（ベースサーバv3）'!P24) | R3: =IF('設定シート（ベースサーバv3）'!P25=0,"",'設定シート（ベースサーバv3）'!P25) | S3: =IF('設定シート（ベースサーバv3）'!P26=0,"",'設定シート（ベースサーバv3）'!P26) | T3: =IF('設定シート（ベースサーバv3）'!P27=0,"",'設定シート（ベースサーバv3）'!P27) | U3: =IF('設定シート（ベースサーバv3）'!P28=0,"",'設定シート（ベースサーバv3）'!P28) | V3: =IF('設定シート（ベースサーバv3）'!P29=0,"",'設定シート（ベースサーバv3）'!P29) | W3: =IF('設定シート（ベースサーバv3）'!P30=0,"",'設定シート（ベースサーバv3）'!P30) | X3: =IF('設定シート（ベースサーバv3）'!P31=0,"",'設定シート（ベースサーバv3）'!P31) | Y3: =IF('設定シート（ベースサーバv3）'!P32=0,"",'設定シート（ベースサーバv3）'!P32) | Z3: =IF('設定シート（ベースサーバv3）'!P33=0,"",'設定シート（ベースサーバv3）'!P33) | AA3: =IF('設定シート（ベースサーバv3）'!P34=0,"",'設定シート（ベースサーバv3）'!P34) | AB3: =IF('設定シート（ベースサーバv3）'!P35=0,"",'設定シート（ベースサーバv3）'!P35) | AC3: =IF('設定シート（ベースサーバv3）'!P36=0,"",'設定シート（ベースサーバv3）'!P36) | AD3: =IF('設定シート（ベースサーバv3）'!P37=0,"",'設定シート（ベースサーバv3）'!P37) | AE3: =IF('設定シート（ベースサーバv3）'!P38=0,"",'設定シート（ベースサーバv3）'!P38) | AF3: =IF('設定シート（ベースサーバv3）'!P39=0,"",'設定シート（ベースサーバv3）'!P39) | AG3: =IF('設定シート（ベースサーバv3）'!P40=0,"",'設定シート（ベースサーバv3）'!P40) | AH3: =IF('設定シート（ベースサーバv3）'!P41=0,"",'設定シート（ベースサーバv3）'!P41) | AI3: =IF('設定シート（ベースサーバv3）'!P42=0,"",'設定シート（ベースサーバv3）'!P42) | AJ3: =IF('設定シート（ベースサーバv3）'!P43=0,"",'設定シート（ベースサーバv3）'!P43) | AK3: =IF('設定シート（ベースサーバv3）'!P44=0,"",'設定シート（ベースサーバv3）'!P44) | AL3: =IF('設定シート（ベースサーバv3）'!P45=0,"",'設定シート（ベースサーバv3）'!P45) | AM3: =IF('設定シート（ベースサーバv3）'!P46=0,"",'設定シート（ベースサーバv3）'!P46) | AN3: =IF('設定シート（ベースサーバv3）'!P47=0,"",'設定シート（ベースサーバv3）'!P47)
F4: ='設定シート（ベースサーバv3）'!T12 -> 3 | G4: =IF('設定シート（ベースサーバv3）'!T13=0,"",'設定シート（ベースサーバv3）'!T13) | H4: =IF('設定シート（ベースサーバv3）'!T15=0,"",'設定シート（ベースサーバv3）'!T15) | I4: =IF('設定シート（ベースサーバv3）'!T16=0,"",'設定シート（ベースサーバv3）'!T16) | J4: =IF('設定シート（ベースサーバv3）'!T17=0,"0",'設定シート（ベースサーバv3）'!T17) | K4: =IF('設定シート（ベースサーバv3）'!T18=0,"",'設定シート（ベースサーバv3）'!T18) | L4: =IF('設定シート（ベースサーバv3）'!T19=0,"",'設定シート（ベースサーバv3）'!T19) | M4: =IF('設定シート（ベースサーバv3）'!T20=1,"1",'設定シート（ベースサーバv3）'!T20) | N4: =IF('設定シート（ベースサーバv3）'!T21=0,"",'設定シート（ベースサーバv3）'!T21) | O4: =IF('設定シート（ベースサーバv3）'!T22=0,"",'設定シート（ベースサーバv3）'!T22) | P4: =IF('設定シート（ベースサーバv3）'!T23=0,"",'設定シート（ベースサーバv3）'!T23) | Q4: =IF('設定シート（ベースサーバv3）'!T24=0,"",'設定シート（ベースサーバv3）'!T24) | R4: =IF('設定シート（ベースサーバv3）'!T25=0,"",'設定シート（ベースサーバv3）'!T25) | S4: =IF('設定シート（ベースサーバv3）'!T26=0,"",'設定シート（ベースサーバv3）'!T26) | T4: =IF('設定シート（ベースサーバv3）'!T27=0,"",'設定シート（ベースサーバv3）'!T27) | U4: =IF('設定シート（ベースサーバv3）'!T28=0,"",'設定シート（ベースサーバv3）'!T28) | V4: =IF('設定シート（ベースサーバv3）'!T29=0,"",'設定シート（ベースサーバv3）'!T29) | W4: =IF('設定シート（ベースサーバv3）'!T30=0,"",'設定シート（ベースサーバv3）'!T30) | X4: =IF('設定シート（ベースサーバv3）'!T31=0,"",'設定シート（ベースサーバv3）'!T31) | Y4: =IF('設定シート（ベースサーバv3）'!T32=0,"",'設定シート（ベースサーバv3）'!T32) | Z4: =IF('設定シート（ベースサーバv3）'!T33=0,"",'設定シート（ベースサーバv3）'!T33) | AA4: =IF('設定シート（ベースサーバv3）'!T34=0,"",'設定シート（ベースサーバv3）'!T34) | AB4: =IF('設定シート（ベースサーバv3）'!T35=0,"",'設定シート（ベースサーバv3）'!T35) | AC4: =IF('設定シート（ベースサーバv3）'!T36=0,"",'設定シート（ベースサーバv3）'!T36) | AD4: =IF('設定シート（ベースサーバv3）'!T37=0,"",'設定シート（ベースサーバv3）'!T37) | AE4: =IF('設定シート（ベースサーバv3）'!T38=0,"",'設定シート（ベースサーバv3）'!T38) | AF4: =IF('設定シート（ベースサーバv3）'!T39=0,"",'設定シート（ベースサーバv3）'!T39) | AG4: =IF('設定シート（ベースサーバv3）'!T40=0,"",'設定シート（ベースサーバv3）'!T40) | AH4: =IF('設定シート（ベースサーバv3）'!T41=0,"",'設定シート（ベースサーバv3）'!T41) | AI4: =IF('設定シート（ベースサーバv3）'!T42=0,"",'設定シート（ベースサーバv3）'!T42) | AJ4: =IF('設定シート（ベースサーバv3）'!T43=0,"",'設定シート（ベースサーバv3）'!T43) | AK4: =IF('設定シート（ベースサーバv3）'!T44=0,"",'設定シート（ベースサーバv3）'!T44) | AL4: =IF('設定シート（ベースサーバv3）'!T45=0,"",'設定シート（ベースサーバv3）'!T45) | AM4: =IF('設定シート（ベースサーバv3）'!T46=0,"",'設定シート（ベースサーバv3）'!T46) | AN4: =IF('設定シート（ベースサーバv3）'!T47=0,"",'設定シート（ベースサーバv3）'!T47)
F5: ='設定シート（ベースサーバv3）'!X12 -> 4 | G5: =IF('設定シート（ベースサーバv3）'!X13=0,"",'設定シート（ベースサーバv3）'!X13) | H5: =IF('設定シート（ベースサーバv3）'!X15=0,"",'設定シート（ベースサーバv3）'!X15) | I5: =IF('設定シート（ベースサーバv3）'!X16=0,"",'設定シート（ベースサーバv3）'!X16) | J5: =IF('設定シート（ベースサーバv3）'!X17=0,"0",'設定シート（ベースサーバv3）'!X17) | K5: =IF('設定シート（ベースサーバv3）'!X18=0,"",'設定シート（ベースサーバv3）'!X18) | L5: =IF('設定シート（ベースサーバv3）'!X19=0,"",'設定シート（ベースサーバv3）'!X19) | M5: =IF('設定シート（ベースサーバv3）'!X20=1,"1",'設定シート（ベースサーバv3）'!X20) | N5: =IF('設定シート（ベースサーバv3）'!X21=0,"",'設定シート（ベースサーバv3）'!X21) | O5: =IF('設定シート（ベースサーバv3）'!X22=0,"",'設定シート（ベースサーバv3）'!X22) | P5: =IF('設定シート（ベースサーバv3）'!X23=0,"",'設定シート（ベースサーバv3）'!X23) | Q5: =IF('設定シート（ベースサーバv3）'!X24=0,"",'設定シート（ベースサーバv3）'!X24) | R5: =IF('設定シート（ベースサーバv3）'!X25=0,"",'設定シート（ベースサーバv3）'!X25) | S5: =IF('設定シート（ベースサーバv3）'!X26=0,"",'設定シート（ベースサーバv3）'!X26) | T5: =IF('設定シート（ベースサーバv3）'!X27=0,"",'設定シート（ベースサーバv3）'!X27) | U5: =IF('設定シート（ベースサーバv3）'!X28=0,"",'設定シート（ベースサーバv3）'!X28) | V5: =IF('設定シート（ベースサーバv3）'!X29=0,"",'設定シート（ベースサーバv3）'!X29) | W5: =IF('設定シート（ベースサーバv3）'!X30=0,"",'設定シート（ベースサーバv3）'!X30) | X5: =IF('設定シート（ベースサーバv3）'!X31=0,"",'設定シート（ベースサーバv3）'!X31) | Y5: =IF('設定シート（ベースサーバv3）'!X32=0,"",'設定シート（ベースサーバv3）'!X32) | Z5: =IF('設定シート（ベースサーバv3）'!X33=0,"",'設定シート（ベースサーバv3）'!X33) | AA5: =IF('設定シート（ベースサーバv3）'!X34=0,"",'設定シート（ベースサーバv3）'!X34) | AB5: =IF('設定シート（ベースサーバv3）'!X35=0,"",'設定シート（ベースサーバv3）'!X35) | AC5: =IF('設定シート（ベースサーバv3）'!X36=0,"",'設定シート（ベースサーバv3）'!X36) | AD5: =IF('設定シート（ベースサーバv3）'!X37=0,"",'設定シート（ベースサーバv3）'!X37) | AE5: =IF('設定シート（ベースサーバv3）'!X38=0,"",'設定シート（ベースサーバv3）'!X38) | AF5: =IF('設定シート（ベースサーバv3）'!X39=0,"",'設定シート（ベースサーバv3）'!X39) | AG5: =IF('設定シート（ベースサーバv3）'!X40=0,"",'設定シート（ベースサーバv3）'!X40) | AH5: =IF('設定シート（ベースサーバv3）'!X41=0,"",'設定シート（ベースサーバv3）'!X41) | AI5: =IF('設定シート（ベースサーバv3）'!X42=0,"",'設定シート（ベースサーバv3）'!X42) | AJ5: =IF('設定シート（ベースサーバv3）'!X43=0,"",'設定シート（ベースサーバv3）'!X43) | AK5: =IF('設定シート（ベースサーバv3）'!X44=0,"",'設定シート（ベースサーバv3）'!X44) | AL5: =IF('設定シート（ベースサーバv3）'!X45=0,"",'設定シート（ベースサーバv3）'!X45) | AM5: =IF('設定シート（ベースサーバv3）'!X46=0,"",'設定シート（ベースサーバv3）'!X46) | AN5: =IF('設定シート（ベースサーバv3）'!X47=0,"",'設定シート（ベースサーバv3）'!X47)
F6: ='設定シート（ベースサーバv3）'!AB12 -> 5 | G6: =IF('設定シート（ベースサーバv3）'!AB13=0,"",'設定シート（ベースサーバv3）'!AB13) | H6: =IF('設定シート（ベースサーバv3）'!AB15=0,"",'設定シート（ベースサーバv3）'!AB15) | I6: =IF('設定シート（ベースサーバv3）'!AB16=0,"",'設定シート（ベースサーバv3）'!AB16) | J6: =IF('設定シート（ベースサーバv3）'!AB17=0,"0",'設定シート（ベースサーバv3）'!AB17) | K6: =IF('設定シート（ベースサーバv3）'!AB18=0,"",'設定シート（ベースサーバv3）'!AB18) | L6: =IF('設定シート（ベースサーバv3）'!AB19=0,"",'設定シート（ベースサーバv3）'!AB19) | M6: =IF('設定シート（ベースサーバv3）'!AB20=1,"1",'設定シート（ベースサーバv3）'!AB20) | N6: =IF('設定シート（ベースサーバv3）'!AB21=0,"",'設定シート（ベースサーバv3）'!AB21) | O6: =IF('設定シート（ベースサーバv3）'!AB22=0,"",'設定シート（ベースサーバv3）'!AB22) | P6: =IF('設定シート（ベースサーバv3）'!AB23=0,"",'設定シート（ベースサーバv3）'!AB23) | Q6: =IF('設定シート（ベースサーバv3）'!AB24=0,"",'設定シート（ベースサーバv3）'!AB24) | R6: =IF('設定シート（ベースサーバv3）'!AB25=0,"",'設定シート（ベースサーバv3）'!AB25) | S6: =IF('設定シート（ベースサーバv3）'!AB26=0,"",'設定シート（ベースサーバv3）'!AB26) | T6: =IF('設定シート（ベースサーバv3）'!AB27=0,"",'設定シート（ベースサーバv3）'!AB27) | U6: =IF('設定シート（ベースサーバv3）'!AB28=0,"",'設定シート（ベースサーバv3）'!AB28) | V6: =IF('設定シート（ベースサーバv3）'!AB29=0,"",'設定シート（ベースサーバv3）'!AB29) | W6: =IF('設定シート（ベースサーバv3）'!AB30=0,"",'設定シート（ベースサーバv3）'!AB30) | X6: =IF('設定シート（ベースサーバv3）'!AB31=0,"",'設定シート（ベースサーバv3）'!AB31) | Y6: =IF('設定シート（ベースサーバv3）'!AB32=0,"",'設定シート（ベースサーバv3）'!AB32) | Z6: =IF('設定シート（ベースサーバv3）'!AB33=0,"",'設定シート（ベースサーバv3）'!AB33) | AA6: =IF('設定シート（ベースサーバv3）'!AB34=0,"",'設定シート（ベースサーバv3）'!AB34) | AB6: =IF('設定シート（ベースサーバv3）'!AB35=0,"",'設定シート（ベースサーバv3）'!AB35) | AC6: =IF('設定シート（ベースサーバv3）'!AB36=0,"",'設定シート（ベースサーバv3）'!AB36) | AD6: =IF('設定シート（ベースサーバv3）'!AB37=0,"",'設定シート（ベースサーバv3）'!AB37) | AE6: =IF('設定シート（ベースサーバv3）'!AB38=0,"",'設定シート（ベースサーバv3）'!AB38) | AF6: =IF('設定シート（ベースサーバv3）'!AB39=0,"",'設定シート（ベースサーバv3）'!AB39) | AG6: =IF('設定シート（ベースサーバv3）'!AB40=0,"",'設定シート（ベースサーバv3）'!AB40) | AH6: =IF('設定シート（ベースサーバv3）'!AB41=0,"",'設定シート（ベースサーバv3）'!AB41) | AI6: =IF('設定シート（ベースサーバv3）'!AB42=0,"",'設定シート（ベースサーバv3）'!AB42) | AJ6: =IF('設定シート（ベースサーバv3）'!AB43=0,"",'設定シート（ベースサーバv3）'!AB43) | AK6: =IF('設定シート（ベースサーバv3）'!AB44=0,"",'設定シート（ベースサーバv3）'!AB44) | AL6: =IF('設定シート（ベースサーバv3）'!AB45=0,"",'設定シート（ベースサーバv3）'!AB45) | AM6: =IF('設定シート（ベースサーバv3）'!AB46=0,"",'設定シート（ベースサーバv3）'!AB46) | AN6: =IF('設定シート（ベースサーバv3）'!AB47=0,"",'設定シート（ベースサーバv3）'!AB47)
F7: ='設定シート（ベースサーバv3）'!AF12 -> 6 | G7: =IF('設定シート（ベースサーバv3）'!AF13=0,"",'設定シート（ベースサーバv3）'!AF13) | H7: =IF('設定シート（ベースサーバv3）'!AF15=0,"",'設定シート（ベースサーバv3）'!AF15) | I7: =IF('設定シート（ベースサーバv3）'!AF16=0,"",'設定シート（ベースサーバv3）'!AF16) | J7: =IF('設定シート（ベースサーバv3）'!AF17=0,"0",'設定シート（ベースサーバv3）'!AF17) | K7: =IF('設定シート（ベースサーバv3）'!AF18=0,"",'設定シート（ベースサーバv3）'!AF18) | L7: =IF('設定シート（ベースサーバv3）'!AF19=0,"",'設定シート（ベースサーバv3）'!AF19) | M7: =IF('設定シート（ベースサーバv3）'!AF20=1,"1",'設定シート（ベースサーバv3）'!AF20) | N7: =IF('設定シート（ベースサーバv3）'!AF21=0,"",'設定シート（ベースサーバv3）'!AF21) | O7: =IF('設定シート（ベースサーバv3）'!AF22=0,"",'設定シート（ベースサーバv3）'!AF22) | P7: =IF('設定シート（ベースサーバv3）'!AF23=0,"",'設定シート（ベースサーバv3）'!AF23) | Q7: =IF('設定シート（ベースサーバv3）'!AF24=0,"",'設定シート（ベースサーバv3）'!AF24) | R7: =IF('設定シート（ベースサーバv3）'!AF25=0,"",'設定シート（ベースサーバv3）'!AF25) | S7: =IF('設定シート（ベースサーバv3）'!AF26=0,"",'設定シート（ベースサーバv3）'!AF26) | T7: =IF('設定シート（ベースサーバv3）'!AF27=0,"",'設定シート（ベースサーバv3）'!AF27) | U7: =IF('設定シート（ベースサーバv3）'!AF28=0,"",'設定シート（ベースサーバv3）'!AF28) | V7: =IF('設定シート（ベースサーバv3）'!AF29=0,"",'設定シート（ベースサーバv3）'!AF29) | W7: =IF('設定シート（ベースサーバv3）'!AF30=0,"",'設定シート（ベースサーバv3）'!AF30) | X7: =IF('設定シート（ベースサーバv3）'!AF31=0,"",'設定シート（ベースサーバv3）'!AF31) | Y7: =IF('設定シート（ベースサーバv3）'!AF32=0,"",'設定シート（ベースサーバv3）'!AF32) | Z7: =IF('設定シート（ベースサーバv3）'!AF33=0,"",'設定シート（ベースサーバv3）'!AF33) | AA7: =IF('設定シート（ベースサーバv3）'!AF34=0,"",'設定シート（ベースサーバv3）'!AF34) | AB7: =IF('設定シート（ベースサーバv3）'!AF35=0,"",'設定シート（ベースサーバv3）'!AF35) | AC7: =IF('設定シート（ベースサーバv3）'!AF36=0,"",'設定シート（ベースサーバv3）'!AF36) | AD7: =IF('設定シート（ベースサーバv3）'!AF37=0,"",'設定シート（ベースサーバv3）'!AF37) | AE7: =IF('設定シート（ベースサーバv3）'!AF38=0,"",'設定シート（ベースサーバv3）'!AF38) | AF7: =IF('設定シート（ベースサーバv3）'!AF39=0,"",'設定シート（ベースサーバv3）'!AF39) | AG7: =IF('設定シート（ベースサーバv3）'!AF40=0,"",'設定シート（ベースサーバv3）'!AF40) | AH7: =IF('設定シート（ベースサーバv3）'!AF41=0,"",'設定シート（ベースサーバv3）'!AF41) | AI7: =IF('設定シート（ベースサーバv3）'!AF42=0,"",'設定シート（ベースサーバv3）'!AF42) | AJ7: =IF('設定シート（ベースサーバv3）'!AF43=0,"",'設定シート（ベースサーバv3）'!AF43) | AK7: =IF('設定シート（ベースサーバv3）'!AF44=0,"",'設定シート（ベースサーバv3）'!AF44) | AL7: =IF('設定シート（ベースサーバv3）'!AF45=0,"",'設定シート（ベースサーバv3）'!AF45) | AM7: =IF('設定シート（ベースサーバv3）'!AF46=0,"",'設定シート（ベースサーバv3）'!AF46) | AN7: =IF('設定シート（ベースサーバv3）'!AF47=0,"",'設定シート（ベースサーバv3）'!AF47)
F8: ='設定シート（ベースサーバv3）'!AJ12 -> 7 | G8: =IF('設定シート（ベースサーバv3）'!AJ13=0,"",'設定シート（ベースサーバv3）'!AJ13) | H8: =IF('設定シート（ベースサーバv3）'!AJ15=0,"",'設定シート（ベースサーバv3）'!AJ15) | I8: =IF('設定シート（ベースサーバv3）'!AJ16=0,"",'設定シート（ベースサーバv3）'!AJ16) | J8: =IF('設定シート（ベースサーバv3）'!AJ17=0,"0",'設定シート（ベースサーバv3）'!AJ17) | K8: =IF('設定シート（ベースサーバv3）'!AJ18=0,"",'設定シート（ベースサーバv3）'!AJ18) | L8: =IF('設定シート（ベースサーバv3）'!AJ19=0,"",'設定シート（ベースサーバv3）'!AJ19) | M8: =IF('設定シート（ベースサーバv3）'!AJ20=1,"1",'設定シート（ベースサーバv3）'!AJ20) | N8: =IF('設定シート（ベースサーバv3）'!AJ21=0,"",'設定シート（ベースサーバv3）'!AJ21) | O8: =IF('設定シート（ベースサーバv3）'!AJ22=0,"",'設定シート（ベースサーバv3）'!AJ22) | P8: =IF('設定シート（ベースサーバv3）'!AJ23=0,"",'設定シート（ベースサーバv3）'!AJ23) | Q8: =IF('設定シート（ベースサーバv3）'!AJ24=0,"",'設定シート（ベースサーバv3）'!AJ24) | R8: =IF('設定シート（ベースサーバv3）'!AJ25=0,"",'設定シート（ベースサーバv3）'!AJ25) | S8: =IF('設定シート（ベースサーバv3）'!AJ26=0,"",'設定シート（ベースサーバv3）'!AJ26) | T8: =IF('設定シート（ベースサーバv3）'!AJ27=0,"",'設定シート（ベースサーバv3）'!AJ27) | U8: =IF('設定シート（ベースサーバv3）'!AJ28=0,"",'設定シート（ベースサーバv3）'!AJ28) | V8: =IF('設定シート（ベースサーバv3）'!AJ29=0,"",'設定シート（ベースサーバv3）'!AJ29) | W8: =IF('設定シート（ベースサーバv3）'!AJ30=0,"",'設定シート（ベースサーバv3）'!AJ30) | X8: =IF('設定シート（ベースサーバv3）'!AJ31=0,"",'設定シート（ベースサーバv3）'!AJ31) | Y8: =IF('設定シート（ベースサーバv3）'!AJ32=0,"",'設定シート（ベースサーバv3）'!AJ32) | Z8: =IF('設定シート（ベースサーバv3）'!AJ33=0,"",'設定シート（ベースサーバv3）'!AJ33) | AA8: =IF('設定シート（ベースサーバv3）'!AJ34=0,"",'設定シート（ベースサーバv3）'!AJ34) | AB8: =IF('設定シート（ベースサーバv3）'!AJ35=0,"",'設定シート（ベースサーバv3）'!AJ35) | AC8: =IF('設定シート（ベースサーバv3）'!AJ36=0,"",'設定シート（ベースサーバv3）'!AJ36) | AD8: =IF('設定シート（ベースサーバv3）'!AJ37=0,"",'設定シート（ベースサーバv3）'!AJ37) | AE8: =IF('設定シート（ベースサーバv3）'!AJ38=0,"",'設定シート（ベースサーバv3）'!AJ38) | AF8: =IF('設定シート（ベースサーバv3）'!AJ39=0,"",'設定シート（ベースサーバv3）'!AJ39) | AG8: =IF('設定シート（ベースサーバv3）'!AJ40=0,"",'設定シート（ベースサーバv3）'!AJ40) | AH8: =IF('設定シート（ベースサーバv3）'!AJ41=0,"",'設定シート（ベースサーバv3）'!AJ41) | AI8: =IF('設定シート（ベースサーバv3）'!AJ42=0,"",'設定シート（ベースサーバv3）'!AJ42) | AJ8: =IF('設定シート（ベースサーバv3）'!AJ43=0,"",'設定シート（ベースサーバv3）'!AJ43) | AK8: =IF('設定シート（ベースサーバv3）'!AJ44=0,"",'設定シート（ベースサーバv3）'!AJ44) | AL8: =IF('設定シート（ベースサーバv3）'!AJ45=0,"",'設定シート（ベースサーバv3）'!AJ45) | AM8: =IF('設定シート（ベースサーバv3）'!AJ46=0,"",'設定シート（ベースサーバv3）'!AJ46) | AN8: =IF('設定シート（ベースサーバv3）'!AJ47=0,"",'設定シート（ベースサーバv3）'!AJ47)
F9: ='設定シート（ベースサーバv3）'!AN12 -> 8 | G9: =IF('設定シート（ベースサーバv3）'!AN13=0,"",'設定シート（ベースサーバv3）'!AN13) | H9: =IF('設定シート（ベースサーバv3）'!AN15=0,"",'設定シート（ベースサーバv3）'!AN15) | I9: =IF('設定シート（ベースサーバv3）'!AN16=0,"",'設定シート（ベースサーバv3）'!AN16) | J9: =IF('設定シート（ベースサーバv3）'!AN17=0,"0",'設定シート（ベースサーバv3）'!AN17) | K9: =IF('設定シート（ベースサーバv3）'!AN18=0,"",'設定シート（ベースサーバv3）'!AN18) | L9: =IF('設定シート（ベースサーバv3）'!AN19=0,"",'設定シート（ベースサーバv3）'!AN19) | M9: =IF('設定シート（ベースサーバv3）'!AN20=1,"1",'設定シート（ベースサーバv3）'!AN20) | N9: =IF('設定シート（ベースサーバv3）'!AN21=0,"",'設定シート（ベースサーバv3）'!AN21) | O9: =IF('設定シート（ベースサーバv3）'!AN22=0,"",'設定シート（ベースサーバv3）'!AN22) | P9: =IF('設定シート（ベースサーバv3）'!AN23=0,"",'設定シート（ベースサーバv3）'!AN23) | Q9: =IF('設定シート（ベースサーバv3）'!AN24=0,"",'設定シート（ベースサーバv3）'!AN24) | R9: =IF('設定シート（ベースサーバv3）'!AN25=0,"",'設定シート（ベースサーバv3）'!AN25) | S9: =IF('設定シート（ベースサーバv3）'!AN26=0,"",'設定シート（ベースサーバv3）'!AN26) | T9: =IF('設定シート（ベースサーバv3）'!AN27=0,"",'設定シート（ベースサーバv3）'!AN27) | U9: =IF('設定シート（ベースサーバv3）'!AN28=0,"",'設定シート（ベースサーバv3）'!AN28) | V9: =IF('設定シート（ベースサーバv3）'!AN29=0,"",'設定シート（ベースサーバv3）'!AN29) | W9: =IF('設定シート（ベースサーバv3）'!AN30=0,"",'設定シート（ベースサーバv3）'!AN30) | X9: =IF('設定シート（ベースサーバv3）'!AN31=0,"",'設定シート（ベースサーバv3）'!AN31) | Y9: =IF('設定シート（ベースサーバv3）'!AN32=0,"",'設定シート（ベースサーバv3）'!AN32) | Z9: =IF('設定シート（ベースサーバv3）'!AN33=0,"",'設定シート（ベースサーバv3）'!AN33) | AA9: =IF('設定シート（ベースサーバv3）'!AN34=0,"",'設定シート（ベースサーバv3）'!AN34) | AB9: =IF('設定シート（ベースサーバv3）'!AN35=0,"",'設定シート（ベースサーバv3）'!AN35) | AC9: =IF('設定シート（ベースサーバv3）'!AN36=0,"",'設定シート（ベースサーバv3）'!AN36) | AD9: =IF('設定シート（ベースサーバv3）'!AN37=0,"",'設定シート（ベースサーバv3）'!AN37) | AE9: =IF('設定シート（ベースサーバv3）'!AN38=0,"",'設定シート（ベースサーバv3）'!AN38) | AF9: =IF('設定シート（ベースサーバv3）'!AN39=0,"",'設定シート（ベースサーバv3）'!AN39) | AG9: =IF('設定シート（ベースサーバv3）'!AN40=0,"",'設定シート（ベースサーバv3）'!AN40) | AH9: =IF('設定シート（ベースサーバv3）'!AN41=0,"",'設定シート（ベースサーバv3）'!AN41) | AI9: =IF('設定シート（ベースサーバv3）'!AN42=0,"",'設定シート（ベースサーバv3）'!AN42) | AJ9: =IF('設定シート（ベースサーバv3）'!AN43=0,"",'設定シート（ベースサーバv3）'!AN43) | AK9: =IF('設定シート（ベースサーバv3）'!AN44=0,"",'設定シート（ベースサーバv3）'!AN44) | AL9: =IF('設定シート（ベースサーバv3）'!AN45=0,"",'設定シート（ベースサーバv3）'!AN45) | AM9: =IF('設定シート（ベースサーバv3）'!AN46=0,"",'設定シート（ベースサーバv3）'!AN46) | AN9: =IF('設定シート（ベースサーバv3）'!AN47=0,"",'設定シート（ベースサーバv3）'!AN47)
F10: ='設定シート（ベースサーバv3）'!AR12 -> 9 | G10: =IF('設定シート（ベースサーバv3）'!AR13=0,"",'設定シート（ベースサーバv3）'!AR13) | H10: =IF('設定シート（ベースサーバv3）'!AR15=0,"",'設定シート（ベースサーバv3）'!AR15) | I10: =IF('設定シート（ベースサーバv3）'!AR16=0,"",'設定シート（ベースサーバv3）'!AR16) | J10: =IF('設定シート（ベースサーバv3）'!AR17=0,"0",'設定シート（ベースサーバv3）'!AR17) | K10: =IF('設定シート（ベースサーバv3）'!AR18=0,"",'設定シート（ベースサーバv3）'!AR18) | L10: =IF('設定シート（ベースサーバv3）'!AR19=0,"",'設定シート（ベースサーバv3）'!AR19) | M10: =IF('設定シート（ベースサーバv3）'!AR20=1,"1",'設定シート（ベースサーバv3）'!AR20) | N10: =IF('設定シート（ベースサーバv3）'!AR21=0,"",'設定シート（ベースサーバv3）'!AR21) | O10: =IF('設定シート（ベースサーバv3）'!AR22=0,"",'設定シート（ベースサーバv3）'!AR22) | P10: =IF('設定シート（ベースサーバv3）'!AR23=0,"",'設定シート（ベースサーバv3）'!AR23) | Q10: =IF('設定シート（ベースサーバv3）'!AR24=0,"",'設定シート（ベースサーバv3）'!AR24) | R10: =IF('設定シート（ベースサーバv3）'!AR25=0,"",'設定シート（ベースサーバv3）'!AR25) | S10: =IF('設定シート（ベースサーバv3）'!AR26=0,"",'設定シート（ベースサーバv3）'!AR26) | T10: =IF('設定シート（ベースサーバv3）'!AR27=0,"",'設定シート（ベースサーバv3）'!AR27) | U10: =IF('設定シート（ベースサーバv3）'!AR28=0,"",'設定シート（ベースサーバv3）'!AR28) | V10: =IF('設定シート（ベースサーバv3）'!AR29=0,"",'設定シート（ベースサーバv3）'!AR29) | W10: =IF('設定シート（ベースサーバv3）'!AR30=0,"",'設定シート（ベースサーバv3）'!AR30) | X10: =IF('設定シート（ベースサーバv3）'!AR31=0,"",'設定シート（ベースサーバv3）'!AR31) | Y10: =IF('設定シート（ベースサーバv3）'!AR32=0,"",'設定シート（ベースサーバv3）'!AR32) | Z10: =IF('設定シート（ベースサーバv3）'!AR33=0,"",'設定シート（ベースサーバv3）'!AR33) | AA10: =IF('設定シート（ベースサーバv3）'!AR34=0,"",'設定シート（ベースサーバv3）'!AR34) | AB10: =IF('設定シート（ベースサーバv3）'!AR35=0,"",'設定シート（ベースサーバv3）'!AR35) | AC10: =IF('設定シート（ベースサーバv3）'!AR36=0,"",'設定シート（ベースサーバv3）'!AR36) | AD10: =IF('設定シート（ベースサーバv3）'!AR37=0,"",'設定シート（ベースサーバv3）'!AR37) | AE10: =IF('設定シート（ベースサーバv3）'!AR38=0,"",'設定シート（ベースサーバv3）'!AR38) | AF10: =IF('設定シート（ベースサーバv3）'!AR39=0,"",'設定シート（ベースサーバv3）'!AR39) | AG10: =IF('設定シート（ベースサーバv3）'!AR40=0,"",'設定シート（ベースサーバv3）'!AR40) | AH10: =IF('設定シート（ベースサーバv3）'!AR41=0,"",'設定シート（ベースサーバv3）'!AR41) | AI10: =IF('設定シート（ベースサーバv3）'!AR42=0,"",'設定シート（ベースサーバv3）'!AR42) | AJ10: =IF('設定シート（ベースサーバv3）'!AR43=0,"",'設定シート（ベースサーバv3）'!AR43) | AK10: =IF('設定シート（ベースサーバv3）'!AR44=0,"",'設定シート（ベースサーバv3）'!AR44) | AL10: =IF('設定シート（ベースサーバv3）'!AR45=0,"",'設定シート（ベースサーバv3）'!AR45) | AM10: =IF('設定シート（ベースサーバv3）'!AR46=0,"",'設定シート（ベースサーバv3）'!AR46) | AN10: =IF('設定シート（ベースサーバv3）'!AR47=0,"",'設定シート（ベースサーバv3）'!AR47)
F11: ='設定シート（ベースサーバv3）'!AV12 -> 10 | G11: =IF('設定シート（ベースサーバv3）'!AV13=0,"",'設定シート（ベースサーバv3）'!AV13) | H11: =IF('設定シート（ベースサーバv3）'!AV15=0,"",'設定シート（ベースサーバv3）'!AV15) | I11: =IF('設定シート（ベースサーバv3）'!AV16=0,"",'設定シート（ベースサーバv3）'!AV16) | J11: =IF('設定シート（ベースサーバv3）'!AV17=0,"0",'設定シート（ベースサーバv3）'!AV17) | K11: =IF('設定シート（ベースサーバv3）'!AV18=0,"",'設定シート（ベースサーバv3）'!AV18) | L11: =IF('設定シート（ベースサーバv3）'!AV19=0,"",'設定シート（ベースサーバv3）'!AV19) | M11: =IF('設定シート（ベースサーバv3）'!AV20=1,"1",'設定シート（ベースサーバv3）'!AV20) | N11: =IF('設定シート（ベースサーバv3）'!AV21=0,"",'設定シート（ベースサーバv3）'!AV21) | O11: =IF('設定シート（ベースサーバv3）'!AV22=0,"",'設定シート（ベースサーバv3）'!AV22) | P11: =IF('設定シート（ベースサーバv3）'!AV23=0,"",'設定シート（ベースサーバv3）'!AV23) | Q11: =IF('設定シート（ベースサーバv3）'!AV24=0,"",'設定シート（ベースサーバv3）'!AV24) | R11: =IF('設定シート（ベースサーバv3）'!AV25=0,"",'設定シート（ベースサーバv3）'!AV25) | S11: =IF('設定シート（ベースサーバv3）'!AV26=0,"",'設定シート（ベースサーバv3）'!AV26) | T11: =IF('設定シート（ベースサーバv3）'!AV27=0,"",'設定シート（ベースサーバv3）'!AV27) | U11: =IF('設定シート（ベースサーバv3）'!AV28=0,"",'設定シート（ベースサーバv3）'!AV28) | V11: =IF('設定シート（ベースサーバv3）'!AV29=0,"",'設定シート（ベースサーバv3）'!AV29) | W11: =IF('設定シート（ベースサーバv3）'!AV30=0,"",'設定シート（ベースサーバv3）'!AV30) | X11: =IF('設定シート（ベースサーバv3）'!AV31=0,"",'設定シート（ベースサーバv3）'!AV31) | Y11: =IF('設定シート（ベースサーバv3）'!AV32=0,"",'設定シート（ベースサーバv3）'!AV32) | Z11: =IF('設定シート（ベースサーバv3）'!AV33=0,"",'設定シート（ベースサーバv3）'!AV33) | AA11: =IF('設定シート（ベースサーバv3）'!AV34=0,"",'設定シート（ベースサーバv3）'!AV34) | AB11: =IF('設定シート（ベースサーバv3）'!AV35=0,"",'設定シート（ベースサーバv3）'!AV35) | AC11: =IF('設定シート（ベースサーバv3）'!AV36=0,"",'設定シート（ベースサーバv3）'!AV36) | AD11: =IF('設定シート（ベースサーバv3）'!AV37=0,"",'設定シート（ベースサーバv3）'!AV37) | AE11: =IF('設定シート（ベースサーバv3）'!AV38=0,"",'設定シート（ベースサーバv3）'!AV38) | AF11: =IF('設定シート（ベースサーバv3）'!AV39=0,"",'設定シート（ベースサーバv3）'!AV39) | AG11: =IF('設定シート（ベースサーバv3）'!AV40=0,"",'設定シート（ベースサーバv3）'!AV40) | AH11: =IF('設定シート（ベースサーバv3）'!AV41=0,"",'設定シート（ベースサーバv3）'!AV41) | AI11: =IF('設定シート（ベースサーバv3）'!AV42=0,"",'設定シート（ベースサーバv3）'!AV42) | AJ11: =IF('設定シート（ベースサーバv3）'!AV43=0,"",'設定シート（ベースサーバv3）'!AV43) | AK11: =IF('設定シート（ベースサーバv3）'!AV44=0,"",'設定シート（ベースサーバv3）'!AV44) | AL11: =IF('設定シート（ベースサーバv3）'!AV45=0,"",'設定シート（ベースサーバv3）'!AV45) | AM11: =IF('設定シート（ベースサーバv3）'!AV46=0,"",'設定シート（ベースサーバv3）'!AV46) | AN11: =IF('設定シート（ベースサーバv3）'!AV47=0,"",'設定シート（ベースサーバv3）'!AV47)
F12: ='設定シート（ベースサーバv3）'!AZ12 -> 11 | G12: =IF('設定シート（ベースサーバv3）'!AZ13=0,"",'設定シート（ベースサーバv3）'!AZ13) | H12: =IF('設定シート（ベースサーバv3）'!AZ15=0,"",'設定シート（ベースサーバv3）'!AZ15) | I12: =IF('設定シート（ベースサーバv3）'!AZ16=0,"",'設定シート（ベースサーバv3）'!AZ16) | J12: =IF('設定シート（ベースサーバv3）'!AZ17=0,"0",'設定シート（ベースサーバv3）'!AZ17) | K12: =IF('設定シート（ベースサーバv3）'!AZ18=0,"",'設定シート（ベースサーバv3）'!AZ18) | L12: =IF('設定シート（ベースサーバv3）'!AZ19=0,"",'設定シート（ベースサーバv3）'!AZ19) | M12: =IF('設定シート（ベースサーバv3）'!AZ20=1,"1",'設定シート（ベースサーバv3）'!AZ20) | N12: =IF('設定シート（ベースサーバv3）'!AZ21=0,"",'設定シート（ベースサーバv3）'!AZ21) | O12: =IF('設定シート（ベースサーバv3）'!AZ22=0,"",'設定シート（ベースサーバv3）'!AZ22) | P12: =IF('設定シート（ベースサーバv3）'!AZ23=0,"",'設定シート（ベースサーバv3）'!AZ23) | Q12: =IF('設定シート（ベースサーバv3）'!AZ24=0,"",'設定シート（ベースサーバv3）'!AZ24) | R12: =IF('設定シート（ベースサーバv3）'!AZ25=0,"",'設定シート（ベースサーバv3）'!AZ25) | S12: =IF('設定シート（ベースサーバv3）'!AZ26=0,"",'設定シート（ベースサーバv3）'!AZ26) | T12: =IF('設定シート（ベースサーバv3）'!AZ27=0,"",'設定シート（ベースサーバv3）'!AZ27) | U12: =IF('設定シート（ベースサーバv3）'!AZ28=0,"",'設定シート（ベースサーバv3）'!AZ28) | V12: =IF('設定シート（ベースサーバv3）'!AZ29=0,"",'設定シート（ベースサーバv3）'!AZ29) | W12: =IF('設定シート（ベースサーバv3）'!AZ30=0,"",'設定シート（ベースサーバv3）'!AZ30) | X12: =IF('設定シート（ベースサーバv3）'!AZ31=0,"",'設定シート（ベースサーバv3）'!AZ31) | Y12: =IF('設定シート（ベースサーバv3）'!AZ32=0,"",'設定シート（ベースサーバv3）'!AZ32) | Z12: =IF('設定シート（ベースサーバv3）'!AZ33=0,"",'設定シート（ベースサーバv3）'!AZ33) | AA12: =IF('設定シート（ベースサーバv3）'!AZ34=0,"",'設定シート（ベースサーバv3）'!AZ34) | AB12: =IF('設定シート（ベースサーバv3）'!AZ35=0,"",'設定シート（ベースサーバv3）'!AZ35) | AC12: =IF('設定シート（ベースサーバv3）'!AZ36=0,"",'設定シート（ベースサーバv3）'!AZ36) | AD12: =IF('設定シート（ベースサーバv3）'!AZ37=0,"",'設定シート（ベースサーバv3）'!AZ37) | AE12: =IF('設定シート（ベースサーバv3）'!AZ38=0,"",'設定シート（ベースサーバv3）'!AZ38) | AF12: =IF('設定シート（ベースサーバv3）'!AZ39=0,"",'設定シート（ベースサーバv3）'!AZ39) | AG12: =IF('設定シート（ベースサーバv3）'!AZ40=0,"",'設定シート（ベースサーバv3）'!AZ40) | AH12: =IF('設定シート（ベースサーバv3）'!AZ41=0,"",'設定シート（ベースサーバv3）'!AZ41) | AI12: =IF('設定シート（ベースサーバv3）'!AZ42=0,"",'設定シート（ベースサーバv3）'!AZ42) | AJ12: =IF('設定シート（ベースサーバv3）'!AZ43=0,"",'設定シート（ベースサーバv3）'!AZ43) | AK12: =IF('設定シート（ベースサーバv3）'!AZ44=0,"",'設定シート（ベースサーバv3）'!AZ44) | AL12: =IF('設定シート（ベースサーバv3）'!AZ45=0,"",'設定シート（ベースサーバv3）'!AZ45) | AM12: =IF('設定シート（ベースサーバv3）'!AZ46=0,"",'設定シート（ベースサーバv3）'!AZ46) | AN12: =IF('設定シート（ベースサーバv3）'!AZ47=0,"",'設定シート（ベースサーバv3）'!AZ47)
F13: ='設定シート（ベースサーバv3）'!BD12 -> 12 | G13: =IF('設定シート（ベースサーバv3）'!BD13=0,"",'設定シート（ベースサーバv3）'!BD13) | H13: =IF('設定シート（ベースサーバv3）'!BD15=0,"",'設定シート（ベースサーバv3）'!BD15) | I13: =IF('設定シート（ベースサーバv3）'!BD16=0,"",'設定シート（ベースサーバv3）'!BD16) | J13: =IF('設定シート（ベースサーバv3）'!BD17=0,"0",'設定シート（ベースサーバv3）'!BD17) | K13: =IF('設定シート（ベースサーバv3）'!BD18=0,"",'設定シート（ベースサーバv3）'!BD18) | L13: =IF('設定シート（ベースサーバv3）'!BD19=0,"",'設定シート（ベースサーバv3）'!BD19) | M13: =IF('設定シート（ベースサーバv3）'!BD20=1,"1",'設定シート（ベースサーバv3）'!BD20) | N13: =IF('設定シート（ベースサーバv3）'!BD21=0,"",'設定シート（ベースサーバv3）'!BD21) | O13: =IF('設定シート（ベースサーバv3）'!BD22=0,"",'設定シート（ベースサーバv3）'!BD22) | P13: =IF('設定シート（ベースサーバv3）'!BD23=0,"",'設定シート（ベースサーバv3）'!BD23) | Q13: =IF('設定シート（ベースサーバv3）'!BD24=0,"",'設定シート（ベースサーバv3）'!BD24) | R13: =IF('設定シート（ベースサーバv3）'!BD25=0,"",'設定シート（ベースサーバv3）'!BD25) | S13: =IF('設定シート（ベースサーバv3）'!BD26=0,"",'設定シート（ベースサーバv3）'!BD26) | T13: =IF('設定シート（ベースサーバv3）'!BD27=0,"",'設定シート（ベースサーバv3）'!BD27) | U13: =IF('設定シート（ベースサーバv3）'!BD28=0,"",'設定シート（ベースサーバv3）'!BD28) | V13: =IF('設定シート（ベースサーバv3）'!BD29=0,"",'設定シート（ベースサーバv3）'!BD29) | W13: =IF('設定シート（ベースサーバv3）'!BD30=0,"",'設定シート（ベースサーバv3）'!BD30) | X13: =IF('設定シート（ベースサーバv3）'!BD31=0,"",'設定シート（ベースサーバv3）'!BD31) | Y13: =IF('設定シート（ベースサーバv3）'!BD32=0,"",'設定シート（ベースサーバv3）'!BD32) | Z13: =IF('設定シート（ベースサーバv3）'!BD33=0,"",'設定シート（ベースサーバv3）'!BD33) | AA13: =IF('設定シート（ベースサーバv3）'!BD34=0,"",'設定シート（ベースサーバv3）'!BD34) | AB13: =IF('設定シート（ベースサーバv3）'!BD35=0,"",'設定シート（ベースサーバv3）'!BD35) | AC13: =IF('設定シート（ベースサーバv3）'!BD36=0,"",'設定シート（ベースサーバv3）'!BD36) | AD13: =IF('設定シート（ベースサーバv3）'!BD37=0,"",'設定シート（ベースサーバv3）'!BD37) | AE13: =IF('設定シート（ベースサーバv3）'!BD38=0,"",'設定シート（ベースサーバv3）'!BD38) | AF13: =IF('設定シート（ベースサーバv3）'!BD39=0,"",'設定シート（ベースサーバv3）'!BD39) | AG13: =IF('設定シート（ベースサーバv3）'!BD40=0,"",'設定シート（ベースサーバv3）'!BD40) | AH13: =IF('設定シート（ベースサーバv3）'!BD41=0,"",'設定シート（ベースサーバv3）'!BD41) | AI13: =IF('設定シート（ベースサーバv3）'!BD42=0,"",'設定シート（ベースサーバv3）'!BD42) | AJ13: =IF('設定シート（ベースサーバv3）'!BD43=0,"",'設定シート（ベースサーバv3）'!BD43) | AK13: =IF('設定シート（ベースサーバv3）'!BD44=0,"",'設定シート（ベースサーバv3）'!BD44) | AL13: =IF('設定シート（ベースサーバv3）'!BD45=0,"",'設定シート（ベースサーバv3）'!BD45) | AM13: =IF('設定シート（ベースサーバv3）'!BD46=0,"",'設定シート（ベースサーバv3）'!BD46) | AN13: =IF('設定シート（ベースサーバv3）'!BD47=0,"",'設定シート（ベースサーバv3）'!BD47)
F14: ='設定シート（ベースサーバv3）'!BH12 -> 13 | G14: =IF('設定シート（ベースサーバv3）'!BH13=0,"",'設定シート（ベースサーバv3）'!BH13) | H14: =IF('設定シート（ベースサーバv3）'!BH15=0,"",'設定シート（ベースサーバv3）'!BH15) | I14: =IF('設定シート（ベースサーバv3）'!BH16=0,"",'設定シート（ベースサーバv3）'!BH16) | J14: =IF('設定シート（ベースサーバv3）'!BH17=0,"0",'設定シート（ベースサーバv3）'!BH17) | K14: =IF('設定シート（ベースサーバv3）'!BH18=0,"",'設定シート（ベースサーバv3）'!BH18) | L14: =IF('設定シート（ベースサーバv3）'!BH19=0,"",'設定シート（ベースサーバv3）'!BH19) | M14: =IF('設定シート（ベースサーバv3）'!BH20=1,"1",'設定シート（ベースサーバv3）'!BH20) | N14: =IF('設定シート（ベースサーバv3）'!BH21=0,"",'設定シート（ベースサーバv3）'!BH21) | O14: =IF('設定シート（ベースサーバv3）'!BH22=0,"",'設定シート（ベースサーバv3）'!BH22) | P14: =IF('設定シート（ベースサーバv3）'!BH23=0,"",'設定シート（ベースサーバv3）'!BH23) | Q14: =IF('設定シート（ベースサーバv3）'!BH24=0,"",'設定シート（ベースサーバv3）'!BH24) | R14: =IF('設定シート（ベースサーバv3）'!BH25=0,"",'設定シート（ベースサーバv3）'!BH25) | S14: =IF('設定シート（ベースサーバv3）'!BH26=0,"",'設定シート（ベースサーバv3）'!BH26) | T14: =IF('設定シート（ベースサーバv3）'!BH27=0,"",'設定シート（ベースサーバv3）'!BH27) | U14: =IF('設定シート（ベースサーバv3）'!BH28=0,"",'設定シート（ベースサーバv3）'!BH28) | V14: =IF('設定シート（ベースサーバv3）'!BH29=0,"",'設定シート（ベースサーバv3）'!BH29) | W14: =IF('設定シート（ベースサーバv3）'!BH30=0,"",'設定シート（ベースサーバv3）'!BH30) | X14: =IF('設定シート（ベースサーバv3）'!BH31=0,"",'設定シート（ベースサーバv3）'!BH31) | Y14: =IF('設定シート（ベースサーバv3）'!BH32=0,"",'設定シート（ベースサーバv3）'!BH32) | Z14: =IF('設定シート（ベースサーバv3）'!BH33=0,"",'設定シート（ベースサーバv3）'!BH33) | AA14: =IF('設定シート（ベースサーバv3）'!BH34=0,"",'設定シート（ベースサーバv3）'!BH34) | AB14: =IF('設定シート（ベースサーバv3）'!BH35=0,"",'設定シート（ベースサーバv3）'!BH35) | AC14: =IF('設定シート（ベースサーバv3）'!BH36=0,"",'設定シート（ベースサーバv3）'!BH36) | AD14: =IF('設定シート（ベースサーバv3）'!BH37=0,"",'設定シート（ベースサーバv3）'!BH37) | AE14: =IF('設定シート（ベースサーバv3）'!BH38=0,"",'設定シート（ベースサーバv3）'!BH38) | AF14: =IF('設定シート（ベースサーバv3）'!BH39=0,"",'設定シート（ベースサーバv3）'!BH39) | AG14: =IF('設定シート（ベースサーバv3）'!BH40=0,"",'設定シート（ベースサーバv3）'!BH40) | AH14: =IF('設定シート（ベースサーバv3）'!BH41=0,"",'設定シート（ベースサーバv3）'!BH41) | AI14: =IF('設定シート（ベースサーバv3）'!BH42=0,"",'設定シート（ベースサーバv3）'!BH42) | AJ14: =IF('設定シート（ベースサーバv3）'!BH43=0,"",'設定シート（ベースサーバv3）'!BH43) | AK14: =IF('設定シート（ベースサーバv3）'!BH44=0,"",'設定シート（ベースサーバv3）'!BH44) | AL14: =IF('設定シート（ベースサーバv3）'!BH45=0,"",'設定シート（ベースサーバv3）'!BH45) | AM14: =IF('設定シート（ベースサーバv3）'!BH46=0,"",'設定シート（ベースサーバv3）'!BH46) | AN14: =IF('設定シート（ベースサーバv3）'!BH47=0,"",'設定シート（ベースサーバv3）'!BH47)
F15: ='設定シート（ベースサーバv3）'!BL12 -> 14 | G15: =IF('設定シート（ベースサーバv3）'!BL13=0,"",'設定シート（ベースサーバv3）'!BL13) | H15: =IF('設定シート（ベースサーバv3）'!BL15=0,"",'設定シート（ベースサーバv3）'!BL15) | I15: =IF('設定シート（ベースサーバv3）'!BL16=0,"",'設定シート（ベースサーバv3）'!BL16) | J15: =IF('設定シート（ベースサーバv3）'!BL17=0,"0",'設定シート（ベースサーバv3）'!BL17) | K15: =IF('設定シート（ベースサーバv3）'!BL18=0,"",'設定シート（ベースサーバv3）'!BL18) | L15: =IF('設定シート（ベースサーバv3）'!BL19=0,"",'設定シート（ベースサーバv3）'!BL19) | M15: =IF('設定シート（ベースサーバv3）'!BL20=1,"1",'設定シート（ベースサーバv3）'!BL20) | N15: =IF('設定シート（ベースサーバv3）'!BL21=0,"",'設定シート（ベースサーバv3）'!BL21) | O15: =IF('設定シート（ベースサーバv3）'!BL22=0,"",'設定シート（ベースサーバv3）'!BL22) | P15: =IF('設定シート（ベースサーバv3）'!BL23=0,"",'設定シート（ベースサーバv3）'!BL23) | Q15: =IF('設定シート（ベースサーバv3）'!BL24=0,"",'設定シート（ベースサーバv3）'!BL24) | R15: =IF('設定シート（ベースサーバv3）'!BL25=0,"",'設定シート（ベースサーバv3）'!BL25) | S15: =IF('設定シート（ベースサーバv3）'!BL26=0,"",'設定シート（ベースサーバv3）'!BL26) | T15: =IF('設定シート（ベースサーバv3）'!BL27=0,"",'設定シート（ベースサーバv3）'!BL27) | U15: =IF('設定シート（ベースサーバv3）'!BL28=0,"",'設定シート（ベースサーバv3）'!BL28) | V15: =IF('設定シート（ベースサーバv3）'!BL29=0,"",'設定シート（ベースサーバv3）'!BL29) | W15: =IF('設定シート（ベースサーバv3）'!BL30=0,"",'設定シート（ベースサーバv3）'!BL30) | X15: =IF('設定シート（ベースサーバv3）'!BL31=0,"",'設定シート（ベースサーバv3）'!BL31) | Y15: =IF('設定シート（ベースサーバv3）'!BL32=0,"",'設定シート（ベースサーバv3）'!BL32) | Z15: =IF('設定シート（ベースサーバv3）'!BL33=0,"",'設定シート（ベースサーバv3）'!BL33) | AA15: =IF('設定シート（ベースサーバv3）'!BL34=0,"",'設定シート（ベースサーバv3）'!BL34) | AB15: =IF('設定シート（ベースサーバv3）'!BL35=0,"",'設定シート（ベースサーバv3）'!BL35) | AC15: =IF('設定シート（ベースサーバv3）'!BL36=0,"",'設定シート（ベースサーバv3）'!BL36) | AD15: =IF('設定シート（ベースサーバv3）'!BL37=0,"",'設定シート（ベースサーバv3）'!BL37) | AE15: =IF('設定シート（ベースサーバv3）'!BL38=0,"",'設定シート（ベースサーバv3）'!BL38) | AF15: =IF('設定シート（ベースサーバv3）'!BL39=0,"",'設定シート（ベースサーバv3）'!BL39) | AG15: =IF('設定シート（ベースサーバv3）'!BL40=0,"",'設定シート（ベースサーバv3）'!BL40) | AH15: =IF('設定シート（ベースサーバv3）'!BL41=0,"",'設定シート（ベースサーバv3）'!BL41) | AI15: =IF('設定シート（ベースサーバv3）'!BL42=0,"",'設定シート（ベースサーバv3）'!BL42) | AJ15: =IF('設定シート（ベースサーバv3）'!BL43=0,"",'設定シート（ベースサーバv3）'!BL43) | AK15: =IF('設定シート（ベースサーバv3）'!BL44=0,"",'設定シート（ベースサーバv3）'!BL44) | AL15: =IF('設定シート（ベースサーバv3）'!BL45=0,"",'設定シート（ベースサーバv3）'!BL45) | AM15: =IF('設定シート（ベースサーバv3）'!BL46=0,"",'設定シート（ベースサーバv3）'!BL46) | AN15: =IF('設定シート（ベースサーバv3）'!BL47=0,"",'設定シート（ベースサーバv3）'!BL47)
F16: ='設定シート（ベースサーバv3）'!BP12 -> 15 | G16: =IF('設定シート（ベースサーバv3）'!BP13=0,"",'設定シート（ベースサーバv3）'!BP13) | H16: =IF('設定シート（ベースサーバv3）'!BP15=0,"",'設定シート（ベースサーバv3）'!BP15) | I16: =IF('設定シート（ベースサーバv3）'!BP16=0,"",'設定シート（ベースサーバv3）'!BP16) | J16: =IF('設定シート（ベースサーバv3）'!BP17=0,"0",'設定シート（ベースサーバv3）'!BP17) | K16: =IF('設定シート（ベースサーバv3）'!BP18=0,"",'設定シート（ベースサーバv3）'!BP18) | L16: =IF('設定シート（ベースサーバv3）'!BP19=0,"",'設定シート（ベースサーバv3）'!BP19) | M16: =IF('設定シート（ベースサーバv3）'!BP20=1,"1",'設定シート（ベースサーバv3）'!BP20) | N16: =IF('設定シート（ベースサーバv3）'!BP21=0,"",'設定シート（ベースサーバv3）'!BP21) | O16: =IF('設定シート（ベースサーバv3）'!BP22=0,"",'設定シート（ベースサーバv3）'!BP22) | P16: =IF('設定シート（ベースサーバv3）'!BP23=0,"",'設定シート（ベースサーバv3）'!BP23) | Q16: =IF('設定シート（ベースサーバv3）'!BP24=0,"",'設定シート（ベースサーバv3）'!BP24) | R16: =IF('設定シート（ベースサーバv3）'!BP25=0,"",'設定シート（ベースサーバv3）'!BP25) | S16: =IF('設定シート（ベースサーバv3）'!BP26=0,"",'設定シート（ベースサーバv3）'!BP26) | T16: =IF('設定シート（ベースサーバv3）'!BP27=0,"",'設定シート（ベースサーバv3）'!BP27) | U16: =IF('設定シート（ベースサーバv3）'!BP28=0,"",'設定シート（ベースサーバv3）'!BP28) | V16: =IF('設定シート（ベースサーバv3）'!BP29=0,"",'設定シート（ベースサーバv3）'!BP29) | W16: =IF('設定シート（ベースサーバv3）'!BP30=0,"",'設定シート（ベースサーバv3）'!BP30) | X16: =IF('設定シート（ベースサーバv3）'!BP31=0,"",'設定シート（ベースサーバv3）'!BP31) | Y16: =IF('設定シート（ベースサーバv3）'!BP32=0,"",'設定シート（ベースサーバv3）'!BP32) | Z16: =IF('設定シート（ベースサーバv3）'!BP33=0,"",'設定シート（ベースサーバv3）'!BP33) | AA16: =IF('設定シート（ベースサーバv3）'!BP34=0,"",'設定シート（ベースサーバv3）'!BP34) | AB16: =IF('設定シート（ベースサーバv3）'!BP35=0,"",'設定シート（ベースサーバv3）'!BP35) | AC16: =IF('設定シート（ベースサーバv3）'!BP36=0,"",'設定シート（ベースサーバv3）'!BP36) | AD16: =IF('設定シート（ベースサーバv3）'!BP37=0,"",'設定シート（ベースサーバv3）'!BP37) | AE16: =IF('設定シート（ベースサーバv3）'!BP38=0,"",'設定シート（ベースサーバv3）'!BP38) | AF16: =IF('設定シート（ベースサーバv3）'!BP39=0,"",'設定シート（ベースサーバv3）'!BP39) | AG16: =IF('設定シート（ベースサーバv3）'!BP40=0,"",'設定シート（ベースサーバv3）'!BP40) | AH16: =IF('設定シート（ベースサーバv3）'!BP41=0,"",'設定シート（ベースサーバv3）'!BP41) | AI16: =IF('設定シート（ベースサーバv3）'!BP42=0,"",'設定シート（ベースサーバv3）'!BP42) | AJ16: =IF('設定シート（ベースサーバv3）'!BP43=0,"",'設定シート（ベースサーバv3）'!BP43) | AK16: =IF('設定シート（ベースサーバv3）'!BP44=0,"",'設定シート（ベースサーバv3）'!BP44) | AL16: =IF('設定シート（ベースサーバv3）'!BP45=0,"",'設定シート（ベースサーバv3）'!BP45) | AM16: =IF('設定シート（ベースサーバv3）'!BP46=0,"",'設定シート（ベースサーバv3）'!BP46) | AN16: =IF('設定シート（ベースサーバv3）'!BP47=0,"",'設定シート（ベースサーバv3）'!BP47)
F17: ='設定シート（ベースサーバv3）'!BT12 -> 16 | G17: =IF('設定シート（ベースサーバv3）'!BT13=0,"",'設定シート（ベースサーバv3）'!BT13) | H17: =IF('設定シート（ベースサーバv3）'!BT15=0,"",'設定シート（ベースサーバv3）'!BT15) | I17: =IF('設定シート（ベースサーバv3）'!BT16=0,"",'設定シート（ベースサーバv3）'!BT16) | J17: =IF('設定シート（ベースサーバv3）'!BT17=0,"0",'設定シート（ベースサーバv3）'!BT17) | K17: =IF('設定シート（ベースサーバv3）'!BT18=0,"",'設定シート（ベースサーバv3）'!BT18) | L17: =IF('設定シート（ベースサーバv3）'!BT19=0,"",'設定シート（ベースサーバv3）'!BT19) | M17: =IF('設定シート（ベースサーバv3）'!BT20=1,"1",'設定シート（ベースサーバv3）'!BT20) | N17: =IF('設定シート（ベースサーバv3）'!BT21=0,"",'設定シート（ベースサーバv3）'!BT21) | O17: =IF('設定シート（ベースサーバv3）'!BT22=0,"",'設定シート（ベースサーバv3）'!BT22) | P17: =IF('設定シート（ベースサーバv3）'!BT23=0,"",'設定シート（ベースサーバv3）'!BT23) | Q17: =IF('設定シート（ベースサーバv3）'!BT24=0,"",'設定シート（ベースサーバv3）'!BT24) | R17: =IF('設定シート（ベースサーバv3）'!BT25=0,"",'設定シート（ベースサーバv3）'!BT25) | S17: =IF('設定シート（ベースサーバv3）'!BT26=0,"",'設定シート（ベースサーバv3）'!BT26) | T17: =IF('設定シート（ベースサーバv3）'!BT27=0,"",'設定シート（ベースサーバv3）'!BT27) | U17: =IF('設定シート（ベースサーバv3）'!BT28=0,"",'設定シート（ベースサーバv3）'!BT28) | V17: =IF('設定シート（ベースサーバv3）'!BT29=0,"",'設定シート（ベースサーバv3）'!BT29) | W17: =IF('設定シート（ベースサーバv3）'!BT30=0,"",'設定シート（ベースサーバv3）'!BT30) | X17: =IF('設定シート（ベースサーバv3）'!BT31=0,"",'設定シート（ベースサーバv3）'!BT31) | Y17: =IF('設定シート（ベースサーバv3）'!BT32=0,"",'設定シート（ベースサーバv3）'!BT32) | Z17: =IF('設定シート（ベースサーバv3）'!BT33=0,"",'設定シート（ベースサーバv3）'!BT33) | AA17: =IF('設定シート（ベースサーバv3）'!BT34=0,"",'設定シート（ベースサーバv3）'!BT34) | AB17: =IF('設定シート（ベースサーバv3）'!BT35=0,"",'設定シート（ベースサーバv3）'!BT35) | AC17: =IF('設定シート（ベースサーバv3）'!BT36=0,"",'設定シート（ベースサーバv3）'!BT36) | AD17: =IF('設定シート（ベースサーバv3）'!BT37=0,"",'設定シート（ベースサーバv3）'!BT37) | AE17: =IF('設定シート（ベースサーバv3）'!BT38=0,"",'設定シート（ベースサーバv3）'!BT38) | AF17: =IF('設定シート（ベースサーバv3）'!BT39=0,"",'設定シート（ベースサーバv3）'!BT39) | AG17: =IF('設定シート（ベースサーバv3）'!BT40=0,"",'設定シート（ベースサーバv3）'!BT40) | AH17: =IF('設定シート（ベースサーバv3）'!BT41=0,"",'設定シート（ベースサーバv3）'!BT41) | AI17: =IF('設定シート（ベースサーバv3）'!BT42=0,"",'設定シート（ベースサーバv3）'!BT42) | AJ17: =IF('設定シート（ベースサーバv3）'!BT43=0,"",'設定シート（ベースサーバv3）'!BT43) | AK17: =IF('設定シート（ベースサーバv3）'!BT44=0,"",'設定シート（ベースサーバv3）'!BT44) | AL17: =IF('設定シート（ベースサーバv3）'!BT45=0,"",'設定シート（ベースサーバv3）'!BT45) | AM17: =IF('設定シート（ベースサーバv3）'!BT46=0,"",'設定シート（ベースサーバv3）'!BT46) | AN17: =IF('設定シート（ベースサーバv3）'!BT47=0,"",'設定シート（ベースサーバv3）'!BT47)
F18: ='設定シート（ベースサーバv3）'!BX12 -> 17 | G18: =IF('設定シート（ベースサーバv3）'!BX13=0,"",'設定シート（ベースサーバv3）'!BX13) | H18: =IF('設定シート（ベースサーバv3）'!BX15=0,"",'設定シート（ベースサーバv3）'!BX15) | I18: =IF('設定シート（ベースサーバv3）'!BX16=0,"",'設定シート（ベースサーバv3）'!BX16) | J18: =IF('設定シート（ベースサーバv3）'!BX17=0,"0",'設定シート（ベースサーバv3）'!BX17) | K18: =IF('設定シート（ベースサーバv3）'!BX18=0,"",'設定シート（ベースサーバv3）'!BX18) | L18: =IF('設定シート（ベースサーバv3）'!BX19=0,"",'設定シート（ベースサーバv3）'!BX19) | M18: =IF('設定シート（ベースサーバv3）'!BX20=1,"1",'設定シート（ベースサーバv3）'!BX20) | N18: =IF('設定シート（ベースサーバv3）'!BX21=0,"",'設定シート（ベースサーバv3）'!BX21) | O18: =IF('設定シート（ベースサーバv3）'!BX22=0,"",'設定シート（ベースサーバv3）'!BX22) | P18: =IF('設定シート（ベースサーバv3）'!BX23=0,"",'設定シート（ベースサーバv3）'!BX23) | Q18: =IF('設定シート（ベースサーバv3）'!BX24=0,"",'設定シート（ベースサーバv3）'!BX24) | R18: =IF('設定シート（ベースサーバv3）'!BX25=0,"",'設定シート（ベースサーバv3）'!BX25) | S18: =IF('設定シート（ベースサーバv3）'!BX26=0,"",'設定シート（ベースサーバv3）'!BX26) | T18: =IF('設定シート（ベースサーバv3）'!BX27=0,"",'設定シート（ベースサーバv3）'!BX27) | U18: =IF('設定シート（ベースサーバv3）'!BX28=0,"",'設定シート（ベースサーバv3）'!BX28) | V18: =IF('設定シート（ベースサーバv3）'!BX29=0,"",'設定シート（ベースサーバv3）'!BX29) | W18: =IF('設定シート（ベースサーバv3）'!BX30=0,"",'設定シート（ベースサーバv3）'!BX30) | X18: =IF('設定シート（ベースサーバv3）'!BX31=0,"",'設定シート（ベースサーバv3）'!BX31) | Y18: =IF('設定シート（ベースサーバv3）'!BX32=0,"",'設定シート（ベースサーバv3）'!BX32) | Z18: =IF('設定シート（ベースサーバv3）'!BX33=0,"",'設定シート（ベースサーバv3）'!BX33) | AA18: =IF('設定シート（ベースサーバv3）'!BX34=0,"",'設定シート（ベースサーバv3）'!BX34) | AB18: =IF('設定シート（ベースサーバv3）'!BX35=0,"",'設定シート（ベースサーバv3）'!BX35) | AC18: =IF('設定シート（ベースサーバv3）'!BX36=0,"",'設定シート（ベースサーバv3）'!BX36) | AD18: =IF('設定シート（ベースサーバv3）'!BX37=0,"",'設定シート（ベースサーバv3）'!BX37) | AE18: =IF('設定シート（ベースサーバv3）'!BX38=0,"",'設定シート（ベースサーバv3）'!BX38) | AF18: =IF('設定シート（ベースサーバv3）'!BX39=0,"",'設定シート（ベースサーバv3）'!BX39) | AG18: =IF('設定シート（ベースサーバv3）'!BX40=0,"",'設定シート（ベースサーバv3）'!BX40) | AH18: =IF('設定シート（ベースサーバv3）'!BX41=0,"",'設定シート（ベースサーバv3）'!BX41) | AI18: =IF('設定シート（ベースサーバv3）'!BX42=0,"",'設定シート（ベースサーバv3）'!BX42) | AJ18: =IF('設定シート（ベースサーバv3）'!BX43=0,"",'設定シート（ベースサーバv3）'!BX43) | AK18: =IF('設定シート（ベースサーバv3）'!BX44=0,"",'設定シート（ベースサーバv3）'!BX44) | AL18: =IF('設定シート（ベースサーバv3）'!BX45=0,"",'設定シート（ベースサーバv3）'!BX45) | AM18: =IF('設定シート（ベースサーバv3）'!BX46=0,"",'設定シート（ベースサーバv3）'!BX46) | AN18: =IF('設定シート（ベースサーバv3）'!BX47=0,"",'設定シート（ベースサーバv3）'!BX47)
F19: ='設定シート（ベースサーバv3）'!CB12 -> 18 | G19: =IF('設定シート（ベースサーバv3）'!CB13=0,"",'設定シート（ベースサーバv3）'!CB13) | H19: =IF('設定シート（ベースサーバv3）'!CB15=0,"",'設定シート（ベースサーバv3）'!CB15) | I19: =IF('設定シート（ベースサーバv3）'!CB16=0,"",'設定シート（ベースサーバv3）'!CB16) | J19: =IF('設定シート（ベースサーバv3）'!CB17=0,"0",'設定シート（ベースサーバv3）'!CB17) | K19: =IF('設定シート（ベースサーバv3）'!CB18=0,"",'設定シート（ベースサーバv3）'!CB18) | L19: =IF('設定シート（ベースサーバv3）'!CB19=0,"",'設定シート（ベースサーバv3）'!CB19) | M19: =IF('設定シート（ベースサーバv3）'!CB20=1,"1",'設定シート（ベースサーバv3）'!CB20) | N19: =IF('設定シート（ベースサーバv3）'!CB21=0,"",'設定シート（ベースサーバv3）'!CB21) | O19: =IF('設定シート（ベースサーバv3）'!CB22=0,"",'設定シート（ベースサーバv3）'!CB22) | P19: =IF('設定シート（ベースサーバv3）'!CB23=0,"",'設定シート（ベースサーバv3）'!CB23) | Q19: =IF('設定シート（ベースサーバv3）'!CB24=0,"",'設定シート（ベースサーバv3）'!CB24) | R19: =IF('設定シート（ベースサーバv3）'!CB25=0,"",'設定シート（ベースサーバv3）'!CB25) | S19: =IF('設定シート（ベースサーバv3）'!CB26=0,"",'設定シート（ベースサーバv3）'!CB26) | T19: =IF('設定シート（ベースサーバv3）'!CB27=0,"",'設定シート（ベースサーバv3）'!CB27) | U19: =IF('設定シート（ベースサーバv3）'!CB28=0,"",'設定シート（ベースサーバv3）'!CB28) | V19: =IF('設定シート（ベースサーバv3）'!CB29=0,"",'設定シート（ベースサーバv3）'!CB29) | W19: =IF('設定シート（ベースサーバv3）'!CB30=0,"",'設定シート（ベースサーバv3）'!CB30) | X19: =IF('設定シート（ベースサーバv3）'!CB31=0,"",'設定シート（ベースサーバv3）'!CB31) | Y19: =IF('設定シート（ベースサーバv3）'!CB32=0,"",'設定シート（ベースサーバv3）'!CB32) | Z19: =IF('設定シート（ベースサーバv3）'!CB33=0,"",'設定シート（ベースサーバv3）'!CB33) | AA19: =IF('設定シート（ベースサーバv3）'!CB34=0,"",'設定シート（ベースサーバv3）'!CB34) | AB19: =IF('設定シート（ベースサーバv3）'!CB35=0,"",'設定シート（ベースサーバv3）'!CB35) | AC19: =IF('設定シート（ベースサーバv3）'!CB36=0,"",'設定シート（ベースサーバv3）'!CB36) | AD19: =IF('設定シート（ベースサーバv3）'!CB37=0,"",'設定シート（ベースサーバv3）'!CB37) | AE19: =IF('設定シート（ベースサーバv3）'!CB38=0,"",'設定シート（ベースサーバv3）'!CB38) | AF19: =IF('設定シート（ベースサーバv3）'!CB39=0,"",'設定シート（ベースサーバv3）'!CB39) | AG19: =IF('設定シート（ベースサーバv3）'!CB40=0,"",'設定シート（ベースサーバv3）'!CB40) | AH19: =IF('設定シート（ベースサーバv3）'!CB41=0,"",'設定シート（ベースサーバv3）'!CB41) | AI19: =IF('設定シート（ベースサーバv3）'!CB42=0,"",'設定シート（ベースサーバv3）'!CB42) | AJ19: =IF('設定シート（ベースサーバv3）'!CB43=0,"",'設定シート（ベースサーバv3）'!CB43) | AK19: =IF('設定シート（ベースサーバv3）'!CB44=0,"",'設定シート（ベースサーバv3）'!CB44) | AL19: =IF('設定シート（ベースサーバv3）'!CB45=0,"",'設定シート（ベースサーバv3）'!CB45) | AM19: =IF('設定シート（ベースサーバv3）'!CB46=0,"",'設定シート（ベースサーバv3）'!CB46) | AN19: =IF('設定シート（ベースサーバv3）'!CB47=0,"",'設定シート（ベースサーバv3）'!CB47)
F20: ='設定シート（ベースサーバv3）'!CF12 -> 19 | G20: =IF('設定シート（ベースサーバv3）'!CF13=0,"",'設定シート（ベースサーバv3）'!CF13) | H20: =IF('設定シート（ベースサーバv3）'!CF15=0,"",'設定シート（ベースサーバv3）'!CF15) | I20: =IF('設定シート（ベースサーバv3）'!CF16=0,"",'設定シート（ベースサーバv3）'!CF16) | J20: =IF('設定シート（ベースサーバv3）'!CF17=0,"0",'設定シート（ベースサーバv3）'!CF17) | K20: =IF('設定シート（ベースサーバv3）'!CF18=0,"",'設定シート（ベースサーバv3）'!CF18) | L20: =IF('設定シート（ベースサーバv3）'!CF19=0,"",'設定シート（ベースサーバv3）'!CF19) | M20: =IF('設定シート（ベースサーバv3）'!CF20=1,"1",'設定シート（ベースサーバv3）'!CF20) | N20: =IF('設定シート（ベースサーバv3）'!CF21=0,"",'設定シート（ベースサーバv3）'!CF21) | O20: =IF('設定シート（ベースサーバv3）'!CF22=0,"",'設定シート（ベースサーバv3）'!CF22) | P20: =IF('設定シート（ベースサーバv3）'!CF23=0,"",'設定シート（ベースサーバv3）'!CF23) | Q20: =IF('設定シート（ベースサーバv3）'!CF24=0,"",'設定シート（ベースサーバv3）'!CF24) | R20: =IF('設定シート（ベースサーバv3）'!CF25=0,"",'設定シート（ベースサーバv3）'!CF25) | S20: =IF('設定シート（ベースサーバv3）'!CF26=0,"",'設定シート（ベースサーバv3）'!CF26) | T20: =IF('設定シート（ベースサーバv3）'!CF27=0,"",'設定シート（ベースサーバv3）'!CF27) | U20: =IF('設定シート（ベースサーバv3）'!CF28=0,"",'設定シート（ベースサーバv3）'!CF28) | V20: =IF('設定シート（ベースサーバv3）'!CF29=0,"",'設定シート（ベースサーバv3）'!CF29) | W20: =IF('設定シート（ベースサーバv3）'!CF30=0,"",'設定シート（ベースサーバv3）'!CF30) | X20: =IF('設定シート（ベースサーバv3）'!CF31=0,"",'設定シート（ベースサーバv3）'!CF31) | Y20: =IF('設定シート（ベースサーバv3）'!CF32=0,"",'設定シート（ベースサーバv3）'!CF32) | Z20: =IF('設定シート（ベースサーバv3）'!CF33=0,"",'設定シート（ベースサーバv3）'!CF33) | AA20: =IF('設定シート（ベースサーバv3）'!CF34=0,"",'設定シート（ベースサーバv3）'!CF34) | AB20: =IF('設定シート（ベースサーバv3）'!CF35=0,"",'設定シート（ベースサーバv3）'!CF35) | AC20: =IF('設定シート（ベースサーバv3）'!CF36=0,"",'設定シート（ベースサーバv3）'!CF36) | AD20: =IF('設定シート（ベースサーバv3）'!CF37=0,"",'設定シート（ベースサーバv3）'!CF37) | AE20: =IF('設定シート（ベースサーバv3）'!CF38=0,"",'設定シート（ベースサーバv3）'!CF38) | AF20: =IF('設定シート（ベースサーバv3）'!CF39=0,"",'設定シート（ベースサーバv3）'!CF39) | AG20: =IF('設定シート（ベースサーバv3）'!CF40=0,"",'設定シート（ベースサーバv3）'!CF40) | AH20: =IF('設定シート（ベースサーバv3）'!CF41=0,"",'設定シート（ベースサーバv3）'!CF41) | AI20: =IF('設定シート（ベースサーバv3）'!CF42=0,"",'設定シート（ベースサーバv3）'!CF42) | AJ20: =IF('設定シート（ベースサーバv3）'!CF43=0,"",'設定シート（ベースサーバv3）'!CF43) | AK20: =IF('設定シート（ベースサーバv3）'!CF44=0,"",'設定シート（ベースサーバv3）'!CF44) | AL20: =IF('設定シート（ベースサーバv3）'!CF45=0,"",'設定シート（ベースサーバv3）'!CF45) | AM20: =IF('設定シート（ベースサーバv3）'!CF46=0,"",'設定シート（ベースサーバv3）'!CF46) | AN20: =IF('設定シート（ベースサーバv3）'!CF47=0,"",'設定シート（ベースサーバv3）'!CF47)
F21: ='設定シート（ベースサーバv3）'!CJ12 -> 20 | G21: =IF('設定シート（ベースサーバv3）'!CJ13=0,"",'設定シート（ベースサーバv3）'!CJ13) | H21: =IF('設定シート（ベースサーバv3）'!CJ15=0,"",'設定シート（ベースサーバv3）'!CJ15) | I21: =IF('設定シート（ベースサーバv3）'!CJ16=0,"",'設定シート（ベースサーバv3）'!CJ16) | J21: =IF('設定シート（ベースサーバv3）'!CJ17=0,"0",'設定シート（ベースサーバv3）'!CJ17) | K21: =IF('設定シート（ベースサーバv3）'!CJ18=0,"",'設定シート（ベースサーバv3）'!CJ18) | L21: =IF('設定シート（ベースサーバv3）'!CJ19=0,"",'設定シート（ベースサーバv3）'!CJ19) | M21: =IF('設定シート（ベースサーバv3）'!CJ20=1,"1",'設定シート（ベースサーバv3）'!CJ20) | N21: =IF('設定シート（ベースサーバv3）'!CJ21=0,"",'設定シート（ベースサーバv3）'!CJ21) | O21: =IF('設定シート（ベースサーバv3）'!CJ22=0,"",'設定シート（ベースサーバv3）'!CJ22) | P21: =IF('設定シート（ベースサーバv3）'!CJ23=0,"",'設定シート（ベースサーバv3）'!CJ23) | Q21: =IF('設定シート（ベースサーバv3）'!CJ24=0,"",'設定シート（ベースサーバv3）'!CJ24) | R21: =IF('設定シート（ベースサーバv3）'!CJ25=0,"",'設定シート（ベースサーバv3）'!CJ25) | S21: =IF('設定シート（ベースサーバv3）'!CJ26=0,"",'設定シート（ベースサーバv3）'!CJ26) | T21: =IF('設定シート（ベースサーバv3）'!CJ27=0,"",'設定シート（ベースサーバv3）'!CJ27) | U21: =IF('設定シート（ベースサーバv3）'!CJ28=0,"",'設定シート（ベースサーバv3）'!CJ28) | V21: =IF('設定シート（ベースサーバv3）'!CJ29=0,"",'設定シート（ベースサーバv3）'!CJ29) | W21: =IF('設定シート（ベースサーバv3）'!CJ30=0,"",'設定シート（ベースサーバv3）'!CJ30) | X21: =IF('設定シート（ベースサーバv3）'!CJ31=0,"",'設定シート（ベースサーバv3）'!CJ31) | Y21: =IF('設定シート（ベースサーバv3）'!CJ32=0,"",'設定シート（ベースサーバv3）'!CJ32) | Z21: =IF('設定シート（ベースサーバv3）'!CJ33=0,"",'設定シート（ベースサーバv3）'!CJ33) | AA21: =IF('設定シート（ベースサーバv3）'!CJ34=0,"",'設定シート（ベースサーバv3）'!CJ34) | AB21: =IF('設定シート（ベースサーバv3）'!CJ35=0,"",'設定シート（ベースサーバv3）'!CJ35) | AC21: =IF('設定シート（ベースサーバv3）'!CJ36=0,"",'設定シート（ベースサーバv3）'!CJ36) | AD21: =IF('設定シート（ベースサーバv3）'!CJ37=0,"",'設定シート（ベースサーバv3）'!CJ37) | AE21: =IF('設定シート（ベースサーバv3）'!CJ38=0,"",'設定シート（ベースサーバv3）'!CJ38) | AF21: =IF('設定シート（ベースサーバv3）'!CJ39=0,"",'設定シート（ベースサーバv3）'!CJ39) | AG21: =IF('設定シート（ベースサーバv3）'!CJ40=0,"",'設定シート（ベースサーバv3）'!CJ40) | AH21: =IF('設定シート（ベースサーバv3）'!CJ41=0,"",'設定シート（ベースサーバv3）'!CJ41) | AI21: =IF('設定シート（ベースサーバv3）'!CJ42=0,"",'設定シート（ベースサーバv3）'!CJ42) | AJ21: =IF('設定シート（ベースサーバv3）'!CJ43=0,"",'設定シート（ベースサーバv3）'!CJ43) | AK21: =IF('設定シート（ベースサーバv3）'!CJ44=0,"",'設定シート（ベースサーバv3）'!CJ44) | AL21: =IF('設定シート（ベースサーバv3）'!CJ45=0,"",'設定シート（ベースサーバv3）'!CJ45) | AM21: =IF('設定シート（ベースサーバv3）'!CJ46=0,"",'設定シート（ベースサーバv3）'!CJ46) | AN21: =IF('設定シート（ベースサーバv3）'!CJ47=0,"",'設定シート（ベースサーバv3）'!CJ47)
F22: ='設定シート（ベースサーバv3）'!CN12 -> 21 | G22: =IF('設定シート（ベースサーバv3）'!CN13=0,"",'設定シート（ベースサーバv3）'!CN13) | H22: =IF('設定シート（ベースサーバv3）'!CN15=0,"",'設定シート（ベースサーバv3）'!CN15) | I22: =IF('設定シート（ベースサーバv3）'!CN16=0,"",'設定シート（ベースサーバv3）'!CN16) | J22: =IF('設定シート（ベースサーバv3）'!CN17=0,"0",'設定シート（ベースサーバv3）'!CN17) | K22: =IF('設定シート（ベースサーバv3）'!CN18=0,"",'設定シート（ベースサーバv3）'!CN18) | L22: =IF('設定シート（ベースサーバv3）'!CN19=0,"",'設定シート（ベースサーバv3）'!CN19) | M22: =IF('設定シート（ベースサーバv3）'!CN20=1,"1",'設定シート（ベースサーバv3）'!CN20) | N22: =IF('設定シート（ベースサーバv3）'!CN21=0,"",'設定シート（ベースサーバv3）'!CN21) | O22: =IF('設定シート（ベースサーバv3）'!CN22=0,"",'設定シート（ベースサーバv3）'!CN22) | P22: =IF('設定シート（ベースサーバv3）'!CN23=0,"",'設定シート（ベースサーバv3）'!CN23) | Q22: =IF('設定シート（ベースサーバv3）'!CN24=0,"",'設定シート（ベースサーバv3）'!CN24) | R22: =IF('設定シート（ベースサーバv3）'!CN25=0,"",'設定シート（ベースサーバv3）'!CN25) | S22: =IF('設定シート（ベースサーバv3）'!CN26=0,"",'設定シート（ベースサーバv3）'!CN26) | T22: =IF('設定シート（ベースサーバv3）'!CN27=0,"",'設定シート（ベースサーバv3）'!CN27) | U22: =IF('設定シート（ベースサーバv3）'!CN28=0,"",'設定シート（ベースサーバv3）'!CN28) | V22: =IF('設定シート（ベースサーバv3）'!CN29=0,"",'設定シート（ベースサーバv3）'!CN29) | W22: =IF('設定シート（ベースサーバv3）'!CN30=0,"",'設定シート（ベースサーバv3）'!CN30) | X22: =IF('設定シート（ベースサーバv3）'!CN31=0,"",'設定シート（ベースサーバv3）'!CN31) | Y22: =IF('設定シート（ベースサーバv3）'!CN32=0,"",'設定シート（ベースサーバv3）'!CN32) | Z22: =IF('設定シート（ベースサーバv3）'!CN33=0,"",'設定シート（ベースサーバv3）'!CN33) | AA22: =IF('設定シート（ベースサーバv3）'!CN34=0,"",'設定シート（ベースサーバv3）'!CN34) | AB22: =IF('設定シート（ベースサーバv3）'!CN35=0,"",'設定シート（ベースサーバv3）'!CN35) | AC22: =IF('設定シート（ベースサーバv3）'!CN36=0,"",'設定シート（ベースサーバv3）'!CN36) | AD22: =IF('設定シート（ベースサーバv3）'!CN37=0,"",'設定シート（ベースサーバv3）'!CN37) | AE22: =IF('設定シート（ベースサーバv3）'!CN38=0,"",'設定シート（ベースサーバv3）'!CN38) | AF22: =IF('設定シート（ベースサーバv3）'!CN39=0,"",'設定シート（ベースサーバv3）'!CN39) | AG22: =IF('設定シート（ベースサーバv3）'!CN40=0,"",'設定シート（ベースサーバv3）'!CN40) | AH22: =IF('設定シート（ベースサーバv3）'!CN41=0,"",'設定シート（ベースサーバv3）'!CN41) | AI22: =IF('設定シート（ベースサーバv3）'!CN42=0,"",'設定シート（ベースサーバv3）'!CN42) | AJ22: =IF('設定シート（ベースサーバv3）'!CN43=0,"",'設定シート（ベースサーバv3）'!CN43) | AK22: =IF('設定シート（ベースサーバv3）'!CN44=0,"",'設定シート（ベースサーバv3）'!CN44) | AL22: =IF('設定シート（ベースサーバv3）'!CN45=0,"",'設定シート（ベースサーバv3）'!CN45) | AM22: =IF('設定シート（ベースサーバv3）'!CN46=0,"",'設定シート（ベースサーバv3）'!CN46) | AN22: =IF('設定シート（ベースサーバv3）'!CN47=0,"",'設定シート（ベースサーバv3）'!CN47)
F23: ='設定シート（ベースサーバv3）'!CR12 -> 22 | G23: =IF('設定シート（ベースサーバv3）'!CR13=0,"",'設定シート（ベースサーバv3）'!CR13) | H23: =IF('設定シート（ベースサーバv3）'!CR15=0,"",'設定シート（ベースサーバv3）'!CR15) | I23: =IF('設定シート（ベースサーバv3）'!CR16=0,"",'設定シート（ベースサーバv3）'!CR16) | J23: =IF('設定シート（ベースサーバv3）'!CR17=0,"0",'設定シート（ベースサーバv3）'!CR17) | K23: =IF('設定シート（ベースサーバv3）'!CR18=0,"",'設定シート（ベースサーバv3）'!CR18) | L23: =IF('設定シート（ベースサーバv3）'!CR19=0,"",'設定シート（ベースサーバv3）'!CR19) | M23: =IF('設定シート（ベースサーバv3）'!CR20=1,"1",'設定シート（ベースサーバv3）'!CR20) | N23: =IF('設定シート（ベースサーバv3）'!CR21=0,"",'設定シート（ベースサーバv3）'!CR21) | O23: =IF('設定シート（ベースサーバv3）'!CR22=0,"",'設定シート（ベースサーバv3）'!CR22) | P23: =IF('設定シート（ベースサーバv3）'!CR23=0,"",'設定シート（ベースサーバv3）'!CR23) | Q23: =IF('設定シート（ベースサーバv3）'!CR24=0,"",'設定シート（ベースサーバv3）'!CR24) | R23: =IF('設定シート（ベースサーバv3）'!CR25=0,"",'設定シート（ベースサーバv3）'!CR25) | S23: =IF('設定シート（ベースサーバv3）'!CR26=0,"",'設定シート（ベースサーバv3）'!CR26) | T23: =IF('設定シート（ベースサーバv3）'!CR27=0,"",'設定シート（ベースサーバv3）'!CR27) | U23: =IF('設定シート（ベースサーバv3）'!CR28=0,"",'設定シート（ベースサーバv3）'!CR28) | V23: =IF('設定シート（ベースサーバv3）'!CR29=0,"",'設定シート（ベースサーバv3）'!CR29) | W23: =IF('設定シート（ベースサーバv3）'!CR30=0,"",'設定シート（ベースサーバv3）'!CR30) | X23: =IF('設定シート（ベースサーバv3）'!CR31=0,"",'設定シート（ベースサーバv3）'!CR31) | Y23: =IF('設定シート（ベースサーバv3）'!CR32=0,"",'設定シート（ベースサーバv3）'!CR32) | Z23: =IF('設定シート（ベースサーバv3）'!CR33=0,"",'設定シート（ベースサーバv3）'!CR33) | AA23: =IF('設定シート（ベースサーバv3）'!CR34=0,"",'設定シート（ベースサーバv3）'!CR34) | AB23: =IF('設定シート（ベースサーバv3）'!CR35=0,"",'設定シート（ベースサーバv3）'!CR35) | AC23: =IF('設定シート（ベースサーバv3）'!CR36=0,"",'設定シート（ベースサーバv3）'!CR36) | AD23: =IF('設定シート（ベースサーバv3）'!CR37=0,"",'設定シート（ベースサーバv3）'!CR37) | AE23: =IF('設定シート（ベースサーバv3）'!CR38=0,"",'設定シート（ベースサーバv3）'!CR38) | AF23: =IF('設定シート（ベースサーバv3）'!CR39=0,"",'設定シート（ベースサーバv3）'!CR39) | AG23: =IF('設定シート（ベースサーバv3）'!CR40=0,"",'設定シート（ベースサーバv3）'!CR40) | AH23: =IF('設定シート（ベースサーバv3）'!CR41=0,"",'設定シート（ベースサーバv3）'!CR41) | AI23: =IF('設定シート（ベースサーバv3）'!CR42=0,"",'設定シート（ベースサーバv3）'!CR42) | AJ23: =IF('設定シート（ベースサーバv3）'!CR43=0,"",'設定シート（ベースサーバv3）'!CR43) | AK23: =IF('設定シート（ベースサーバv3）'!CR44=0,"",'設定シート（ベースサーバv3）'!CR44) | AL23: =IF('設定シート（ベースサーバv3）'!CR45=0,"",'設定シート（ベースサーバv3）'!CR45) | AM23: =IF('設定シート（ベースサーバv3）'!CR46=0,"",'設定シート（ベースサーバv3）'!CR46) | AN23: =IF('設定シート（ベースサーバv3）'!CR47=0,"",'設定シート（ベースサーバv3）'!CR47)
F24: ='設定シート（ベースサーバv3）'!CV12 -> 23 | G24: =IF('設定シート（ベースサーバv3）'!CV13=0,"",'設定シート（ベースサーバv3）'!CV13) | H24: =IF('設定シート（ベースサーバv3）'!CV15=0,"",'設定シート（ベースサーバv3）'!CV15) | I24: =IF('設定シート（ベースサーバv3）'!CV16=0,"",'設定シート（ベースサーバv3）'!CV16) | J24: =IF('設定シート（ベースサーバv3）'!CV17=0,"0",'設定シート（ベースサーバv3）'!CV17) | K24: =IF('設定シート（ベースサーバv3）'!CV18=0,"",'設定シート（ベースサーバv3）'!CV18) | L24: =IF('設定シート（ベースサーバv3）'!CV19=0,"",'設定シート（ベースサーバv3）'!CV19) | M24: =IF('設定シート（ベースサーバv3）'!CV20=1,"1",'設定シート（ベースサーバv3）'!CV20) | N24: =IF('設定シート（ベースサーバv3）'!CV21=0,"",'設定シート（ベースサーバv3）'!CV21) | O24: =IF('設定シート（ベースサーバv3）'!CV22=0,"",'設定シート（ベースサーバv3）'!CV22) | P24: =IF('設定シート（ベースサーバv3）'!CV23=0,"",'設定シート（ベースサーバv3）'!CV23) | Q24: =IF('設定シート（ベースサーバv3）'!CV24=0,"",'設定シート（ベースサーバv3）'!CV24) | R24: =IF('設定シート（ベースサーバv3）'!CV25=0,"",'設定シート（ベースサーバv3）'!CV25) | S24: =IF('設定シート（ベースサーバv3）'!CV26=0,"",'設定シート（ベースサーバv3）'!CV26) | T24: =IF('設定シート（ベースサーバv3）'!CV27=0,"",'設定シート（ベースサーバv3）'!CV27) | U24: =IF('設定シート（ベースサーバv3）'!CV28=0,"",'設定シート（ベースサーバv3）'!CV28) | V24: =IF('設定シート（ベースサーバv3）'!CV29=0,"",'設定シート（ベースサーバv3）'!CV29) | W24: =IF('設定シート（ベースサーバv3）'!CV30=0,"",'設定シート（ベースサーバv3）'!CV30) | X24: =IF('設定シート（ベースサーバv3）'!CV31=0,"",'設定シート（ベースサーバv3）'!CV31) | Y24: =IF('設定シート（ベースサーバv3）'!CV32=0,"",'設定シート（ベースサーバv3）'!CV32) | Z24: =IF('設定シート（ベースサーバv3）'!CV33=0,"",'設定シート（ベースサーバv3）'!CV33) | AA24: =IF('設定シート（ベースサーバv3）'!CV34=0,"",'設定シート（ベースサーバv3）'!CV34) | AB24: =IF('設定シート（ベースサーバv3）'!CV35=0,"",'設定シート（ベースサーバv3）'!CV35) | AC24: =IF('設定シート（ベースサーバv3）'!CV36=0,"",'設定シート（ベースサーバv3）'!CV36) | AD24: =IF('設定シート（ベースサーバv3）'!CV37=0,"",'設定シート（ベースサーバv3）'!CV37) | AE24: =IF('設定シート（ベースサーバv3）'!CV38=0,"",'設定シート（ベースサーバv3）'!CV38) | AF24: =IF('設定シート（ベースサーバv3）'!CV39=0,"",'設定シート（ベースサーバv3）'!CV39) | AG24: =IF('設定シート（ベースサーバv3）'!CV40=0,"",'設定シート（ベースサーバv3）'!CV40) | AH24: =IF('設定シート（ベースサーバv3）'!CV41=0,"",'設定シート（ベースサーバv3）'!CV41) | AI24: =IF('設定シート（ベースサーバv3）'!CV42=0,"",'設定シート（ベースサーバv3）'!CV42) | AJ24: =IF('設定シート（ベースサーバv3）'!CV43=0,"",'設定シート（ベースサーバv3）'!CV43) | AK24: =IF('設定シート（ベースサーバv3）'!CV44=0,"",'設定シート（ベースサーバv3）'!CV44) | AL24: =IF('設定シート（ベースサーバv3）'!CV45=0,"",'設定シート（ベースサーバv3）'!CV45) | AM24: =IF('設定シート（ベースサーバv3）'!CV46=0,"",'設定シート（ベースサーバv3）'!CV46) | AN24: =IF('設定シート（ベースサーバv3）'!CV47=0,"",'設定シート（ベースサーバv3）'!CV47)
F25: ='設定シート（ベースサーバv3）'!CZ12 -> 24 | G25: =IF('設定シート（ベースサーバv3）'!CZ13=0,"",'設定シート（ベースサーバv3）'!CZ13) | H25: =IF('設定シート（ベースサーバv3）'!CZ15=0,"",'設定シート（ベースサーバv3）'!CZ15) | I25: =IF('設定シート（ベースサーバv3）'!CZ16=0,"",'設定シート（ベースサーバv3）'!CZ16) | J25: =IF('設定シート（ベースサーバv3）'!CZ17=0,"0",'設定シート（ベースサーバv3）'!CZ17) | K25: =IF('設定シート（ベースサーバv3）'!CZ18=0,"",'設定シート（ベースサーバv3）'!CZ18) | L25: =IF('設定シート（ベースサーバv3）'!CZ19=0,"",'設定シート（ベースサーバv3）'!CZ19) | M25: =IF('設定シート（ベースサーバv3）'!CZ20=1,"1",'設定シート（ベースサーバv3）'!CZ20) | N25: =IF('設定シート（ベースサーバv3）'!CZ21=0,"",'設定シート（ベースサーバv3）'!CZ21) | O25: =IF('設定シート（ベースサーバv3）'!CZ22=0,"",'設定シート（ベースサーバv3）'!CZ22) | P25: =IF('設定シート（ベースサーバv3）'!CZ23=0,"",'設定シート（ベースサーバv3）'!CZ23) | Q25: =IF('設定シート（ベースサーバv3）'!CZ24=0,"",'設定シート（ベースサーバv3）'!CZ24) | R25: =IF('設定シート（ベースサーバv3）'!CZ25=0,"",'設定シート（ベースサーバv3）'!CZ25) | S25: =IF('設定シート（ベースサーバv3）'!CZ26=0,"",'設定シート（ベースサーバv3）'!CZ26) | T25: =IF('設定シート（ベースサーバv3）'!CZ27=0,"",'設定シート（ベースサーバv3）'!CZ27) | U25: =IF('設定シート（ベースサーバv3）'!CZ28=0,"",'設定シート（ベースサーバv3）'!CZ28) | V25: =IF('設定シート（ベースサーバv3）'!CZ29=0,"",'設定シート（ベースサーバv3）'!CZ29) | W25: =IF('設定シート（ベースサーバv3）'!CZ30=0,"",'設定シート（ベースサーバv3）'!CZ30) | X25: =IF('設定シート（ベースサーバv3）'!CZ31=0,"",'設定シート（ベースサーバv3）'!CZ31) | Y25: =IF('設定シート（ベースサーバv3）'!CZ32=0,"",'設定シート（ベースサーバv3）'!CZ32) | Z25: =IF('設定シート（ベースサーバv3）'!CZ33=0,"",'設定シート（ベースサーバv3）'!CZ33) | AA25: =IF('設定シート（ベースサーバv3）'!CZ34=0,"",'設定シート（ベースサーバv3）'!CZ34) | AB25: =IF('設定シート（ベースサーバv3）'!CZ35=0,"",'設定シート（ベースサーバv3）'!CZ35) | AC25: =IF('設定シート（ベースサーバv3）'!CZ36=0,"",'設定シート（ベースサーバv3）'!CZ36) | AD25: =IF('設定シート（ベースサーバv3）'!CZ37=0,"",'設定シート（ベースサーバv3）'!CZ37) | AE25: =IF('設定シート（ベースサーバv3）'!CZ38=0,"",'設定シート（ベースサーバv3）'!CZ38) | AF25: =IF('設定シート（ベースサーバv3）'!CZ39=0,"",'設定シート（ベースサーバv3）'!CZ39) | AG25: =IF('設定シート（ベースサーバv3）'!CZ40=0,"",'設定シート（ベースサーバv3）'!CZ40) | AH25: =IF('設定シート（ベースサーバv3）'!CZ41=0,"",'設定シート（ベースサーバv3）'!CZ41) | AI25: =IF('設定シート（ベースサーバv3）'!CZ42=0,"",'設定シート（ベースサーバv3）'!CZ42) | AJ25: =IF('設定シート（ベースサーバv3）'!CZ43=0,"",'設定シート（ベースサーバv3）'!CZ43) | AK25: =IF('設定シート（ベースサーバv3）'!CZ44=0,"",'設定シート（ベースサーバv3）'!CZ44) | AL25: =IF('設定シート（ベースサーバv3）'!CZ45=0,"",'設定シート（ベースサーバv3）'!CZ45) | AM25: =IF('設定シート（ベースサーバv3）'!CZ46=0,"",'設定シート（ベースサーバv3）'!CZ46) | AN25: =IF('設定シート（ベースサーバv3）'!CZ47=0,"",'設定シート（ベースサーバv3）'!CZ47)
F26: ='設定シート（ベースサーバv3）'!DD12 -> 25 | G26: =IF('設定シート（ベースサーバv3）'!DD13=0,"",'設定シート（ベースサーバv3）'!DD13) | H26: =IF('設定シート（ベースサーバv3）'!DD15=0,"",'設定シート（ベースサーバv3）'!DD15) | I26: =IF('設定シート（ベースサーバv3）'!DD16=0,"",'設定シート（ベースサーバv3）'!DD16) | J26: =IF('設定シート（ベースサーバv3）'!DD17=0,"0",'設定シート（ベースサーバv3）'!DD17) | K26: =IF('設定シート（ベースサーバv3）'!DD18=0,"",'設定シート（ベースサーバv3）'!DD18) | L26: =IF('設定シート（ベースサーバv3）'!DD19=0,"",'設定シート（ベースサーバv3）'!DD19) | M26: =IF('設定シート（ベースサーバv3）'!DD20=1,"1",'設定シート（ベースサーバv3）'!DD20) | N26: =IF('設定シート（ベースサーバv3）'!DD21=0,"",'設定シート（ベースサーバv3）'!DD21) | O26: =IF('設定シート（ベースサーバv3）'!DD22=0,"",'設定シート（ベースサーバv3）'!DD22) | P26: =IF('設定シート（ベースサーバv3）'!DD23=0,"",'設定シート（ベースサーバv3）'!DD23) | Q26: =IF('設定シート（ベースサーバv3）'!DD24=0,"",'設定シート（ベースサーバv3）'!DD24) | R26: =IF('設定シート（ベースサーバv3）'!DD25=0,"",'設定シート（ベースサーバv3）'!DD25) | S26: =IF('設定シート（ベースサーバv3）'!DD26=0,"",'設定シート（ベースサーバv3）'!DD26) | T26: =IF('設定シート（ベースサーバv3）'!DD27=0,"",'設定シート（ベースサーバv3）'!DD27) | U26: =IF('設定シート（ベースサーバv3）'!DD28=0,"",'設定シート（ベースサーバv3）'!DD28) | V26: =IF('設定シート（ベースサーバv3）'!DD29=0,"",'設定シート（ベースサーバv3）'!DD29) | W26: =IF('設定シート（ベースサーバv3）'!DD30=0,"",'設定シート（ベースサーバv3）'!DD30) | X26: =IF('設定シート（ベースサーバv3）'!DD31=0,"",'設定シート（ベースサーバv3）'!DD31) | Y26: =IF('設定シート（ベースサーバv3）'!DD32=0,"",'設定シート（ベースサーバv3）'!DD32) | Z26: =IF('設定シート（ベースサーバv3）'!DD33=0,"",'設定シート（ベースサーバv3）'!DD33) | AA26: =IF('設定シート（ベースサーバv3）'!DD34=0,"",'設定シート（ベースサーバv3）'!DD34) | AB26: =IF('設定シート（ベースサーバv3）'!DD35=0,"",'設定シート（ベースサーバv3）'!DD35) | AC26: =IF('設定シート（ベースサーバv3）'!DD36=0,"",'設定シート（ベースサーバv3）'!DD36) | AD26: =IF('設定シート（ベースサーバv3）'!DD37=0,"",'設定シート（ベースサーバv3）'!DD37) | AE26: =IF('設定シート（ベースサーバv3）'!DD38=0,"",'設定シート（ベースサーバv3）'!DD38) | AF26: =IF('設定シート（ベースサーバv3）'!DD39=0,"",'設定シート（ベースサーバv3）'!DD39) | AG26: =IF('設定シート（ベースサーバv3）'!DD40=0,"",'設定シート（ベースサーバv3）'!DD40) | AH26: =IF('設定シート（ベースサーバv3）'!DD41=0,"",'設定シート（ベースサーバv3）'!DD41) | AI26: =IF('設定シート（ベースサーバv3）'!DD42=0,"",'設定シート（ベースサーバv3）'!DD42) | AJ26: =IF('設定シート（ベースサーバv3）'!DD43=0,"",'設定シート（ベースサーバv3）'!DD43) | AK26: =IF('設定シート（ベースサーバv3）'!DD44=0,"",'設定シート（ベースサーバv3）'!DD44) | AL26: =IF('設定シート（ベースサーバv3）'!DD45=0,"",'設定シート（ベースサーバv3）'!DD45) | AM26: =IF('設定シート（ベースサーバv3）'!DD46=0,"",'設定シート（ベースサーバv3）'!DD46) | AN26: =IF('設定シート（ベースサーバv3）'!DD47=0,"",'設定シート（ベースサーバv3）'!DD47)
F27: ='設定シート（ベースサーバv3）'!DH12 -> 26 | G27: =IF('設定シート（ベースサーバv3）'!DH13=0,"",'設定シート（ベースサーバv3）'!DH13) | H27: =IF('設定シート（ベースサーバv3）'!DH15=0,"",'設定シート（ベースサーバv3）'!DH15) | I27: =IF('設定シート（ベースサーバv3）'!DH16=0,"",'設定シート（ベースサーバv3）'!DH16) | J27: =IF('設定シート（ベースサーバv3）'!DH17=0,"0",'設定シート（ベースサーバv3）'!DH17) | K27: =IF('設定シート（ベースサーバv3）'!DH18=0,"",'設定シート（ベースサーバv3）'!DH18) | L27: =IF('設定シート（ベースサーバv3）'!DH19=0,"",'設定シート（ベースサーバv3）'!DH19) | M27: =IF('設定シート（ベースサーバv3）'!DH20=1,"1",'設定シート（ベースサーバv3）'!DH20) | N27: =IF('設定シート（ベースサーバv3）'!DH21=0,"",'設定シート（ベースサーバv3）'!DH21) | O27: =IF('設定シート（ベースサーバv3）'!DH22=0,"",'設定シート（ベースサーバv3）'!DH22) | P27: =IF('設定シート（ベースサーバv3）'!DH23=0,"",'設定シート（ベースサーバv3）'!DH23) | Q27: =IF('設定シート（ベースサーバv3）'!DH24=0,"",'設定シート（ベースサーバv3）'!DH24) | R27: =IF('設定シート（ベースサーバv3）'!DH25=0,"",'設定シート（ベースサーバv3）'!DH25) | S27: =IF('設定シート（ベースサーバv3）'!DH26=0,"",'設定シート（ベースサーバv3）'!DH26) | T27: =IF('設定シート（ベースサーバv3）'!DH27=0,"",'設定シート（ベースサーバv3）'!DH27) | U27: =IF('設定シート（ベースサーバv3）'!DH28=0,"",'設定シート（ベースサーバv3）'!DH28) | V27: =IF('設定シート（ベースサーバv3）'!DH29=0,"",'設定シート（ベースサーバv3）'!DH29) | W27: =IF('設定シート（ベースサーバv3）'!DH30=0,"",'設定シート（ベースサーバv3）'!DH30) | X27: =IF('設定シート（ベースサーバv3）'!DH31=0,"",'設定シート（ベースサーバv3）'!DH31) | Y27: =IF('設定シート（ベースサーバv3）'!DH32=0,"",'設定シート（ベースサーバv3）'!DH32) | Z27: =IF('設定シート（ベースサーバv3）'!DH33=0,"",'設定シート（ベースサーバv3）'!DH33) | AA27: =IF('設定シート（ベースサーバv3）'!DH34=0,"",'設定シート（ベースサーバv3）'!DH34) | AB27: =IF('設定シート（ベースサーバv3）'!DH35=0,"",'設定シート（ベースサーバv3）'!DH35) | AC27: =IF('設定シート（ベースサーバv3）'!DH36=0,"",'設定シート（ベースサーバv3）'!DH36) | AD27: =IF('設定シート（ベースサーバv3）'!DH37=0,"",'設定シート（ベースサーバv3）'!DH37) | AE27: =IF('設定シート（ベースサーバv3）'!DH38=0,"",'設定シート（ベースサーバv3）'!DH38) | AF27: =IF('設定シート（ベースサーバv3）'!DH39=0,"",'設定シート（ベースサーバv3）'!DH39) | AG27: =IF('設定シート（ベースサーバv3）'!DH40=0,"",'設定シート（ベースサーバv3）'!DH40) | AH27: =IF('設定シート（ベースサーバv3）'!DH41=0,"",'設定シート（ベースサーバv3）'!DH41) | AI27: =IF('設定シート（ベースサーバv3）'!DH42=0,"",'設定シート（ベースサーバv3）'!DH42) | AJ27: =IF('設定シート（ベースサーバv3）'!DH43=0,"",'設定シート（ベースサーバv3）'!DH43) | AK27: =IF('設定シート（ベースサーバv3）'!DH44=0,"",'設定シート（ベースサーバv3）'!DH44) | AL27: =IF('設定シート（ベースサーバv3）'!DH45=0,"",'設定シート（ベースサーバv3）'!DH45) | AM27: =IF('設定シート（ベースサーバv3）'!DH46=0,"",'設定シート（ベースサーバv3）'!DH46) | AN27: =IF('設定シート（ベースサーバv3）'!DH47=0,"",'設定シート（ベースサーバv3）'!DH47)
