Workbook
Name haisupekku: [1]Sheet2!#REF!
Name VLAN種別: [2]データシート!$A$2:$A$10
Name カスタマイズ: [1]Sheet2!#REF!
Name カスタマイズ_GPU搭載: [1]Sheet2!#REF!
Name スタンダード: [1]Sheet2!#REF!
Name スタンダードv2: [1]Sheet2!#REF!
Name ハイスペック: [1]Sheet2!#REF!
Name ハイスペックv2: [1]Sheet2!#REF!
Name メモリー拡張_A: [3]data!$F$2:$F$3
Name メモリー拡張_B: [3]data!$G$2:$G$4
Name メモリー拡張_C: [3]data!$H$2:$H$6
Name メモリー拡張_D: [3]data!$I$2:$I$8
Name メモリー拡張_E: [3]data!$J$2:$J$10
Name メモリー拡張_F: [3]data!$K$2:$K$14
Name 追加選択: [1]Sheet2!#REF!

Sheet ImportExport
A1: レコードの開始行 | B1: テナントID | C1: 契約者名 | D1: 試験用IPアドレス | E1: 特別対応分 | F1: お申込みサーバ番号 | G1: サーバ名 | H1: ベースサーバプラン | I1: CPU追加 | J1: メモリ追加数 | K1: 標準搭載メモリ数 | L1: メモリ1枚あたりの容量 | M1: 合計搭載メモリ数 | N1: ディスク種類① | O1: ディスク種類① 数量 | P1: ディスク種類② | Q1: ディスク種類② 数量 | R1: ディスク種類③ | S1: ディスク種類③ 数量 | T1: ディスク種類④ | U1: ディスク種類④ 数量 | V1: NIC追加 | W1: NIC冗長化グループ1 | X1: NIC冗長化グループ1_タグVLAN | Y1: NIC冗長化グループ1_接続VLAN管理番号 | Z1: NIC冗長化グループ2 | AA1: NIC冗長化グループ2_タグVLAN | AB1: NIC冗長化グループ2_接続VLAN管理番号 | AC1: 標準NIC-port1 | AD1: 標準NIC-port2 | AE1: 追加NIC-port1 | AF1: 追加NIC-port2 | AG1: VLAN管理番号 | AH1: ネットワークアドレス | AI1: デフォルトゲートウェイ | AJ1: IPアドレス | AK1: ログインID | AL1: OSインストールオプション申込み | AM1: インストールOS種別 | AN1: 備考 | BH1: EXT_テナントID | BI1: EXT_契約者名 | BJ1: EXT_試験用IPアドレス | BK1: EXT_特別対応分 | BL1: EXT_お申込みサーバ番号 | BM1: EXT_サーバ名 | BN1: EXT_ベースサーバプラン | BO1: EXT_CPU追加 | BP1: EXT_メモリ追加数 | BQ1: EXT_標準搭載メモリ数 | BR1: EXT_メモリ1枚あたりの容量 | BS1: EXT_合計搭載メモリ数 | BT1: EXT_ディスク種類① | BU1: EXT_ディスク種類① 数量 | BV1: EXT_ディスク種類② | BW1: EXT_ディスク種類② 数量 | BX1: EXT_ディスク種類③ | BY1: EXT_ディスク種類③ 数量 | BZ1: EXT_ディスク種類④ | CA1: EXT_ディスク種類④ 数量 | CB1: EXT_NIC追加 | CC1: EXT_NIC冗長化グループ1 | CD1: EXT_NIC冗長化グループ1_タグVLAN | CE1: EXT_NIC冗長化グループ1_接続VLAN管理番号 | CF1: EXT_NIC冗長化グループ2 | CG1: EXT_NIC冗長化グループ2_タグVLAN | CH1: EXT_NIC冗長化グループ2_接続VLAN管理番号 | CI1: EXT_標準NIC-port1 | CJ1: EXT_標準NIC-port2 | CK1: EXT_追加NIC-port1 | CL1: EXT_標準NIC-port2 | CM1: EXT_VLAN管理番号 | CN1: EXT_ネットワークアドレス | CO1: EXT_デフォルトゲートウェイ | CP1: EXT_IPアドレス | CQ1: EXT_ログインID | CR1: EXT_OSインストールオプション申込み | CS1: EXT_インストールOS種別 | CT1: EXT_備考
A2: * | B2: =IF('設定シート（ベースサーバv3）'!B6=0,"",'設定シート（ベースサーバv3）'!B6) | C2: =IF('設定シート（ベースサーバv3）'!B7=0,"",'設定シート（ベースサーバv3）'!B7) | D2: =IF('設定シート（ベースサーバv3）'!B8=0,"",'設定シート（ベースサーバv3）'!B8) | E2: =IF('設定シート（ベースサーバv3）'!B9=0,"",'設定シート（ベースサーバv3）'!B9) | F2: ='設定シート（ベースサーバv3）'!L12 -> 1 | G2: =IF('設定シート（ベースサーバv3）'!L13=0,"",'設定シート（ベースサーバv3）'!L13) | H2: =IF('設定シート（ベースサーバv3）'!L15=0,"",'設定シート（ベースサーバv3）'!L15) | I2: =IF('設定シート（ベースサーバv3）'!L16=0,"",'設定シート（ベースサーバv3）'!L16) | J2: =IF('設定シート（ベースサーバv3）'!L17=0,"0",'設定シート（ベースサーバv3）'!L17) | K2: =IF('設定シート（ベースサーバv3）'!L18=0,"",'設定シート（ベースサーバv3）'!L18) | L2: =IF('設定シート（ベースサーバv3）'!L19=0,"",'設定シート（ベースサーバv3）'!L19) | M2: =IF('設定シート（ベースサーバv3）'!L20=1,"1",'設定シート（ベースサーバv3）'!L20) | N2: =IF('設定シート（ベースサーバv3）'!L21=0,"",'設定シート（ベースサーバv3）'!L21) | O2: =IF('設定シート（ベースサーバv3）'!L22=0,"",'設定シート（ベースサーバv3）'!L22) | P2: =IF('設定シート（ベースサーバv3）'!L23=0,"",'設定シート（ベースサーバv3）'!L23) | Q2: =IF('設定シート（ベースサーバv3）'!L24=0,"",'設定シート（ベースサーバv3）'!L24) | R2: =IF('設定シート（ベースサーバv3）'!L25=0,"",'設定シート（ベースサーバv3）'!L25) | S2: =IF('設定シート（ベースサーバv3）'!L26=0,"",'設定シート（ベースサーバv3）'!L26) | T2: =IF('設定シート（ベースサーバv3）'!L27=0,"",'設定シート（ベースサーバv3）'!L27) | U2: =IF('設定シート（ベースサーバv3）'!L28=0,"",'設定シート（ベースサーバv3）'!L28) | V2: =IF('設定シート（ベースサーバv3）'!L29=0,"",'設定シート（ベースサーバv3）'!L29) | W2: =IF('設定シート（ベースサーバv3）'!L30=0,"",'設定シート（ベースサーバv3）'!L30) | X2: =IF('設定シート（ベースサーバv3）'!L31=0,"",'設定シート（ベースサーバv3）'!L31) | Y2: =IF('設定シート（ベースサーバv3）'!L32=0,"",'設定シート（ベースサーバv3）'!L32) | Z2: =IF('設定シート（ベースサーバv3）'!L33=0,"",'設定シート（ベースサーバv3）'!L33) | AA2: =IF('設定シート（ベースサーバv3）'!L34=0,"",'設定シート（ベースサーバv3）'!L34) | AB2: =IF('設定シート（ベースサーバv3）'!L35=0,"",'設定シート（ベースサーバv3）'!L35) | AC2: =IF('設定シート（ベースサーバv3）'!L36=0,"",'設定シート（ベースサーバv3）'!L36) | AD2: =IF('設定シート（ベースサーバv3）'!L37=0,"",'設定シート（ベースサーバv3）'!L37) | AE2: =IF('設定シート（ベースサーバv3）'!L38=0,"",'設定シート（ベースサーバv3）'!L38) | AF2: =IF('設定シート（ベースサーバv3）'!L39=0,"",'設定シート（ベースサーバv3）'!L39) | AG2: =IF('設定シート（ベースサーバv3）'!L40=0,"",'設定シート（ベースサーバv3）'!L40) | AH2: =IF('設定シート（ベースサーバv3）'!L41=0,"",'設定シート（ベースサーバv3）'!L41) | AI2: =IF('設定シート（ベースサーバv3）'!L42=0,"",'設定シート（ベースサーバv3）'!L42) | AJ2: =IF('設定シート（ベースサーバv3）'!L43=0,"",'設定シート（ベースサーバv3）'!L43) | AK2: =IF('設定シート（ベースサーバv3）'!L44=0,"",'設定シート（ベースサーバv3）'!L44) | AL2: =IF('設定シート（ベースサーバv3）'!L45=0,"",'設定シート（ベースサーバv3）'!L45) | AM2: =IF('設定シート（ベースサーバv3）'!L46=0,"",'設定シート（ベースサーバv3）'!L46) | AN2: =IF('設定シート（ベースサーバv3）'!L47=0,"",'設定シート（ベースサーバv3）'!L47)
F3: ='設定シート（ベースサーバv3）'!P12 -> 2 | G3: =IF('設定シート（ベースサーバv3）'!P13=0,"",'設定シート（ベースサーバv3）'!P13) | H3: =IF('設定シート（ベースサーバv3）'!P15=0,"",'設定シート（ベースサーバv3）'!P15) | I3: =IF('設定シート（ベースサーバv3）'!P16=0,"",'設定シート（ベースサーバv3）'!P16) | J3: =IF('設定シート（ベースサーバv3）'!P17=0,"0",'設定シート（ベースサーバv3）'!P17) | K3: =IF('設定シート（ベースサーバv3）'!P18=0,"",'設定シート（ベースサーバv3）'!P18) | L3: =IF('設定シート（ベースサーバv3）'!P19=0,"",'設定シート（ベースサーバv3）'!P19) | M3: =IF('設定シート（ベースサーバv3）'!P20=1,"1",'設定シート（ベースサーバv3）'!P20) | N3: =IF('設定シート（ベースサーバv3）'!P21=0,"",'設定シート（ベースサーバv3）'!P21) | O3: =IF('設定シート（ベースサーバv3）'!P22=0,"",'設定シート（ベースサーバv3）'!P22) | P3: =IF('設定シート（ベースサーバv3）'!P23=0,"",'設定シート（ベースサーバv3）'!P23) | Q3: =IF('設定シート（ベースサーバv3）'!P24=0,"",'設定シート（ベースサーバv3）'!P24) | R3: =IF('設定シート（ベースサーバv3）'!P25=0,"",'設定シート（ベースサーバv3）'!P25) | S3: =IF('設定シート（ベースサーバv3）'!P26=0,"",'設定シート（ベースサーバv3）'!P26) | T3: =IF('設定シート（ベースサーバv3）'!P27=0,"",'設定シート（ベースサーバv3）'!P27) | U3: =IF('設定シート（ベースサーバv3）'!P28=0,"",'設定シート（ベースサーバv3）'!P28) | V3: =IF('設定シート（ベースサーバv3）'!P29=0,"",'設定シート（ベースサーバv3）'!P29) | W3: =IF('設定シート（ベースサーバv3）'!P30=0,"",'設定シート（ベースサーバv3）'!P30) | X3: =IF('設定シート（ベースサーバv3）'!P31=0,"",'設定シート（ベースサーバv3）'!P31) | Y3: =IF('設定シート（ベースサーバv3）'!P32=0,"",'設定シート（ベースサーバv3）'!P32) | Z3: =IF('設定シート（ベースサーバv3）'!P33=0,"",'設定シート（ベースサーバv3）'!P33) | AA3: =IF('設定シート（ベースサーバv3）'!P34=0,"",'設定シート（ベースサーバv3）'!P34) | AB3: =IF('設定シート（ベースサーバv3）'!P35=0,"",'設定シート（ベースサーバv3）'!P35) | AC3: =IF('設定シート（ベースサーバv3）'!P36=0,"",'設定シート（ベースサーバv3）'!P36) | AD3: =IF('設定シート（ベースサーバv3）'!P37=0,"",'設定シート（ベースサーバv3）'!P37) | AE3: =IF('設定シート（ベースサーバv3）'!P38=0,"",'設定シート（ベースサーバv3）'!P38) | AF3: =IF('設定シート（ベースサーバv3）'!P39=0,"",'設定シート（ベースサーバv3）'!P39) | AG3: =IF('設定シート（ベースサーバv3）'!P40=0,"",'設定シート（ベースサーバv3）'!P40) | AH3: =IF('設定シート（ベースサーバv3）'!P41=0,"",'設定シート（ベースサーバv3）'!P41) | AI3: =IF('設定シート（ベースサーバv3）'!P42=0,"",'設定シート（ベースサーバv3）'!P42) | AJ3: =IF('設定シート（ベースサーバv3）'!P43=0,"",'設定シート（ベースサーバv3）'!P43) | AK3: =IF('設定シート（ベースサーバv3）'!P44=0,"",'設定シート（ベースサーバv3）'!P44) | AL3: =IF('設定シート（ベースサーバv3）'!P45=0,"",'設定シート（ベースサーバv3）'!P45) | AM3: =IF('設定シート（ベースサーバv3）'!P46=0,"",'設定シート（ベースサーバv3）'!P46) | AN3: =IF('設定シート（ベースサーバv3）'!P47=0,"",'設定シート（ベースサーバv3）'!P47)
F4: ='設定シート（ベースサーバv3）'!T12 -> 3 | G4: =IF('設定シート（ベースサーバv3）'!T13=0,"",'設定シート（ベースサーバv3）'!T13) | H4: =IF('設定シート（ベースサーバv3）'!T15=0,"",'設定シート（ベースサーバv3）'!T15) | I4: =IF('設定シート（ベースサーバv3）'!T16=0,"",'設定シート（ベースサーバv3）'!T16) | J4: =IF('設定シート（ベースサーバv3）'!T17=0,"0",'設定シート（ベースサーバv3）'!T17) | K4: =IF('設定シート（ベースサーバv3）'!T18=0,"",'設定シート（ベースサーバv3）'!T18) | L4: =IF('設定シート（ベースサーバv3）'!T19=0,"",'設定シート（ベースサーバv3）'!T19) | M4: =IF('設定シート（ベースサーバv3）'!T20=1,"1",'設定シート（ベースサーバv3）'!T20) | N4: =IF('設定シート（ベースサーバv3）'!T21=0,"",'設定シート（ベースサーバv3）'!T21) | O4: =IF('設定シート（ベースサーバv3）'!T22=0,"",'設定シート（ベースサーバv3）'!T22) | P4: =IF('設定シート（ベースサーバv3）'!T23=0,"",'設定シート（ベースサーバv3）'!T23) | Q4: =IF('設定シート（ベースサーバv3）'!T24=0,"",'設定シート（ベースサーバv3）'!T24) | R4: =IF('設定シート（ベースサーバv3）'!T25=0,"",'設定シート（ベースサーバv3）'!T25) | S4: =IF('設定シート（ベースサーバv3）'!T26=0,"",'設定シート（ベースサーバv3）'!T26) | T4: =IF('設定シート（ベースサーバv3）'!T27=0,"",'設定シート（ベースサーバv3）'!T27) | U4: =IF('設定シート（ベースサーバv3）'!T28=0,"",'設定シート（ベースサーバv3）'!T28) | V4: =IF('設定シート（ベースサーバv3）'!T29=0,"",'設定シート（ベースサーバv3）'!T29) | W4: =IF('設定シート（ベースサーバv3）'!T30=0,"",'設定シート（ベースサーバv3）'!T30) | X4: =IF('設定シート（ベースサーバv3）'!T31=0,"",'設定シート（ベースサーバv3）'!T31) | Y4: =IF('設定シート（ベースサーバv3）'!T32=0,"",'設定シート（ベースサーバv3）'!T32) | Z4: =IF('設定シート（ベースサーバv3）'!T33=0,"",'設定シート（ベースサーバv3）'!T33) | AA4: =IF('設定シート（ベースサーバv3）'!T34=0,"",'設定シート（ベースサーバv3）'!T34) | AB4: =IF('設定シート（ベースサーバv3）'!T35=0,"",'設定シート（ベースサーバv3）'!T35) | AC4: =IF('設定シート（ベースサーバv3）'!T36=0,"",'設定シート（ベースサーバv3）'!T36) | AD4: =IF('設定シート（ベースサーバv3）'!T37=0,"",'設定シート（ベースサーバv3）'!T37) | AE4: =IF('設定シート（ベースサーバv3）'!T38=0,"",'設定シート（ベースサーバv3）'!T38) | AF4: =IF('設定シート（ベースサーバv3）'!T39=0,"",'設定シート（ベースサーバv3）'!T39) | AG4: =IF('設定シート（ベースサーバv3）'!T40=0,"",'設定シート（ベースサーバv3）'!T40) | AH4: =IF('設定シート（ベースサーバv3）'!T41=0,"",'設定シート（ベースサーバv3）'!T41) | AI4: =IF('設定シート（ベースサーバv3）'!T42=0,"",'設定シート（ベースサーバv3）'!T42) | AJ4: =IF('設定シート（ベースサーバv3）'!T43=0,"",'設定シート（ベースサーバv3）'!T43) | AK4: =IF('設定シート（ベースサーバv3）'!T44=0,"",'設定シート（ベースサーバv3）'!T44) | AL4: =IF('設定シート（ベースサーバv3）'!T45=0,"",'設定シート（ベースサーバv3）'!T45) | AM4: =IF('設定シート（ベースサーバv3）'!T46=0,"",'設定シート（ベースサーバv3）'!T46) | AN4: =IF('設定シート（ベースサーバv3）'!T47=0,"",'設定シート（ベースサーバv3）'!T47)
F5: ='設定シート（ベースサーバv3）'!X12 -> 4 | G5: =IF('設定シート（ベースサーバv3）'!X13=0,"",'設定シート（ベースサーバv3）'!X13) | H5: =IF('設定シート（ベースサーバv3）'!X15=0,"",'設定シート（ベースサーバv3）'!X15) | I5: =IF('設定シート（ベースサーバv3）'!X16=0,"",'設定シート（ベースサーバv3）'!X16) | J5: =IF('設定シート（ベースサーバv3）'!X17=0,"0",'設定シート（ベースサーバv3）'!X17) | K5: =IF('設定シート（ベースサーバv3）'!X18=0,"",'設定シート（ベースサーバv3）'!X18) | L5: =IF('設定シート（ベースサーバv3）'!X19=0,"",'設定シート（ベースサーバv3）'!X19) | M5: =IF('設定シート（ベースサーバv3）'!X20=1,"1",'設定シート（ベースサーバv3）'!X20) | N5: =IF('設定シート（ベースサーバv3）'!X21=0,"",'設定シート（ベースサーバv3）'!X21) | O5: =IF('設定シート（ベースサーバv3）'!X22=0,"",'設定シート（ベースサーバv3）'!X22) | P5: =IF('設定シート（ベースサーバv3）'!X23=0,"",'設定シート（ベースサーバv3）'!X23) | Q5: =IF('設定シート（ベースサーバv3）'!X24=0,"",'設定シート（ベースサーバv3）'!X24) | R5: =IF('設定シート（ベースサーバv3）'!X25=0,"",'設定シート（ベースサーバv3）'!X25) | S5: =IF('設定シート（ベースサーバv3）'!X26=0,"",'設定シート（ベースサーバv3）'!X26) | T5: =IF('設定シート（ベースサーバv3）'!X27=0,"",'設定シート（ベースサーバv3）'!X27) | U5: =IF('設定シート（ベースサーバv3）'!X28=0,"",'設定シート（ベースサーバv3）'!X28) | V5: =IF('設定シート（ベースサーバv3）'!X29=0,"",'設定シート（ベースサーバv3）'!X29) | W5: =IF('設定シート（ベースサーバv3）'!X30=0,"",'設定シート（ベースサーバv3）'!X30) | X5: =IF('設定シート（ベースサーバv3）'!X31=0,"",'設定シート（ベースサーバv3）'!X31) | Y5: =IF('設定シート（ベースサーバv3）'!X32=0,"",'設定シート（ベースサーバv3）'!X32) | Z5: =IF('設定シート（ベースサーバv3）'!X33=0,"",'設定シート（ベースサーバv3）'!X33) | AA5: =IF('設定シート（ベースサーバv3）'!X34=0,"",'設定シート（ベースサーバv3）'!X34) | AB5: =IF('設定シート（ベースサーバv3）'!X35=0,"",'設定シート（ベースサーバv3）'!X35) | AC5: =IF('設定シート（ベースサーバv3）'!X36=0,"",'設定シート（ベースサーバv3）'!X36) | AD5: =IF('設定シート（ベースサーバv3）'!X37=0,"",'設定シート（ベースサーバv3）'!X37) | AE5: =IF('設定シート（ベースサーバv3）'!X38=0,"",'設定シート（ベースサーバv3）'!X38) | AF5: =IF('設定シート（ベースサーバv3）'!X39=0,"",'設定シート（ベースサーバv3）'!X39) | AG5: =IF('設定シート（ベースサーバv3）'!X40=0,"",'設定シート（ベースサーバv3）'!X40) | AH5: =IF('設定シート（ベースサーバv3）'!X41=0,"",'設定シート（ベースサーバv3）'!X41) | AI5: =IF('設定シート（ベースサーバv3）'!X42=0,"",'設定シート（ベースサーバv3）'!X42) | AJ5: =IF('設定シート（ベースサーバv3）'!X43=0,"",'設定シート（ベースサーバv3）'!X43) | AK5: =IF('設定シート（ベースサーバv3）'!X44=0,"",'設定シート（ベースサーバv3）'!X44) | AL5: =IF('設定シート（ベースサーバv3）'!X45=0,"",'設定シート（ベースサーバv3）'!X45) | AM5: =IF('設定シート（ベースサーバv3）'!X46=0,"",'設定シート（ベースサーバv3）'!X46) | AN5: =IF('設定シート（ベースサーバv3）'!X47=0,"",'設定シート（ベースサーバv3）'!X47)
F6: ='設定シート（ベースサーバv3）'!AB12 -> 5 | G6: =IF('設定シート（ベースサーバv3）'!AB13=0,"",'設定シート（ベースサーバv3）'!AB13) | H6: =IF('設定シート（ベースサーバv3）'!AB15=0,"",'設定シート（ベースサーバv3）'!AB15) | I6: =IF('設定シート（ベースサーバv3）'!AB16=0,"",'設定シート（ベースサーバv3）'!AB16) | J6: =IF('設定シート（ベースサーバv3）'!AB17=0,"0",'設定シート（ベースサーバv3）'!AB17) | K6: =IF('設定シート（ベースサーバv3）'!AB18=0,"",'設定シート（ベースサーバv3）'!AB18) | L6: =IF('設定シート（ベースサーバv3）'!AB19=0,"",'設定シート（ベースサーバv3）'!AB19) | M6: =IF('設定シート（ベースサーバv3）'!AB20=1,"1",'設定シート（ベースサーバv3）'!AB20) | N6: =IF('設定シート（ベースサーバv3）'!AB21=0,"",'設定シート（ベースサーバv3）'!AB21) | O6: =IF('設定シート（ベースサーバv3）'!AB22=0,"",'設定シート（ベースサーバv3）'!AB22) | P6: =IF('設定シート（ベースサーバv3）'!AB23=0,"",'設定シート（ベースサーバv3）'!AB23) | Q6: =IF('設定シート（ベースサーバv3）'!AB24=0,"",'設定シート（ベースサーバv3）'!AB24) | R6: =IF('設定シート（ベースサーバv3）'!AB25=0,"",'設定シート（ベースサーバv3）'!AB25) | S6: =IF('設定シート（ベースサーバv3）'!AB26=0,"",'設定シート（ベースサーバv3）'!AB26) | T6: =IF('設定シート（ベースサーバv3）'!AB27=0,"",'設定シート（ベースサーバv3）'!AB27) | U6: =IF('設定シート（ベースサーバv3）'!AB28=0,"",'設定シート（ベースサーバv3）'!AB28) | V6: =IF('設定シート（ベースサーバv3）'!AB29=0,"",'設定シート（ベースサーバv3）'!AB29) | W6: =IF('設定シート（ベースサーバv3）'!AB30=0,"",'設定シート（ベースサーバv3）'!AB30) | X6: =IF('設定シート（ベースサーバv3）'!AB31=0,"",'設定シート（ベースサーバv3）'!AB31) | Y6: =IF('設定シート（ベースサーバv3）'!AB32=0,"",'設定シート（ベースサーバv3）'!AB32) | Z6: =IF('設定シート（ベースサーバv3）'!AB33=0,"",'設定シート（ベースサーバv3）'!AB33) | AA6: =IF('設定シート（ベースサーバv3）'!AB34=0,"",'設定シート（ベースサーバv3）'!AB34) | AB6: =IF('設定シート（ベースサーバv3）'!AB35=0,"",'設定シート（ベースサーバv3）'!AB35) | AC6: =IF('設定シート（ベースサーバv3）'!AB36=0,"",'設定シート（ベースサーバv3）'!AB36) | AD6: =IF('設定シート（ベースサーバv3）'!AB37=0,"",'設定シート（ベースサーバv3）'!AB37) | AE6: =IF('設定シート（ベースサーバv3）'!AB38=0,"",'設定シート（ベースサーバv3）'!AB38) | AF6: =IF('設定シート（ベースサーバv3）'!AB39=0,"",'設定シート（ベースサーバv3）'!AB39) | AG6: =IF('設定シート（ベースサーバv3）'!AB40=0,"",'設定シート（ベースサーバv3）'!AB40) | AH6: =IF('設定シート（ベースサーバv3）'!AB41=0,"",'設定シート（ベースサーバv3）'!AB41) | AI6: =IF('設定シート（ベースサーバv3）'!AB42=0,"",'設定シート（ベースサーバv3）'!AB42) | AJ6: =IF('設定シート（ベースサーバv3）'!AB43=0,"",'設定シート（ベースサーバv3）'!AB43) | AK6: =IF('設定シート（ベースサーバv3）'!AB44=0,"",'設定シート（ベースサーバv3）'!AB44) | AL6: =IF('設定シート（ベースサーバv3）'!AB45=0,"",'設定シート（ベースサーバv3）'!AB45) | AM6: =IF('設定シート（ベースサーバv3）'!AB46=0,"",'設定シート（ベースサーバv3）'!AB46) | AN6: =IF('設定シート（ベースサーバv3）'!AB47=0,"",'設定シート（ベースサーバv3）'!AB47)
F7: ='設定シート（ベースサーバv3）'!AF12 -> 6 | G7: =IF('設定シート（ベースサーバv3）'!AF13=0,"",'設定シート（ベースサーバv3）'!AF13) | H7: =IF('設定シート（ベースサーバv3）'!AF15=0,"",'設定シート（ベースサーバv3）'!AF15) | I7: =IF('設定シート（ベースサーバv3）'!AF16=0,"",'設定シート（ベースサーバv3）'!AF16) | J7: =IF('設定シート（ベースサーバv3）'!AF17=0,"0",'設定シート（ベースサーバv3）'!AF17) | K7: =IF('設定シート（ベースサーバv3）'!AF18=0,"",'設定シート（ベースサーバv3）'!AF18) | L7: =IF('設定シート（ベースサーバv3）'!AF19=0,"",'設定シート（ベースサーバv3）'!AF19) | M7: =IF('設定シート（ベースサーバv3）'!AF20=1,"1",'設定シート（ベースサーバv3）'!AF20) | N7: =IF('設定シート（ベースサーバv3）'!AF21=0,"",'設定シート（ベースサーバv3）'!AF21) | O7: =IF('設定シート（ベースサーバv3）'!AF22=0,"",'設定シート（ベースサーバv3）'!AF22) | P7: =IF('設定シート（ベースサーバv3）'!AF23=0,"",'設定シート（ベースサーバv3）'!AF23) | Q7: =IF('設定シート（ベースサーバv3）'!AF24=0,"",'設定シート（ベースサーバv3）'!AF24) | R7: =IF('設定シート（ベースサーバv3）'!AF25=0,"",'設定シート（ベースサーバv3）'!AF25) | S7: =IF('設定シート（ベースサーバv3）'!AF26=0,"",'設定シート（ベースサーバv3）'!AF26) | T7: =IF('設定シート（ベースサーバv3）'!AF27=0,"",'設定シート（ベースサーバv3）'!AF27) | U7: =IF('設定シート（ベースサーバv3）'!AF28=0,"",'設定シート（ベースサーバv3）'!AF28) | V7: =IF('設定シート（ベースサーバv3）'!AF29=0,"",'設定シート（ベースサーバv3）'!AF29) | W7: =IF('設定シート（ベースサーバv3）'!AF30=0,"",'設定シート（ベースサーバv3）'!AF30) | X7: =IF('設定シート（ベースサーバv3）'!AF31=0,"",'設定シート（ベースサーバv3）'!AF31) | Y7: =IF('設定シート（ベースサーバv3）'!AF32=0,"",'設定シート（ベースサーバv3）'!AF32) | Z7: =IF('設定シート（ベースサーバv3）'!AF33=0,"",'設定シート（ベースサーバv3）'!AF33) | AA7: =IF('設定シート（ベースサーバv3）'!AF34=0,"",'設定シート（ベースサーバv3）'!AF34) | AB7: =IF('設定シート（ベースサーバv3）'!AF35=0,"",'設定シート（ベースサーバv3）'!AF35) | AC7: =IF('設定シート（ベースサーバv3）'!AF36=0,"",'設定シート（ベースサーバv3）'!AF36) | AD7: =IF('設定シート（ベースサーバv3）'!AF37=0,"",'設定シート（ベースサーバv3）'!AF37) | AE7: =IF('設定シート（ベースサーバv3）'!AF38=0,"",'設定シート（ベースサーバv3）'!AF38) | AF7: =IF('設定シート（ベースサーバv3）'!AF39=0,"",'設定シート（ベースサーバv3）'!AF39) | AG7: =IF('設定シート（ベースサーバv3）'!AF40=0,"",'設定シート（ベースサーバv3）'!AF40) | AH7: =IF('設定シート（ベースサーバv3）'!AF41=0,"",'設定シート（ベースサーバv3）'!AF41) | AI7: =IF('設定シート（ベースサーバv3）'!AF42=0,"",'設定シート（ベースサーバv3）'!AF42) | AJ7: =IF('設定シート（ベースサーバv3）'!AF43=0,"",'設定シート（ベースサーバv3）'!AF43) | AK7: =IF('設定シート（ベースサーバv3）'!AF44=0,"",'設定シート（ベースサーバv3）'!AF44) | AL7: =IF('設定シート（ベースサーバv3）'!AF45=0,"",'設定シート（ベースサーバv3）'!AF45) | AM7: =IF('設定シート（ベースサーバv3）'!AF46=0,"",'設定シート（ベースサーバv3）'!AF46) | AN7: =IF('設定シート（ベースサーバv3）'!AF47=0,"",'設定シート（ベースサーバv3）'!AF47)
F8: ='設定シート（ベースサーバv3）'!AJ12 -> 7 | G8: =IF('設定シート（ベースサーバv3）'!AJ13=0,"",'設定シート（ベースサーバv3）'!AJ13) | H8: =IF('設定シート（ベースサーバv3）'!AJ15=0,"",'設定シート（ベースサーバv3）'!AJ15) | I8: =IF('設定シート（ベースサーバv3）'!AJ16=0,"",'設定シート（ベースサーバv3）'!AJ16) | J8: =IF('設定シート（ベースサーバv3）'!AJ17=0,"0",'設定シート（ベースサーバv3）'!AJ17) | K8: =IF('設定シート（ベースサーバv3）'!AJ18=0,"",'設定シート（ベースサーバv3）'!AJ18) | L8: =IF('設定シート（ベースサーバv3）'!AJ19=0,"",'設定シート（ベースサーバv3）'!AJ19) | M8: =IF('設定シート（ベースサーバv3）'!AJ20=1,"1",'設定シート（ベースサーバv3）'!AJ20) | N8: =IF('設定シート（ベースサーバv3）'!AJ21=0,"",'設定シート（ベースサーバv3）'!AJ21) | O8: =IF('設定シート（ベースサーバv3）'!AJ22=0,"",'設定シート（ベースサーバv3）'!AJ22) | P8: =IF('設定シート（ベースサーバv3）'!AJ23=0,"",'設定シート（ベースサーバv3）'!AJ23) | Q8: =IF('設定シート（ベースサーバv3）'!AJ24=0,"",'設定シート（ベースサーバv3）'!AJ24) | R8: =IF('設定シート（ベースサーバv3）'!AJ25=0,"",'設定シート（ベースサーバv3）'!AJ25) | S8: =IF('設定シート（ベースサーバv3）'!AJ26=0,"",'設定シート（ベースサーバv3）'!AJ26) | T8: =IF('設定シート（ベースサーバv3）'!AJ27=0,"",'設定シート（ベースサーバv3）'!AJ27) | U8: =IF('設定シート（ベースサーバv3）'!AJ28=0,"",'設定シート（ベースサーバv3）'!AJ28) | V8: =IF('設定シート（ベースサーバv3）'!AJ29=0,"",'設定シート（ベースサーバv3）'!AJ29) | W8: =IF('設定シート（ベースサーバv3）'!AJ30=0,"",'設定シート（ベースサーバv3）'!AJ30) | X8: =IF('設定シート（ベースサーバv3）'!AJ31=0,"",'設定シート（ベースサーバv3）'!AJ31) | Y8: =IF('設定シート（ベースサーバv3）'!AJ32=0,"",'設定シート（ベースサーバv3）'!AJ32) | Z8: =IF('設定シート（ベースサーバv3）'!AJ33=0,"",'設定シート（ベースサーバv3）'!AJ33) | AA8: =IF('設定シート（ベースサーバv3）'!AJ34=0,"",'設定シート（ベースサーバv3）'!AJ34) | AB8: =IF('設定シート（ベースサーバv3）'!AJ35=0,"",'設定シート（ベースサーバv3）'!AJ35) | AC8: =IF('設定シート（ベースサーバv3）'!AJ36=0,"",'設定シート（ベースサーバv3）'!AJ36) | AD8: =IF('設定シート（ベースサーバv3）'!AJ37=0,"",'設定シート（ベースサーバv3）'!AJ37) | AE8: =IF('設定シート（ベースサーバv3）'!AJ38=0,"",'設定シート（ベースサーバv3）'!AJ38) | AF8: =IF('設定シート（ベースサーバv3）'!AJ39=0,"",'設定シート（ベースサーバv3）'!AJ39) | AG8: =IF('設定シート（ベースサーバv3）'!AJ40=0,"",'設定シート（ベースサーバv3）'!AJ40) | AH8: =IF('設定シート（ベースサーバv3）'!AJ41=0,"",'設定シート（ベースサーバv3）'!AJ41) | AI8: =IF('設定シート（ベースサーバv3）'!AJ42=0,"",'設定シート（ベースサーバv3）'!AJ42) | AJ8: =IF('設定シート（ベースサーバv3）'!AJ43=0,"",'設定シート（ベースサーバv3）'!AJ43) | AK8: =IF('設定シート（ベースサーバv3）'!AJ44=0,"",'設定シート（ベースサーバv3）'!AJ44) | AL8: =IF('設定シート（ベースサーバv3）'!AJ45=0,"",'設定シート（ベースサーバv3）'!AJ45) | AM8: =IF('設定シート（ベースサーバv3）'!AJ46=0,"",'設定シート（ベースサーバv3）'!AJ46) | AN8: =IF('設定シート（ベースサーバv3）'!AJ47=0,"",'設定シート（ベースサーバv3）'!AJ47)
F9: ='設定シート（ベースサーバv3）'!AN12 -> 8 | G9: =IF('設定シート（ベースサーバv3）'!AN13=0,"",'設定シート（ベースサーバv3）'!AN13) | H9: =IF('設定シート（ベースサーバv3）'!AN15=0,"",'設定シート（ベースサーバv3）'!AN15) | I9: =IF('設定シート（ベースサーバv3）'!AN16=0,"",'設定シート（ベースサーバv3）'!AN16) | J9: =IF('設定シート（ベースサーバv3）'!AN17=0,"0",'設定シート（ベースサーバv3）'!AN17) | K9: =IF('設定シート（ベースサーバv3）'!AN18=0,"",'設定シート（ベースサーバv3）'!AN18) | L9: =IF('設定シート（ベースサーバv3）'!AN19=0,"",'設定シート（ベースサーバv3）'!AN19) | M9: =IF('設定シート（ベースサーバv3）'!AN20=1,"1",'設定シート（ベースサーバv3）'!AN20) | N9: =IF('設定シート（ベースサーバv3）'!AN21=0,"",'設定シート（ベースサーバv3）'!AN21) | O9: =IF('設定シート（ベースサーバv3）'!AN22=0,"",'設定シート（ベースサーバv3）'!AN22) | P9: =IF('設定シート（ベースサーバv3）'!AN23=0,"",'設定シート（ベースサーバv3）'!AN23) | Q9: =IF('設定シート（ベースサーバv3）'!AN24=0,"",'設定シート（ベースサーバv3）'!AN24) | R9: =IF('設定シート（ベースサーバv3）'!AN25=0,"",'設定シート（ベースサーバv3）'!AN25) | S9: =IF('設定シート（ベースサーバv3）'!AN26=0,"",'設定シート（ベースサーバv3）'!AN26) | T9: =IF('設定シート（ベースサーバv3）'!AN27=0,"",'設定シート（ベースサーバv3）'!AN27) | U9: =IF('設定シート（ベースサーバv3）'!AN28=0,"",'設定シート（ベースサーバv3）'!AN28) | V9: =IF('設定シート（ベースサーバv3）'!AN29=0,"",'設定シート（ベースサーバv3）'!AN29) | W9: =IF('設定シート（ベースサーバv3）'!AN30=0,"",'設定シート（ベースサーバv3）'!AN30) | X9: =IF('設定シート（ベースサーバv3）'!AN31=0,"",'設定シート（ベースサーバv3）'!AN31) | Y9: =IF('設定シート（ベースサーバv3）'!AN32=0,"",'設定シート（ベースサーバv3）'!AN32) | Z9: =IF('設定シート（ベースサーバv3）'!AN33=0,"",'設定シート（ベースサーバv3）'!AN33) | AA9: =IF('設定シート（ベースサーバv3）'!AN34=0,"",'設定シート（ベースサーバv3）'!AN34) | AB9: =IF('設定シート（ベースサーバv3）'!AN35=0,"",'設定シート（ベースサーバv3）'!AN35) | AC9: =IF('設定シート（ベースサーバv3）'!AN36=0,"",'設定シート（ベースサーバv3）'!AN36) | AD9: =IF('設定シート（ベースサーバv3）'!AN37=0,"",'設定シート（ベースサーバv3）'!AN37) | AE9: =IF('設定シート（ベースサーバv3）'!AN38=0,"",'設定シート（ベースサーバv3）'!AN38) | AF9: =IF('設定シート（ベースサーバv3）'!AN39=0,"",'設定シート（ベースサーバv3）'!AN39) | AG9: =IF('設定シート（ベースサーバv3）'!AN40=0,"",'設定シート（ベースサーバv3）'!AN40) | AH9: =IF('設定シート（ベースサーバv3）'!AN41=0,"",'設定シート（ベースサーバv3）'!AN41) | AI9: =IF('設定シート（ベースサーバv3）'!AN42=0,"",'設定シート（ベースサーバv3）'!AN42) | AJ9: =IF('設定シート（ベースサーバv3）'!AN43=0,"",'設定シート（ベースサーバv3）'!AN43) | AK9: =IF('設定シート（ベースサーバv3）'!AN44=0,"",'設定シート（ベースサーバv3）'!AN44) | AL9: =IF('設定シート（ベースサーバv3）'!AN45=0,"",'設定シート（ベースサーバv3）'!AN45) | AM9: =IF('設定シート（ベースサーバv3）'!AN46=0,"",'設定シート（ベースサーバv3）'!AN46) | AN9: =IF('設定シート（ベースサーバv3）'!AN47=0,"",'設定シート（ベースサーバv3）'!AN47)
F10: ='設定シート（ベースサーバv3）'!AR12 -> 9 | G10: =IF('設定シート（ベースサーバv3）'!AR13=0,"",'設定シート（ベースサーバv3）'!AR13) | H10: =IF('設定シート（ベースサーバv3）'!AR15=0,"",'設定シート（ベースサーバv3）'!AR15) | I10: =IF('設定シート（ベースサーバv3）'!AR16=0,"",'設定シート（ベースサーバv3）'!AR16) | J10: =IF('設定シート（ベースサーバv3）'!AR17=0,"0",'設定シート（ベースサーバv3）'!AR17) | K10: =IF('設定シート（ベースサーバv3）'!AR18=0,"",'設定シート（ベースサーバv3）'!AR18) | L10: =IF('設定シート（ベースサーバv3）'!AR19=0,"",'設定シート（ベースサーバv3）'!AR19) | M10: =IF('設定シート（ベースサーバv3）'!AR20=1,"1",'設定シート（ベースサーバv3）'!AR20) | N10: =IF('設定シート（ベースサーバv3）'!AR21=0,"",'設定シート（ベースサーバv3）'!AR21) | O10: =IF('設定シート（ベースサーバv3）'!AR22=0,"",'設定シート（ベースサーバv3）'!AR22) | P10: =IF('設定シート（ベースサーバv3）'!AR23=0,"",'設定シート（ベースサーバv3）'!AR23) | Q10: =IF('設定シート（ベースサーバv3）'!AR24=0,"",'設定シート（ベースサーバv3）'!AR24) | R10: =IF('設定シート（ベースサーバv3）'!AR25=0,"",'設定シート（ベースサーバv3）'!AR25) | S10: =IF('設定シート（ベースサーバv3）'!AR26=0,"",'設定シート（ベースサーバv3）'!AR26) | T10: =IF('設定シート（ベースサーバv3）'!AR27=0,"",'設定シート（ベースサーバv3）'!AR27) | U10: =IF('設定シート（ベースサーバv3）'!AR28=0,"",'設定シート（ベースサーバv3）'!AR28) | V10: =IF('設定シート（ベースサーバv3）'!AR29=0,"",'設定シート（ベースサーバv3）'!AR29) | W10: =IF('設定シート（ベースサーバv3）'!AR30=0,"",'設定シート（ベースサーバv3）'!AR30) | X10: =IF('設定シート（ベースサーバv3）'!AR31=0,"",'設定シート（ベースサーバv3）'!AR31) | Y10: =IF('設定シート（ベースサーバv3）'!AR32=0,"",'設定シート（ベースサーバv3）'!AR32) | Z10: =IF('設定シート（ベースサーバv3）'!AR33=0,"",'設定シート（ベースサーバv3）'!AR33) | AA10: =IF('設定シート（ベースサーバv3）'!AR34=0,"",'設定シート（ベースサーバv3）'!AR34) | AB10: =IF('設定シート（ベースサーバv3）'!AR35=0,"",'設定シート（ベースサーバv3）'!AR35) | AC10: =IF('設定シート（ベースサーバv3）'!AR36=0,"",'設定シート（ベースサーバv3）'!AR36) | AD10: =IF('設定シート（ベースサーバv3）'!AR37=0,"",'設定シート（ベースサーバv3）'!AR37) | AE10: =IF('設定シート（ベースサーバv3）'!AR38=0,"",'設定シート（ベースサーバv3）'!AR38) | AF10: =IF('設定シート（ベースサーバv3）'!AR39=0,"",'設定シート（ベースサーバv3）'!AR39) | AG10: =IF('設定シート（ベースサーバv3）'!AR40=0,"",'設定シート（ベースサーバv3）'!AR40) | AH10: =IF('設定シート（ベースサーバv3）'!AR41=0,"",'設定シート（ベースサーバv3）'!AR41) | AI10: =IF('設定シート（ベースサーバv3）'!AR42=0,"",'設定シート（ベースサーバv3）'!AR42) | AJ10: =IF('設定シート（ベースサーバv3）'!AR43=0,"",'設定シート（ベースサーバv3）'!AR43) | AK10: =IF('設定シート（ベースサーバv3）'!AR44=0,"",'設定シート（ベースサーバv3）'!AR44) | AL10: =IF('設定シート（ベースサーバv3）'!AR45=0,"",'設定シート（ベースサーバv3）'!AR45) | AM10: =IF('設定シート（ベースサーバv3）'!AR46=0,"",'設定シート（ベースサーバv3）'!AR46) | AN10: =IF('設定シート（ベースサーバv3）'!AR47=0,"",'設定シート（ベースサーバv3）'!AR47)
F11: ='設定シート（ベースサーバv3）'!AV12 -> 10 | G11: =IF('設定シート（ベースサーバv3）'!AV13=0,"",'設定シート（ベースサーバv3）'!AV13) | H11: =IF('設定シート（ベースサーバv3）'!AV15=0,"",'設定シート（ベースサーバv3）'!AV15) | I11: =IF('設定シート（ベースサーバv3）'!AV16=0,"",'設定シート（ベースサーバv3）'!AV16) | J11: =IF('設定シート（ベースサーバv3）'!AV17=0,"0",'設定シート（ベースサーバv3）'!AV17) | K11: =IF('設定シート（ベースサーバv3）'!AV18=0,"",'設定シート（ベースサーバv3）'!AV18) | L11: =IF('設定シート（ベースサーバv3）'!AV19=0,"",'設定シート（ベースサーバv3）'!AV19) | M11: =IF('設定シート（ベースサーバv3）'!AV20=1,"1",'設定シート（ベースサーバv3）'!AV20) | N11: =IF('設定シート（ベースサーバv3）'!AV21=0,"",'設定シート（ベースサーバv3）'!AV21) | O11: =IF('設定シート（ベースサーバv3）'!AV22=0,"",'設定シート（ベースサーバv3）'!AV22) | P11: =IF('設定シート（ベースサーバv3）'!AV23=0,"",'設定シート（ベースサーバv3）'!AV23) | Q11: =IF('設定シート（ベースサーバv3）'!AV24=0,"",'設定シート（ベースサーバv3）'!AV24) | R11: =IF('設定シート（ベースサーバv3）'!AV25=0,"",'設定シート（ベースサーバv3）'!AV25) | S11: =IF('設定シート（ベースサーバv3）'!AV26=0,"",'設定シート（ベースサーバv3）'!AV26) | T11: =IF('設定シート（ベースサーバv3）'!AV27=0,"",'設定シート（ベースサーバv3）'!AV27) | U11: =IF('設定シート（ベースサーバv3）'!AV28=0,"",'設定シート（ベースサーバv3）'!AV28) | V11: =IF('設定シート（ベースサーバv3）'!AV29=0,"",'設定シート（ベースサーバv3）'!AV29) | W11: =IF('設定シート（ベースサーバv3）'!AV30=0,"",'設定シート（ベースサーバv3）'!AV30) | X11: =IF('設定シート（ベースサーバv3）'!AV31=0,"",'設定シート（ベースサーバv3）'!AV31) | Y11: =IF('設定シート（ベースサーバv3）'!AV32=0,"",'設定シート（ベースサーバv3）'!AV32) | Z11: =IF('設定シート（ベースサーバv3）'!AV33=0,"",'設定シート（ベースサーバv3）'!AV33) | AA11: =IF('設定シート（ベースサーバv3）'!AV34=0,"",'設定シート（ベースサーバv3）'!AV34) | AB11: =IF('設定シート（ベースサーバv3）'!AV35=0,"",'設定シート（ベースサーバv3）'!AV35) | AC11: =IF('設定シート（ベースサーバv3）'!AV36=0,"",'設定シート（ベースサーバv3）'!AV36) | AD11: =IF('設定シート（ベースサーバv3）'!AV37=0,"",'設定シート（ベースサーバv3）'!AV37) | AE11: =IF('設定シート（ベースサーバv3）'!AV38=0,"",'設定シート（ベースサーバv3）'!AV38) | AF11: =IF('設定シート（ベースサーバv3）'!AV39=0,"",'設定シート（ベースサーバv3）'!AV39) | AG11: =IF('設定シート（ベースサーバv3）'!AV40=0,"",'設定シート（ベースサーバv3）'!AV40) | AH11: =IF('設定シート（ベースサーバv3）'!AV41=0,"",'設定シート（ベースサーバv3）'!AV41) | AI11: =IF('設定シート（ベースサーバv3）'!AV42=0,"",'設定シート（ベースサーバv3）'!AV42) | AJ11: =IF('設定シート（ベースサーバv3）'!AV43=0,"",'設定シート（ベースサーバv3）'!AV43) | AK11: =IF('設定シート（ベースサーバv3）'!AV44=0,"",'設定シート（ベースサーバv3）'!AV44) | AL11: =IF('設定シート（ベースサーバv3）'!AV45=0,"",'設定シート（ベースサーバv3）'!AV45) | AM11: =IF('設定シート（ベースサーバv3）'!AV46=0,"",'設定シート（ベースサーバv3）'!AV46) | AN11: =IF('設定シート（ベースサーバv3）'!AV47=0,"",'設定シート（ベースサーバv3）'!AV47)
F12: ='設定シート（ベースサーバv3）'!AZ12 -> 11 | G12: =IF('設定シート（ベースサーバv3）'!AZ13=0,"",'設定シート（ベースサーバv3）'!AZ13) | H12: =IF('設定シート（ベースサーバv3）'!AZ15=0,"",'設定シート（ベースサーバv3）'!AZ15) | I12: =IF('設定シート（ベースサーバv3）'!AZ16=0,"",'設定シート（ベースサーバv3）'!AZ16) | J12: =IF('設定シート（ベースサーバv3）'!AZ17=0,"0",'設定シート（ベースサーバv3）'!AZ17) | K12: =IF('設定シート（ベースサーバv3）'!AZ18=0,"",'設定シート（ベースサーバv3）'!AZ18) | L12: =IF('設定シート（ベースサーバv3）'!AZ19=0,"",'設定シート（ベースサーバv3）'!AZ19) | M12: =IF('設定シート（ベースサーバv3）'!AZ20=1,"1",'設定シート（ベースサーバv3）'!AZ20) | N12: =IF('設定シート（ベースサーバv3）'!AZ21=0,"",'設定シート（ベースサーバv3）'!AZ21) | O12: =IF('設定シート（ベースサーバv3）'!AZ22=0,"",'設定シート（ベースサーバv3）'!AZ22) | P12: =IF('設定シート（ベースサーバv3）'!AZ23=0,"",'設定シート（ベースサーバv3）'!AZ23) | Q12: =IF('設定シート（ベースサーバv3）'!AZ24=0,"",'設定シート（ベースサーバv3）'!AZ24) | R12: =IF('設定シート（ベースサーバv3）'!AZ25=0,"",'設定シート（ベースサーバv3）'!AZ25) | S12: =IF('設定シート（ベースサーバv3）'!AZ26=0,"",'設定シート（ベースサーバv3）'!AZ26) | T12: =IF('設定シート（ベースサーバv3）'!AZ27=0,"",'設定シート（ベースサーバv3）'!AZ27) | U12: =IF('設定シート（ベースサーバv3）'!AZ28=0,"",'設定シート（ベースサーバv3）'!AZ28) | V12: =IF('設定シート（ベースサーバv3）'!AZ29=0,"",'設定シート（ベースサーバv3）'!AZ29) | W12: =IF('設定シート（ベースサーバv3）'!AZ30=0,"",'設定シート（ベースサーバv3）'!AZ30) | X12: =IF('設定シート（ベースサーバv3）'!AZ31=0,"",'設定シート（ベースサーバv3）'!AZ31) | Y12: =IF('設定シート（ベースサーバv3）'!AZ32=0,"",'設定シート（ベースサーバv3）'!AZ32) | Z12: =IF('設定シート（ベースサーバv3）'!AZ33=0,"",'設定シート（ベースサーバv3）'!AZ33) | AA12: =IF('設定シート（ベースサーバv3）'!AZ34=0,"",'設定シート（ベースサーバv3）'!AZ34) | AB12: =IF('設定シート（ベースサーバv3）'!AZ35=0,"",'設定シート（ベースサーバv3）'!AZ35) | AC12: =IF('設定シート（ベースサーバv3）'!AZ36=0,"",'設定シート（ベースサーバv3）'!AZ36) | AD12: =IF('設定シート（ベースサーバv3）'!AZ37=0,"",'設定シート（ベースサーバv3）'!AZ37) | AE12: =IF('設定シート（ベースサーバv3）'!AZ38=0,"",'設定シート（ベースサーバv3）'!AZ38) | AF12: =IF('設定シート（ベースサーバv3）'!AZ39=0,"",'設定シート（ベースサーバv3）'!AZ39) | AG12: =IF('設定シート（ベースサーバv3）'!AZ40=0,"",'設定シート（ベースサーバv3）'!AZ40) | AH12: =IF('設定シート（ベースサーバv3）'!AZ41=0,"",'設定シート（ベースサーバv3）'!AZ41) | AI12: =IF('設定シート（ベースサーバv3）'!AZ42=0,"",'設定シート（ベースサーバv3）'!AZ42) | AJ12: =IF('設定シート（ベースサーバv3）'!AZ43=0,"",'設定シート（ベースサーバv3）'!AZ43) | AK12: =IF('設定シート（ベースサーバv3）'!AZ44=0,"",'設定シート（ベースサーバv3）'!AZ44) | AL12: =IF('設定シート（ベースサーバv3）'!AZ45=0,"",'設定シート（ベースサーバv3）'!AZ45) | AM12: =IF('設定シート（ベースサーバv3）'!AZ46=0,"",'設定シート（ベースサーバv3）'!AZ46) | AN12: =IF('設定シート（ベースサーバv3）'!AZ47=0,"",'設定シート（ベースサーバv3）'!AZ47)
F13: ='設定シート（ベースサーバv3）'!BD12 -> 12 | G13: =IF('設定シート（ベースサーバv3）'!BD13=0,"",'設定シート（ベースサーバv3）'!BD13) | H13: =IF('設定シート（ベースサーバv3）'!BD15=0,"",'設定シート（ベースサーバv3）'!BD15) | I13: =IF('設定シート（ベースサーバv3）'!BD16=0,"",'設定シート（ベースサーバv3）'!BD16) | J13: =IF('設定シート（ベースサーバv3）'!BD17=0,"0",'設定シート（ベースサーバv3）'!BD17) | K13: =IF('設定シート（ベースサーバv3）'!BD18=0,"",'設定シート（ベースサーバv3）'!BD18) | L13: =IF('設定シート（ベースサーバv3）'!BD19=0,"",'設定シート（ベースサーバv3）'!BD19) | M13: =IF('設定シート（ベースサーバv3）'!BD20=1,"1",'設定シート（ベースサーバv3）'!BD20) | N13: =IF('設定シート（ベースサーバv3）'!BD21=0,"",'設定シート（ベースサーバv3）'!BD21) | O13: =IF('設定シート（ベースサーバv3）'!BD22=0,"",'設定シート（ベースサーバv3）'!BD22) | P13: =IF('設定シート（ベースサーバv3）'!BD23=0,"",'設定シート（ベースサーバv3）'!BD23) | Q13: =IF('設定シート（ベースサーバv3）'!BD24=0,"",'設定シート（ベースサーバv3）'!BD24) | R13: =IF('設定シート（ベースサーバv3）'!BD25=0,"",'設定シート（ベースサーバv3）'!BD25) | S13: =IF('設定シート（ベースサーバv3）'!BD26=0,"",'設定シート（ベースサーバv3）'!BD26) | T13: =IF('設定シート（ベースサーバv3）'!BD27=0,"",'設定シート（ベースサーバv3）'!BD27) | U13: =IF('設定シート（ベースサーバv3）'!BD28=0,"",'設定シート（ベースサーバv3）'!BD28) | V13: =IF('設定シート（ベースサーバv3）'!BD29=0,"",'設定シート（ベースサーバv3）'!BD29) | W13: =IF('設定シート（ベースサーバv3）'!BD30=0,"",'設定シート（ベースサーバv3）'!BD30) | X13: =IF('設定シート（ベースサーバv3）'!BD31=0,"",'設定シート（ベースサーバv3）'!BD31) | Y13: =IF('設定シート（ベースサーバv3）'!BD32=0,"",'設定シート（ベースサーバv3）'!BD32) | Z13: =IF('設定シート（ベースサーバv3）'!BD33=0,"",'設定シート（ベースサーバv3）'!BD33) | AA13: =IF('設定シート（ベースサーバv3）'!BD34=0,"",'設定シート（ベースサーバv3）'!BD34) | AB13: =IF('設定シート（ベースサーバv3）'!BD35=0,"",'設定シート（ベースサーバv3）'!BD35) | AC13: =IF('設定シート（ベースサーバv3）'!BD36=0,"",'設定シート（ベースサーバv3）'!BD36) | AD13: =IF('設定シート（ベースサーバv3）'!BD37=0,"",'設定シート（ベースサーバv3）'!BD37) | AE13: =IF('設定シート（ベースサーバv3）'!BD38=0,"",'設定シート（ベースサーバv3）'!BD38) | AF13: =IF('設定シート（ベースサーバv3）'!BD39=0,"",'設定シート（ベースサーバv3）'!BD39) | AG13: =IF('設定シート（ベースサーバv3）'!BD40=0,"",'設定シート（ベースサーバv3）'!BD40) | AH13: =IF('設定シート（ベースサーバv3）'!BD41=0,"",'設定シート（ベースサーバv3）'!BD41) | AI13: =IF('設定シート（ベースサーバv3）'!BD42=0,"",'設定シート（ベースサーバv3）'!BD42) | AJ13: =IF('設定シート（ベースサーバv3）'!BD43=0,"",'設定シート（ベースサーバv3）'!BD43) | AK13: =IF('設定シート（ベースサーバv3）'!BD44=0,"",'設定シート（ベースサーバv3）'!BD44) | AL13: =IF('設定シート（ベースサーバv3）'!BD45=0,"",'設定シート（ベースサーバv3）'!BD45) | AM13: =IF('設定シート（ベースサーバv3）'!BD46=0,"",'設定シート（ベースサーバv3）'!BD46) | AN13: =IF('設定シート（ベースサーバv3）'!BD47=0,"",'設定シート（ベースサーバv3）'!BD47)
F14: ='設定シート（ベースサーバv3）'!BH12 -> 13 | G14: =IF('設定シート（ベースサーバv3）'!BH13=0,"",'設定シート（ベースサーバv3）'!BH13) | H14: =IF('設定シート（ベースサーバv3）'!BH15=0,"",'設定シート（ベースサーバv3）'!BH15) | I14: =IF('設定シート（ベースサーバv3）'!BH16=0,"",'設定シート（ベースサーバv3）'!BH16) | J14: =IF('設定シート（ベースサーバv3）'!BH17=0,"0",'設定シート（ベースサーバv3）'!BH17) | K14: =IF('設定シート（ベースサーバv3）'!BH18=0,"",'設定シート（ベースサーバv3）'!BH18) | L14: =IF('設定シート（ベースサーバv3）'!BH19=0,"",'設定シート（ベースサーバv3）'!BH19) | M14: =IF('設定シート（ベースサーバv3）'!BH20=1,"1",'設定シート（ベースサーバv3）'!BH20) | N14: =IF('設定シート（ベースサーバv3）'!BH21=0,"",'設定シート（ベースサーバv3）'!BH21) | O14: =IF('設定シート（ベースサーバv3）'!BH22=0,"",'設定シート（ベースサーバv3）'!BH22) | P14: =IF('設定シート（ベースサーバv3）'!BH23=0,"",'設定シート（ベースサーバv3）'!BH23) | Q14: =IF('設定シート（ベースサーバv3）'!BH24=0,"",'設定シート（ベースサーバv3）'!BH24) | R14: =IF('設定シート（ベースサーバv3）'!BH25=0,"",'設定シート（ベースサーバv3）'!BH25) | S14: =IF('設定シート（ベースサーバv3）'!BH26=0,"",'設定シート（ベースサーバv3）'!BH26) | T14: =IF('設定シート（ベースサーバv3）'!BH27=0,"",'設定シート（ベースサーバv3）'!BH27) | U14: =IF('設定シート（ベースサーバv3）'!BH28=0,"",'設定シート（ベースサーバv3）'!BH28) | V14: =IF('設定シート（ベースサーバv3）'!BH29=0,"",'設定シート（ベースサーバv3）'!BH29) | W14: =IF('設定シート（ベースサーバv3）'!BH30=0,"",'設定シート（ベースサーバv3）'!BH30) | X14: =IF('設定シート（ベースサーバv3）'!BH31=0,"",'設定シート（ベースサーバv3）'!BH31) | Y14: =IF('設定シート（ベースサーバv3）'!BH32=0,"",'設定シート（ベースサーバv3）'!BH32) | Z14: =IF('設定シート（ベースサーバv3）'!BH33=0,"",'設定シート（ベースサーバv3）'!BH33) | AA14: =IF('設定シート（ベースサーバv3）'!BH34=0,"",'設定シート（ベースサーバv3）'!BH34) | AB14: =IF('設定シート（ベースサーバv3）'!BH35=0,"",'設定シート（ベースサーバv3）'!BH35) | AC14: =IF('設定シート（ベースサーバv3）'!BH36=0,"",'設定シート（ベースサーバv3）'!BH36) | AD14: =IF('設定シート（ベースサーバv3）'!BH37=0,"",'設定シート（ベースサーバv3）'!BH37) | AE14: =IF('設定シート（ベースサーバv3）'!BH38=0,"",'設定シート（ベースサーバv3）'!BH38) | AF14: =IF('設定シート（ベースサーバv3）'!BH39=0,"",'設定シート（ベースサーバv3）'!BH39) | AG14: =IF('設定シート（ベースサーバv3）'!BH40=0,"",'設定シート（ベースサーバv3）'!BH40) | AH14: =IF('設定シート（ベースサーバv3）'!BH41=0,"",'設定シート（ベースサーバv3）'!BH41) | AI14: =IF('設定シート（ベースサーバv3）'!BH42=0,"",'設定シート（ベースサーバv3）'!BH42) | AJ14: =IF('設定シート（ベースサーバv3）'!BH43=0,"",'設定シート（ベースサーバv3）'!BH43) | AK14: =IF('設定シート（ベースサーバv3）'!BH44=0,"",'設定シート（ベースサーバv3）'!BH44) | AL14: =IF('設定シート（ベースサーバv3）'!BH45=0,"",'設定シート（ベースサーバv3）'!BH45) | AM14: =IF('設定シート（ベースサーバv3）'!BH46=0,"",'設定シート（ベースサーバv3）'!BH46) | AN14: =IF('設定シート（ベースサーバv3）'!BH47=0,"",'設定シート（ベースサーバv3）'!BH47)
F15: ='設定シート（ベースサーバv3）'!BL12 -> 14 | G15: =IF('設定シート（ベースサーバv3）'!BL13=0,"",'設定シート（ベースサーバv3）'!BL13) | H15: =IF('設定シート（ベースサーバv3）'!BL15=0,"",'設定シート（ベースサーバv3）'!BL15) | I15: =IF('設定シート（ベースサーバv3）'!BL16=0,"",'設定シート（ベースサーバv3）'!BL16) | J15: =IF('設定シート（ベースサーバv3）'!BL17=0,"0",'設定シート（ベースサーバv3）'!BL17) | K15: =IF('設定シート（ベースサーバv3）'!BL18=0,"",'設定シート（ベースサーバv3）'!BL18) | L15: =IF('設定シート（ベースサーバv3）'!BL19=0,"",'設定シート（ベースサーバv3）'!BL19) | M15: =IF('設定シート（ベースサーバv3）'!BL20=1,"1",'設定シート（ベースサーバv3）'!BL20) | N15: =IF('設定シート（ベースサーバv3）'!BL21=0,"",'設定シート（ベースサーバv3）'!BL21) | O15: =IF('設定シート（ベースサーバv3）'!BL22=0,"",'設定シート（ベースサーバv3）'!BL22) | P15: =IF('設定シート（ベースサーバv3）'!BL23=0,"",'設定シート（ベースサーバv3）'!BL23) | Q15: =IF('設定シート（ベースサーバv3）'!BL24=0,"",'設定シート（ベースサーバv3）'!BL24) | R15: =IF('設定シート（ベースサーバv3）'!BL25=0,"",'設定シート（ベースサーバv3）'!BL25) | S15: =IF('設定シート（ベースサーバv3）'!BL26=0,"",'設定シート（ベースサーバv3）'!BL26) | T15: =IF('設定シート（ベースサーバv3）'!BL27=0,"",'設定シート（ベースサーバv3）'!BL27) | U15: =IF('設定シート（ベースサーバv3）'!BL28=0,"",'設定シート（ベースサーバv3）'!BL28) | V15: =IF('設定シート（ベースサーバv3）'!BL29=0,"",'設定シート（ベースサーバv3）'!BL29) | W15: =IF('設定シート（ベースサーバv3）'!BL30=0,"",'設定シート（ベースサーバv3）'!BL30) | X15: =IF('設定シート（ベースサーバv3）'!BL31=0,"",'設定シート（ベースサーバv3）'!BL31) | Y15: =IF('設定シート（ベースサーバv3）'!BL32=0,"",'設定シート（ベースサーバv3）'!BL32) | Z15: =IF('設定シート（ベースサーバv3）'!BL33=0,"",'設定シート（ベースサーバv3）'!BL33) | AA15: =IF('設定シート（ベースサーバv3）'!BL34=0,"",'設定シート（ベースサーバv3）'!BL34) | AB15: =IF('設定シート（ベースサーバv3）'!BL35=0,"",'設定シート（ベースサーバv3）'!BL35) | AC15: =IF('設定シート（ベースサーバv3）'!BL36=0,"",'設定シート（ベースサーバv3）'!BL36) | AD15: =IF('設定シート（ベースサーバv3）'!BL37=0,"",'設定シート（ベースサーバv3）'!BL37) | AE15: =IF('設定シート（ベースサーバv3）'!BL38=0,"",'設定シート（ベースサーバv3）'!BL38) | AF15: =IF('設定シート（ベースサーバv3）'!BL39=0,"",'設定シート（ベースサーバv3）'!BL39) | AG15: =IF('設定シート（ベースサーバv3）'!BL40=0,"",'設定シート（ベースサーバv3）'!BL40) | AH15: =IF('設定シート（ベースサーバv3）'!BL41=0,"",'設定シート（ベースサーバv3）'!BL41) | AI15: =IF('設定シート（ベースサーバv3）'!BL42=0,"",'設定シート（ベースサーバv3）'!BL42) | AJ15: =IF('設定シート（ベースサーバv3）'!BL43=0,"",'設定シート（ベースサーバv3）'!BL43) | AK15: =IF('設定シート（ベースサーバv3）'!BL44=0,"",'設定シート（ベースサーバv3）'!BL44) | AL15: =IF('設定シート（ベースサーバv3）'!BL45=0,"",'設定シート（ベースサーバv3）'!BL45) | AM15: =IF('設定シート（ベースサーバv3）'!BL46=0,"",'設定シート（ベースサーバv3）'!BL46) | AN15: =IF('設定シート（ベースサーバv3）'!BL47=0,"",'設定シート（ベースサーバv3）'!BL47)
F16: ='設定シート（ベースサーバv3）'!BP12 -> 15 | G16: =IF('設定シート（ベースサーバv3）'!BP13=0,"",'設定シート（ベースサーバv3）'!BP13) | H16: =IF('設定シート（ベースサーバv3）'!BP15=0,"",'設定シート（ベースサーバv3）'!BP15) | I16: =IF('設定シート（ベースサーバv3）'!BP16=0,"",'設定シート（ベースサーバv3）'!BP16) | J16: =IF('設定シート（ベースサーバv3）'!BP17=0,"0",'設定シート（ベースサーバv3）'!BP17) | K16: =IF('設定シート（ベースサーバv3）'!BP18=0,"",'設定シート（ベースサーバv3）'!BP18) | L16: =IF('設定シート（ベースサーバv3）'!BP19=0,"",'設定シート（ベースサーバv3）'!BP19) | M16: =IF('設定シート（ベースサーバv3）'!BP20=1,"1",'設定シート（ベースサーバv3）'!BP20) | N16: =IF('設定シート（ベースサーバv3）'!BP21=0,"",'設定シート（ベースサーバv3）'!BP21) | O16: =IF('設定シート（ベースサーバv3）'!BP22=0,"",'設定シート（ベースサーバv3）'!BP22) | P16: =IF('設定シート（ベースサーバv3）'!BP23=0,"",'設定シート（ベースサーバv3）'!BP23) | Q16: =IF('設定シート（ベースサーバv3）'!BP24=0,"",'設定シート（ベースサーバv3）'!BP24) | R16: =IF('設定シート（ベースサーバv3）'!BP25=0,"",'設定シート（ベースサーバv3）'!BP25) | S16: =IF('設定シート（ベースサーバv3）'!BP26=0,"",'設定シート（ベースサーバv3）'!BP26) | T16: =IF('設定シート（ベースサーバv3）'!BP27=0,"",'設定シート（ベースサーバv3）'!BP27) | U16: =IF('設定シート（ベースサーバv3）'!BP28=0,"",'設定シート（ベースサーバv3）'!BP28) | V16: =IF('設定シート（ベースサーバv3）'!BP29=0,"",'設定シート（ベースサーバv3）'!BP29) | W16: =IF('設定シート（ベースサーバv3）'!BP30=0,"",'設定シート（ベースサーバv3）'!BP30) | X16: =IF('設定シート（ベースサーバv3）'!BP31=0,"",'設定シート（ベースサーバv3）'!BP31) | Y16: =IF('設定シート（ベースサーバv3）'!BP32=0,"",'設定シート（ベースサーバv3）'!BP32) | Z16: =IF('設定シート（ベースサーバv3）'!BP33=0,"",'設定シート（ベースサーバv3）'!BP33) | AA16: =IF('設定シート（ベースサーバv3）'!BP34=0,"",'設定シート（ベースサーバv3）'!BP34) | AB16: =IF('設定シート（ベースサーバv3）'!BP35=0,"",'設定シート（ベースサーバv3）'!BP35) | AC16: =IF('設定シート（ベースサーバv3）'!BP36=0,"",'設定シート（ベースサーバv3）'!BP36) | AD16: =IF('設定シート（ベースサーバv3）'!BP37=0,"",'設定シート（ベースサーバv3）'!BP37) | AE16: =IF('設定シート（ベースサーバv3）'!BP38=0,"",'設定シート（ベースサーバv3）'!BP38) | AF16: =IF('設定シート（ベースサーバv3）'!BP39=0,"",'設定シート（ベースサーバv3）'!BP39) | AG16: =IF('設定シート（ベースサーバv3）'!BP40=0,"",'設定シート（ベースサーバv3）'!BP40) | AH16: =IF('設定シート（ベースサーバv3）'!BP41=0,"",'設定シート（ベースサーバv3）'!BP41) | AI16: =IF('設定シート（ベースサーバv3）'!BP42=0,"",'設定シート（ベースサーバv3）'!BP42) | AJ16: =IF('設定シート（ベースサーバv3）'!BP43=0,"",'設定シート（ベースサーバv3）'!BP43) | AK16: =IF('設定シート（ベースサーバv3）'!BP44=0,"",'設定シート（ベースサーバv3）'!BP44) | AL16: =IF('設定シート（ベースサーバv3）'!BP45=0,"",'設定シート（ベースサーバv3）'!BP45) | AM16: =IF('設定シート（ベースサーバv3）'!BP46=0,"",'設定シート（ベースサーバv3）'!BP46) | AN16: =IF('設定シート（ベースサーバv3）'!BP47=0,"",'設定シート（ベースサーバv3）'!BP47)
F17: ='設定シート（ベースサーバv3）'!BT12 -> 16 | G17: =IF('設定シート（ベースサーバv3）'!BT13=0,"",'設定シート（ベースサーバv3）'!BT13) | H17: =IF('設定シート（ベースサーバv3）'!BT15=0,"",'設定シート（ベースサーバv3）'!BT15) | I17: =IF('設定シート（ベースサーバv3）'!BT16=0,"",'設定シート（ベースサーバv3）'!BT16) | J17: =IF('設定シート（ベースサーバv3）'!BT17=0,"0",'設定シート（ベースサーバv3）'!BT17) | K17: =IF('設定シート（ベースサーバv3）'!BT18=0,"",'設定シート（ベースサーバv3）'!BT18) | L17: =IF('設定シート（ベースサーバv3）'!BT19=0,"",'設定シート（ベースサーバv3）'!BT19) | M17: =IF('設定シート（ベースサーバv3）'!BT20=1,"1",'設定シート（ベースサーバv3）'!BT20) | N17: =IF('設定シート（ベースサーバv3）'!BT21=0,"",'設定シート（ベースサーバv3）'!BT21) | O17: =IF('設定シート（ベースサーバv3）'!BT22=0,"",'設定シート（ベースサーバv3）'!BT22) | P17: =IF('設定シート（ベースサーバv3）'!BT23=0,"",'設定シート（ベースサーバv3）'!BT23) | Q17: =IF('設定シート（ベースサーバv3）'!BT24=0,"",'設定シート（ベースサーバv3）'!BT24) | R17: =IF('設定シート（ベースサーバv3）'!BT25=0,"",'設定シート（ベースサーバv3）'!BT25) | S17: =IF('設定シート（ベースサーバv3）'!BT26=0,"",'設定シート（ベースサーバv3）'!BT26) | T17: =IF('設定シート（ベースサーバv3）'!BT27=0,"",'設定シート（ベースサーバv3）'!BT27) | U17: =IF('設定シート（ベースサーバv3）'!BT28=0,"",'設定シート（ベースサーバv3）'!BT28) | V17: =IF('設定シート（ベースサーバv3）'!BT29=0,"",'設定シート（ベースサーバv3）'!BT29) | W17: =IF('設定シート（ベースサーバv3）'!BT30=0,"",'設定シート（ベースサーバv3）'!BT30) | X17: =IF('設定シート（ベースサーバv3）'!BT31=0,"",'設定シート（ベースサーバv3）'!BT31) | Y17: =IF('設定シート（ベースサーバv3）'!BT32=0,"",'設定シート（ベースサーバv3）'!BT32) | Z17: =IF('設定シート（ベースサーバv3）'!BT33=0,"",'設定シート（ベースサーバv3）'!BT33) | AA17: =IF('設定シート（ベースサーバv3）'!BT34=0,"",'設定シート（ベースサーバv3）'!BT34) | AB17: =IF('設定シート（ベースサーバv3）'!BT35=0,"",'設定シート（ベースサーバv3）'!BT35) | AC17: =IF('設定シート（ベースサーバv3）'!BT36=0,"",'設定シート（ベースサーバv3）'!BT36) | AD17: =IF('設定シート（ベースサーバv3）'!BT37=0,"",'設定シート（ベースサーバv3）'!BT37) | AE17: =IF('設定シート（ベースサーバv3）'!BT38=0,"",'設定シート（ベースサーバv3）'!BT38) | AF17: =IF('設定シート（ベースサーバv3）'!BT39=0,"",'設定シート（ベースサーバv3）'!BT39) | AG17: =IF('設定シート（ベースサーバv3）'!BT40=0,"",'設定シート（ベースサーバv3）'!BT40) | AH17: =IF('設定シート（ベースサーバv3）'!BT41=0,"",'設定シート（ベースサーバv3）'!BT41) | AI17: =IF('設定シート（ベースサーバv3）'!BT42=0,"",'設定シート（ベースサーバv3）'!BT42) | AJ17: =IF('設定シート（ベースサーバv3）'!BT43=0,"",'設定シート（ベースサーバv3）'!BT43) | AK17: =IF('設定シート（ベースサーバv3）'!BT44=0,"",'設定シート（ベースサーバv3）'!BT44) | AL17: =IF('設定シート（ベースサーバv3）'!BT45=0,"",'設定シート（ベースサーバv3）'!BT45) | AM17: =IF('設定シート（ベースサーバv3）'!BT46=0,"",'設定シート（ベースサーバv3）'!BT46) | AN17: =IF('設定シート（ベースサーバv3）'!BT47=0,"",'設定シート（ベースサーバv3）'!BT47)
F18: ='設定シート（ベースサーバv3）'!BX12 -> 17 | G18: =IF('設定シート（ベースサーバv3）'!BX13=0,"",'設定シート（ベースサーバv3）'!BX13) | H18: =IF('設定シート（ベースサーバv3）'!BX15=0,"",'設定シート（ベースサーバv3）'!BX15) | I18: =IF('設定シート（ベースサーバv3）'!BX16=0,"",'設定シート（ベースサーバv3）'!BX16) | J18: =IF('設定シート（ベースサーバv3）'!BX17=0,"0",'設定シート（ベースサーバv3）'!BX17) | K18: =IF('設定シート（ベースサーバv3）'!BX18=0,"",'設定シート（ベースサーバv3）'!BX18) | L18: =IF('設定シート（ベースサーバv3）'!BX19=0,"",'設定シート（ベースサーバv3）'!BX19) | M18: =IF('設定シート（ベースサーバv3）'!BX20=1,"1",'設定シート（ベースサーバv3）'!BX20) | N18: =IF('設定シート（ベースサーバv3）'!BX21=0,"",'設定シート（ベースサーバv3）'!BX21) | O18: =IF('設定シート（ベースサーバv3）'!BX22=0,"",'設定シート（ベースサーバv3）'!BX22) | P18: =IF('設定シート（ベースサーバv3）'!BX23=0,"",'設定シート（ベースサーバv3）'!BX23) | Q18: =IF('設定シート（ベースサーバv3）'!BX24=0,"",'設定シート（ベースサーバv3）'!BX24) | R18: =IF('設定シート（ベースサーバv3）'!BX25=0,"",'設定シート（ベースサーバv3）'!BX25) | S18: =IF('設定シート（ベースサーバv3）'!BX26=0,"",'設定シート（ベースサーバv3）'!BX26) | T18: =IF('設定シート（ベースサーバv3）'!BX27=0,"",'設定シート（ベースサーバv3）'!BX27) | U18: =IF('設定シート（ベースサーバv3）'!BX28=0,"",'設定シート（ベースサーバv3）'!BX28) | V18: =IF('設定シート（ベースサーバv3）'!BX29=0,"",'設定シート（ベースサーバv3）'!BX29) | W18: =IF('設定シート（ベースサーバv3）'!BX30=0,"",'設定シート（ベースサーバv3）'!BX30) | X18: =IF('設定シート（ベースサーバv3）'!BX31=0,"",'設定シート（ベースサーバv3）'!BX31) | Y18: =IF('設定シート（ベースサーバv3）'!BX32=0,"",'設定シート（ベースサーバv3）'!BX32) | Z18: =IF('設定シート（ベースサーバv3）'!BX33=0,"",'設定シート（ベースサーバv3）'!BX33) | AA18: =IF('設定シート（ベースサーバv3）'!BX34=0,"",'設定シート（ベースサーバv3）'!BX34) | AB18: =IF('設定シート（ベースサーバv3）'!BX35=0,"",'設定シート（ベースサーバv3）'!BX35) | AC18: =IF('設定シート（ベースサーバv3）'!BX36=0,"",'設定シート（ベースサーバv3）'!BX36) | AD18: =IF('設定シート（ベースサーバv3）'!BX37=0,"",'設定シート（ベースサーバv3）'!BX37) | AE18: =IF('設定シート（ベースサーバv3）'!BX38=0,"",'設定シート（ベースサーバv3）'!BX38) | AF18: =IF('設定シート（ベースサーバv3）'!BX39=0,"",'設定シート（ベースサーバv3）'!BX39) | AG18: =IF('設定シート（ベースサーバv3）'!BX40=0,"",'設定シート（ベースサーバv3）'!BX40) | AH18: =IF('設定シート（ベースサーバv3）'!BX41=0,"",'設定シート（ベースサーバv3）'!BX41) | AI18: =IF('設定シート（ベースサーバv3）'!BX42=0,"",'設定シート（ベースサーバv3）'!BX42) | AJ18: =IF('設定シート（ベースサーバv3）'!BX43=0,"",'設定シート（ベースサーバv3）'!BX43) | AK18: =IF('設定シート（ベースサーバv3）'!BX44=0,"",'設定シート（ベースサーバv3）'!BX44) | AL18: =IF('設定シート（ベースサーバv3）'!BX45=0,"",'設定シート（ベースサーバv3）'!BX45) | AM18: =IF('設定シート（ベースサーバv3）'!BX46=0,"",'設定シート（ベースサーバv3）'!BX46) | AN18: =IF('設定シート（ベースサーバv3）'!BX47=0,"",'設定シート（ベースサーバv3）'!BX47)
F19: ='設定シート（ベースサーバv3）'!CB12 -> 18 | G19: =IF('設定シート（ベースサーバv3）'!CB13=0,"",'設定シート（ベースサーバv3）'!CB13) | H19: =IF('設定シート（ベースサーバv3）'!CB15=0,"",'設定シート（ベースサーバv3）'!CB15) | I19: =IF('設定シート（ベースサーバv3）'!CB16=0,"",'設定シート（ベースサーバv3）'!CB16) | J19: =IF('設定シート（ベースサーバv3）'!CB17=0,"0",'設定シート（ベースサーバv3）'!CB17) | K19: =IF('設定シート（ベースサーバv3）'!CB18=0,"",'設定シート（ベースサーバv3）'!CB18) | L19: =IF('設定シート（ベースサーバv3）'!CB19=0,"",'設定シート（ベースサーバv3）'!CB19) | M19: =IF('設定シート（ベースサーバv3）'!CB20=1,"1",'設定シート（ベースサーバv3）'!CB20) | N19: =IF('設定シート（ベースサーバv3）'!CB21=0,"",'設定シート（ベースサーバv3）'!CB21) | O19: =IF('設定シート（ベースサーバv3）'!CB22=0,"",'設定シート（ベースサーバv3）'!CB22) | P19: =IF('設定シート（ベースサーバv3）'!CB23=0,"",'設定シート（ベースサーバv3）'!CB23) | Q19: =IF('設定シート（ベースサーバv3）'!CB24=0,"",'設定シート（ベースサーバv3）'!CB24) | R19: =IF('設定シート（ベースサーバv3）'!CB25=0,"",'設定シート（ベースサーバv3）'!CB25) | S19: =IF('設定シート（ベースサーバv3）'!CB26=0,"",'設定シート（ベースサーバv3）'!CB26) | T19: =IF('設定シート（ベースサーバv3）'!CB27=0,"",'設定シート（ベースサーバv3）'!CB27) | U19: =IF('設定シート（ベースサーバv3）'!CB28=0,"",'設定シート（ベースサーバv3）'!CB28) | V19: =IF('設定シート（ベースサーバv3）'!CB29=0,"",'設定シート（ベースサーバv3）'!CB29) | W19: =IF('設定シート（ベースサーバv3）'!CB30=0,"",'設定シート（ベースサーバv3）'!CB30) | X19: =IF('設定シート（ベースサーバv3）'!CB31=0,"",'設定シート（ベースサーバv3）'!CB31) | Y19: =IF('設定シート（ベースサーバv3）'!CB32=0,"",'設定シート（ベースサーバv3）'!CB32) | Z19: =IF('設定シート（ベースサーバv3）'!CB33=0,"",'設定シート（ベースサーバv3）'!CB33) | AA19: =IF('設定シート（ベースサーバv3）'!CB34=0,"",'設定シート（ベースサーバv3）'!CB34) | AB19: =IF('設定シート（ベースサーバv3）'!CB35=0,"",'設定シート（ベースサーバv3）'!CB35) | AC19: =IF('設定シート（ベースサーバv3）'!CB36=0,"",'設定シート（ベースサーバv3）'!CB36) | AD19: =IF('設定シート（ベースサーバv3）'!CB37=0,"",'設定シート（ベースサーバv3）'!CB37) | AE19: =IF('設定シート（ベースサーバv3）'!CB38=0,"",'設定シート（ベースサーバv3）'!CB38) | AF19: =IF('設定シート（ベースサーバv3）'!CB39=0,"",'設定シート（ベースサーバv3）'!CB39) | AG19: =IF('設定シート（ベースサーバv3）'!CB40=0,"",'設定シート（ベースサーバv3）'!CB40) | AH19: =IF('設定シート（ベースサーバv3）'!CB41=0,"",'設定シート（ベースサーバv3）'!CB41) | AI19: =IF('設定シート（ベースサーバv3）'!CB42=0,"",'設定シート（ベースサーバv3）'!CB42) | AJ19: =IF('設定シート（ベースサーバv3）'!CB43=0,"",'設定シート（ベースサーバv3）'!CB43) | AK19: =IF('設定シート（ベースサーバv3）'!CB44=0,"",'設定シート（ベースサーバv3）'!CB44) | AL19: =IF('設定シート（ベースサーバv3）'!CB45=0,"",'設定シート（ベースサーバv3）'!CB45) | AM19: =IF('設定シート（ベースサーバv3）'!CB46=0,"",'設定シート（ベースサーバv3）'!CB46) | AN19: =IF('設定シート（ベースサーバv3）'!CB47=0,"",'設定シート（ベースサーバv3）'!CB47)
F20: ='設定シート（ベースサーバv3）'!CF12 -> 19 | G20: =IF('設定シート（ベースサーバv3）'!CF13=0,"",'設定シート（ベースサーバv3）'!CF13) | H20: =IF('設定シート（ベースサーバv3）'!CF15=0,"",'設定シート（ベースサーバv3）'!CF15) | I20: =IF('設定シート（ベースサーバv3）'!CF16=0,"",'設定シート（ベースサーバv3）'!CF16) | J20: =IF('設定シート（ベースサーバv3）'!CF17=0,"0",'設定シート（ベースサーバv3）'!CF17) | K20: =IF('設定シート（ベースサーバv3）'!CF18=0,"",'設定シート（ベースサーバv3）'!CF18) | L20: =IF('設定シート（ベースサーバv3）'!CF19=0,"",'設定シート（ベースサーバv3）'!CF19) | M20: =IF('設定シート（ベースサーバv3）'!CF20=1,"1",'設定シート（ベースサーバv3）'!CF20) | N20: =IF('設定シート（ベースサーバv3）'!CF21=0,"",'設定シート（ベースサーバv3）'!CF21) | O20: =IF('設定シート（ベースサーバv3）'!CF22=0,"",'設定シート（ベースサーバv3）'!CF22) | P20: =IF('設定シート（ベースサーバv3）'!CF23=0,"",'設定シート（ベースサーバv3）'!CF23) | Q20: =IF('設定シート（ベースサーバv3）'!CF24=0,"",'設定シート（ベースサーバv3）'!CF24) | R20: =IF('設定シート（ベースサーバv3）'!CF25=0,"",'設定シート（ベースサーバv3）'!CF25) | S20: =IF('設定シート（ベースサーバv3）'!CF26=0,"",'設定シート（ベースサーバv3）'!CF26) | T20: =IF('設定シート（ベースサーバv3）'!CF27=0,"",'設定シート（ベースサーバv3）'!CF27) | U20: =IF('設定シート（ベースサーバv3）'!CF28=0,"",'設定シート（ベースサーバv3）'!CF28) | V20: =IF('設定シート（ベースサーバv3）'!CF29=0,"",'設定シート（ベースサーバv3）'!CF29) | W20: =IF('設定シート（ベースサーバv3）'!CF30=0,"",'設定シート（ベースサーバv3）'!CF30) | X20: =IF('設定シート（ベースサーバv3）'!CF31=0,"",'設定シート（ベースサーバv3）'!CF31) | Y20: =IF('設定シート（ベースサーバv3）'!CF32=0,"",'設定シート（ベースサーバv3）'!CF32) | Z20: =IF('設定シート（ベースサーバv3）'!CF33=0,"",'設定シート（ベースサーバv3）'!CF33) | AA20: =IF('設定シート（ベースサーバv3）'!CF34=0,"",'設定シート（ベースサーバv3）'!CF34) | AB20: =IF('設定シート（ベースサーバv3）'!CF35=0,"",'設定シート（ベースサーバv3）'!CF35) | AC20: =IF('設定シート（ベースサーバv3）'!CF36=0,"",'設定シート（ベースサーバv3）'!CF36) | AD20: =IF('設定シート（ベースサーバv3）'!CF37=0,"",'設定シート（ベースサーバv3）'!CF37) | AE20: =IF('設定シート（ベースサーバv3）'!CF38=0,"",'設定シート（ベースサーバv3）'!CF38) | AF20: =IF('設定シート（ベースサーバv3）'!CF39=0,"",'設定シート（ベースサーバv3）'!CF39) | AG20: =IF('設定シート（ベースサーバv3）'!CF40=0,"",'設定シート（ベースサーバv3）'!CF40) | AH20: =IF('設定シート（ベースサーバv3）'!CF41=0,"",'設定シート（ベースサーバv3）'!CF41) | AI20: =IF('設定シート（ベースサーバv3）'!CF42=0,"",'設定シート（ベースサーバv3）'!CF42) | AJ20: =IF('設定シート（ベースサーバv3）'!CF43=0,"",'設定シート（ベースサーバv3）'!CF43) | AK20: =IF('設定シート（ベースサーバv3）'!CF44=0,"",'設定シート（ベースサーバv3）'!CF44) | AL20: =IF('設定シート（ベースサーバv3）'!CF45=0,"",'設定シート（ベースサーバv3）'!CF45) | AM20: =IF('設定シート（ベースサーバv3）'!CF46=0,"",'設定シート（ベースサーバv3）'!CF46) | AN20: =IF('設定シート（ベースサーバv3）'!CF47=0,"",'設定シート（ベースサーバv3）'!CF47)
F21: ='設定シート（ベースサーバv3）'!CJ12 -> 20 | G21: =IF('設定シート（ベースサーバv3）'!CJ13=0,"",'設定シート（ベースサーバv3）'!CJ13) | H21: =IF('設定シート（ベースサーバv3）'!CJ15=0,"",'設定シート（ベースサーバv3）'!CJ15) | I21: =IF('設定シート（ベースサーバv3）'!CJ16=0,"",'設定シート（ベースサーバv3）'!CJ16) | J21: =IF('設定シート（ベースサーバv3）'!CJ17=0,"0",'設定シート（ベースサーバv3）'!CJ17) | K21: =IF('設定シート（ベースサーバv3）'!CJ18=0,"",'設定シート（ベースサーバv3）'!CJ18) | L21: =IF('設定シート（ベースサーバv3）'!CJ19=0,"",'設定シート（ベースサーバv3）'!CJ19) | M21: =IF('設定シート（ベースサーバv3）'!CJ20=1,"1",'設定シート（ベースサーバv3）'!CJ20) | N21: =IF('設定シート（ベースサーバv3）'!CJ21=0,"",'設定シート（ベースサーバv3）'!CJ21) | O21: =IF('設定シート（ベースサーバv3）'!CJ22=0,"",'設定シート（ベースサーバv3）'!CJ22) | P21: =IF('設定シート（ベースサーバv3）'!CJ23=0,"",'設定シート（ベースサーバv3）'!CJ23) | Q21: =IF('設定シート（ベースサーバv3）'!CJ24=0,"",'設定シート（ベースサーバv3）'!CJ24) | R21: =IF('設定シート（ベースサーバv3）'!CJ25=0,"",'設定シート（ベースサーバv3）'!CJ25) | S21: =IF('設定シート（ベースサーバv3）'!CJ26=0,"",'設定シート（ベースサーバv3）'!CJ26) | T21: =IF('設定シート（ベースサーバv3）'!CJ27=0,"",'設定シート（ベースサーバv3）'!CJ27) | U21: =IF('設定シート（ベースサーバv3）'!CJ28=0,"",'設定シート（ベースサーバv3）'!CJ28) | V21: =IF('設定シート（ベースサーバv3）'!CJ29=0,"",'設定シート（ベースサーバv3）'!CJ29) | W21: =IF('設定シート（ベースサーバv3）'!CJ30=0,"",'設定シート（ベースサーバv3）'!CJ30) | X21: =IF('設定シート（ベースサーバv3）'!CJ31=0,"",'設定シート（ベースサーバv3）'!CJ31) | Y21: =IF('設定シート（ベースサーバv3）'!CJ32=0,"",'設定シート（ベースサーバv3）'!CJ32) | Z21: =IF('設定シート（ベースサーバv3）'!CJ33=0,"",'設定シート（ベースサーバv3）'!CJ33) | AA21: =IF('設定シート（ベースサーバv3）'!CJ34=0,"",'設定シート（ベースサーバv3）'!CJ34) | AB21: =IF('設定シート（ベースサーバv3）'!CJ35=0,"",'設定シート（ベースサーバv3）'!CJ35) | AC21: =IF('設定シート（ベースサーバv3）'!CJ36=0,"",'設定シート（ベースサーバv3）'!CJ36) | AD21: =IF('設定シート（ベースサーバv3）'!CJ37=0,"",'設定シート（ベースサーバv3）'!CJ37) | AE21: =IF('設定シート（ベースサーバv3）'!CJ38=0,"",'設定シート（ベースサーバv3）'!CJ38) | AF21: =IF('設定シート（ベースサーバv3）'!CJ39=0,"",'設定シート（ベースサーバv3）'!CJ39) | AG21: =IF('設定シート（ベースサーバv3）'!CJ40=0,"",'設定シート（ベースサーバv3）'!CJ40) | AH21: =IF('設定シート（ベースサーバv3）'!CJ41=0,"",'設定シート（ベースサーバv3）'!CJ41) | AI21: =IF('設定シート（ベースサーバv3）'!CJ42=0,"",'設定シート（ベースサーバv3）'!CJ42) | AJ21: =IF('設定シート（ベースサーバv3）'!CJ43=0,"",'設定シート（ベースサーバv3）'!CJ43) | AK21: =IF('設定シート（ベースサーバv3）'!CJ44=0,"",'設定シート（ベースサーバv3）'!CJ44) | AL21: =IF('設定シート（ベースサーバv3）'!CJ45=0,"",'設定シート（ベースサーバv3）'!CJ45) | AM21: =IF('設定シート（ベースサーバv3）'!CJ46=0,"",'設定シート（ベースサーバv3）'!CJ46) | AN21: =IF('設定シート（ベースサーバv3）'!CJ47=0,"",'設定シート（ベースサーバv3）'!CJ47)
F22: ='設定シート（ベースサーバv3）'!CN12 -> 21 | G22: =IF('設定シート（ベースサーバv3）'!CN13=0,"",'設定シート（ベースサーバv3）'!CN13) | H22: =IF('設定シート（ベースサーバv3）'!CN15=0,"",'設定シート（ベースサーバv3）'!CN15) | I22: =IF('設定シート（ベースサーバv3）'!CN16=0,"",'設定シート（ベースサーバv3）'!CN16) | J22: =IF('設定シート（ベースサーバv3）'!CN17=0,"0",'設定シート（ベースサーバv3）'!CN17) | K22: =IF('設定シート（ベースサーバv3）'!CN18=0,"",'設定シート（ベースサーバv3）'!CN18) | L22: =IF('設定シート（ベースサーバv3）'!CN19=0,"",'設定シート（ベースサーバv3）'!CN19) | M22: =IF('設定シート（ベースサーバv3）'!CN20=1,"1",'設定シート（ベースサーバv3）'!CN20) | N22: =IF('設定シート（ベースサーバv3）'!CN21=0,"",'設定シート（ベースサーバv3）'!CN21) | O22: =IF('設定シート（ベースサーバv3）'!CN22=0,"",'設定シート（ベースサーバv3）'!CN22) | P22: =IF('設定シート（ベースサーバv3）'!CN23=0,"",'設定シート（ベースサーバv3）'!CN23) | Q22: =IF('設定シート（ベースサーバv3）'!CN24=0,"",'設定シート（ベースサーバv3）'!CN24) | R22: =IF('設定シート（ベースサーバv3）'!CN25=0,"",'設定シート（ベースサーバv3）'!CN25) | S22: =IF('設定シート（ベースサーバv3）'!CN26=0,"",'設定シート（ベースサーバv3）'!CN26) | T22: =IF('設定シート（ベースサーバv3）'!CN27=0,"",'設定シート（ベースサーバv3）'!CN27) | U22: =IF('設定シート（ベースサーバv3）'!CN28=0,"",'設定シート（ベースサーバv3）'!CN28) | V22: =IF('設定シート（ベースサーバv3）'!CN29=0,"",'設定シート（ベースサーバv3）'!CN29) | W22: =IF('設定シート（ベースサーバv3）'!CN30=0,"",'設定シート（ベースサーバv3）'!CN30) | X22: =IF('設定シート（ベースサーバv3）'!CN31=0,"",'設定シート（ベースサーバv3）'!CN31) | Y22: =IF('設定シート（ベースサーバv3）'!CN32=0,"",'設定シート（ベースサーバv3）'!CN32) | Z22: =IF('設定シート（ベースサーバv3）'!CN33=0,"",'設定シート（ベースサーバv3）'!CN33) | AA22: =IF('設定シート（ベースサーバv3）'!CN34=0,"",'設定シート（ベースサーバv3）'!CN34) | AB22: =IF('設定シート（ベースサーバv3）'!CN35=0,"",'設定シート（ベースサーバv3）'!CN35) | AC22: =IF('設定シート（ベースサーバv3）'!CN36=0,"",'設定シート（ベースサーバv3）'!CN36) | AD22: =IF('設定シート（ベースサーバv3）'!CN37=0,"",'設定シート（ベースサーバv3）'!CN37) | AE22: =IF('設定シート（ベースサーバv3）'!CN38=0,"",'設定シート（ベースサーバv3）'!CN38) | AF22: =IF('設定シート（ベースサーバv3）'!CN39=0,"",'設定シート（ベースサーバv3）'!CN39) | AG22: =IF('設定シート（ベースサーバv3）'!CN40=0,"",'設定シート（ベースサーバv3）'!CN40) | AH22: =IF('設定シート（ベースサーバv3）'!CN41=0,"",'設定シート（ベースサーバv3）'!CN41) | AI22: =IF('設定シート（ベースサーバv3）'!CN42=0,"",'設定シート（ベースサーバv3）'!CN42) | AJ22: =IF('設定シート（ベースサーバv3）'!CN43=0,"",'設定シート（ベースサーバv3）'!CN43) | AK22: =IF('設定シート（ベースサーバv3）'!CN44=0,"",'設定シート（ベースサーバv3）'!CN44) | AL22: =IF('設定シート（ベースサーバv3）'!CN45=0,"",'設定シート（ベースサーバv3）'!CN45) | AM22: =IF('設定シート（ベースサーバv3）'!CN46=0,"",'設定シート（ベースサーバv3）'!CN46) | AN22: =IF('設定シート（ベースサーバv3）'!CN47=0,"",'設定シート（ベースサーバv3）'!CN47)
F23: ='設定シート（ベースサーバv3）'!CR12 -> 22 | G23: =IF('設定シート（ベースサーバv3）'!CR13=0,"",'設定シート（ベースサーバv3）'!CR13) | H23: =IF('設定シート（ベースサーバv3）'!CR15=0,"",'設定シート（ベースサーバv3）'!CR15) | I23: =IF('設定シート（ベースサーバv3）'!CR16=0,"",'設定シート（ベースサーバv3）'!CR16) | J23: =IF('設定シート（ベースサーバv3）'!CR17=0,"0",'設定シート（ベースサーバv3）'!CR17) | K23: =IF('設定シート（ベースサーバv3）'!CR18=0,"",'設定シート（ベースサーバv3）'!CR18) | L23: =IF('設定シート（ベースサーバv3）'!CR19=0,"",'設定シート（ベースサーバv3）'!CR19) | M23: =IF('設定シート（ベースサーバv3）'!CR20=1,"1",'設定シート（ベースサーバv3）'!CR20) | N23: =IF('設定シート（ベースサーバv3）'!CR21=0,"",'設定シート（ベースサーバv3）'!CR21) | O23: =IF('設定シート（ベースサーバv3）'!CR22=0,"",'設定シート（ベースサーバv3）'!CR22) | P23: =IF('設定シート（ベースサーバv3）'!CR23=0,"",'設定シート（ベースサーバv3）'!CR23) | Q23: =IF('設定シート（ベースサーバv3）'!CR24=0,"",'設定シート（ベースサーバv3）'!CR24) | R23: =IF('設定シート（ベースサーバv3）'!CR25=0,"",'設定シート（ベースサーバv3）'!CR25) | S23: =IF('設定シート（ベースサーバv3）'!CR26=0,"",'設定シート（ベースサーバv3）'!CR26) | T23: =IF('設定シート（ベースサーバv3）'!CR27=0,"",'設定シート（ベースサーバv3）'!CR27) | U23: =IF('設定シート（ベースサーバv3）'!CR28=0,"",'設定シート（ベースサーバv3）'!CR28) | V23: =IF('設定シート（ベースサーバv3）'!CR29=0,"",'設定シート（ベースサーバv3）'!CR29) | W23: =IF('設定シート（ベースサーバv3）'!CR30=0,"",'設定シート（ベースサーバv3）'!CR30) | X23: =IF('設定シート（ベースサーバv3）'!CR31=0,"",'設定シート（ベースサーバv3）'!CR31) | Y23: =IF('設定シート（ベースサーバv3）'!CR32=0,"",'設定シート（ベースサーバv3）'!CR32) | Z23: =IF('設定シート（ベースサーバv3）'!CR33=0,"",'設定シート（ベースサーバv3）'!CR33) | AA23: =IF('設定シート（ベースサーバv3）'!CR34=0,"",'設定シート（ベースサーバv3）'!CR34) | AB23: =IF('設定シート（ベースサーバv3）'!CR35=0,"",'設定シート（ベースサーバv3）'!CR35) | AC23: =IF('設定シート（ベースサーバv3）'!CR36=0,"",'設定シート（ベースサーバv3）'!CR36) | AD23: =IF('設定シート（ベースサーバv3）'!CR37=0,"",'設定シート（ベースサーバv3）'!CR37) | AE23: =IF('設定シート（ベースサーバv3）'!CR38=0,"",'設定シート（ベースサーバv3）'!CR38) | AF23: =IF('設定シート（ベースサーバv3）'!CR39=0,"",'設定シート（ベースサーバv3）'!CR39) | AG23: =IF('設定シート（ベースサーバv3）'!CR40=0,"",'設定シート（ベースサーバv3）'!CR40) | AH23: =IF('設定シート（ベースサーバv3）'!CR41=0,"",'設定シート（ベースサーバv3）'!CR41) | AI23: =IF('設定シート（ベースサーバv3）'!CR42=0,"",'設定シート（ベースサーバv3）'!CR42) | AJ23: =IF('設定シート（ベースサーバv3）'!CR43=0,"",'設定シート（ベースサーバv3）'!CR43) | AK23: =IF('設定シート（ベースサーバv3）'!CR44=0,"",'設定シート（ベースサーバv3）'!CR44) | AL23: =IF('設定シート（ベースサーバv3）'!CR45=0,"",'設定シート（ベースサーバv3）'!CR45) | AM23: =IF('設定シート（ベースサーバv3）'!CR46=0,"",'設定シート（ベースサーバv3）'!CR46) | AN23: =IF('設定シート（ベースサーバv3）'!CR47=0,"",'設定シート（ベースサーバv3）'!CR47)
F24: ='設定シート（ベースサーバv3）'!CV12 -> 23 | G24: =IF('設定シート（ベースサーバv3）'!CV13=0,"",'設定シート（ベースサーバv3）'!CV13) | H24: =IF('設定シート（ベースサーバv3）'!CV15=0,"",'設定シート（ベースサーバv3）'!CV15) | I24: =IF('設定シート（ベースサーバv3）'!CV16=0,"",'設定シート（ベースサーバv3）'!CV16) | J24: =IF('設定シート（ベースサーバv3）'!CV17=0,"0",'設定シート（ベースサーバv3）'!CV17) | K24: =IF('設定シート（ベースサーバv3）'!CV18=0,"",'設定シート（ベースサーバv3）'!CV18) | L24: =IF('設定シート（ベースサーバv3）'!CV19=0,"",'設定シート（ベースサーバv3）'!CV19) | M24: =IF('設定シート（ベースサーバv3）'!CV20=1,"1",'設定シート（ベースサーバv3）'!CV20) | N24: =IF('設定シート（ベースサーバv3）'!CV21=0,"",'設定シート（ベースサーバv3）'!CV21) | O24: =IF('設定シート（ベースサーバv3）'!CV22=0,"",'設定シート（ベースサーバv3）'!CV22) | P24: =IF('設定シート（ベースサーバv3）'!CV23=0,"",'設定シート（ベースサーバv3）'!CV23) | Q24: =IF('設定シート（ベースサーバv3）'!CV24=0,"",'設定シート（ベースサーバv3）'!CV24) | R24: =IF('設定シート（ベースサーバv3）'!CV25=0,"",'設定シート（ベースサーバv3）'!CV25) | S24: =IF('設定シート（ベースサーバv3）'!CV26=0,"",'設定シート（ベースサーバv3）'!CV26) | T24: =IF('設定シート（ベースサーバv3）'!CV27=0,"",'設定シート（ベースサーバv3）'!CV27) | U24: =IF('設定シート（ベースサーバv3）'!CV28=0,"",'設定シート（ベースサーバv3）'!CV28) | V24: =IF('設定シート（ベースサーバv3）'!CV29=0,"",'設定シート（ベースサーバv3）'!CV29) | W24: =IF('設定シート（ベースサーバv3）'!CV30=0,"",'設定シート（ベースサーバv3）'!CV30) | X24: =IF('設定シート（ベースサーバv3）'!CV31=0,"",'設定シート（ベースサーバv3）'!CV31) | Y24: =IF('設定シート（ベースサーバv3）'!CV32=0,"",'設定シート（ベースサーバv3）'!CV32) | Z24: =IF('設定シート（ベースサーバv3）'!CV33=0,"",'設定シート（ベースサーバv3）'!CV33) | AA24: =IF('設定シート（ベースサーバv3）'!CV34=0,"",'設定シート（ベースサーバv3）'!CV34) | AB24: =IF('設定シート（ベースサーバv3）'!CV35=0,"",'設定シート（ベースサーバv3）'!CV35) | AC24: =IF('設定シート（ベースサーバv3）'!CV36=0,"",'設定シート（ベースサーバv3）'!CV36) | AD24: =IF('設定シート（ベースサーバv3）'!CV37=0,"",'設定シート（ベースサーバv3）'!CV37) | AE24: =IF('設定シート（ベースサーバv3）'!CV38=0,"",'設定シート（ベースサーバv3）'!CV38) | AF24: =IF('設定シート（ベースサーバv3）'!CV39=0,"",'設定シート（ベースサーバv3）'!CV39) | AG24: =IF('設定シート（ベースサーバv3）'!CV40=0,"",'設定シート（ベースサーバv3）'!CV40) | AH24: =IF('設定シート（ベースサーバv3）'!CV41=0,"",'設定シート（ベースサーバv3）'!CV41) | AI24: =IF('設定シート（ベースサーバv3）'!CV42=0,"",'設定シート（ベースサーバv3）'!CV42) | AJ24: =IF('設定シート（ベースサーバv3）'!CV43=0,"",'設定シート（ベースサーバv3）'!CV43) | AK24: =IF('設定シート（ベースサーバv3）'!CV44=0,"",'設定シート（ベースサーバv3）'!CV44) | AL24: =IF('設定シート（ベースサーバv3）'!CV45=0,"",'設定シート（ベースサーバv3）'!CV45) | AM24: =IF('設定シート（ベースサーバv3）'!CV46=0,"",'設定シート（ベースサーバv3）'!CV46) | AN24: =IF('設定シート（ベースサーバv3）'!CV47=0,"",'設定シート（ベースサーバv3）'!CV47)
F25: ='設定シート（ベースサーバv3）'!CZ12 -> 24 | G25: =IF('設定シート（ベースサーバv3）'!CZ13=0,"",'設定シート（ベースサーバv3）'!CZ13) | H25: =IF('設定シート（ベースサーバv3）'!CZ15=0,"",'設定シート（ベースサーバv3）'!CZ15) | I25: =IF('設定シート（ベースサーバv3）'!CZ16=0,"",'設定シート（ベースサーバv3）'!CZ16) | J25: =IF('設定シート（ベースサーバv3）'!CZ17=0,"0",'設定シート（ベースサーバv3）'!CZ17) | K25: =IF('設定シート（ベースサーバv3）'!CZ18=0,"",'設定シート（ベースサーバv3）'!CZ18) | L25: =IF('設定シート（ベースサーバv3）'!CZ19=0,"",'設定シート（ベースサーバv3）'!CZ19) | M25: =IF('設定シート（ベースサーバv3）'!CZ20=1,"1",'設定シート（ベースサーバv3）'!CZ20) | N25: =IF('設定シート（ベースサーバv3）'!CZ21=0,"",'設定シート（ベースサーバv3）'!CZ21) | O25: =IF('設定シート（ベースサーバv3）'!CZ22=0,"",'設定シート（ベースサーバv3）'!CZ22) | P25: =IF('設定シート（ベースサーバv3）'!CZ23=0,"",'設定シート（ベースサーバv3）'!CZ23) | Q25: =IF('設定シート（ベースサーバv3）'!CZ24=0,"",'設定シート（ベースサーバv3）'!CZ24) | R25: =IF('設定シート（ベースサーバv3）'!CZ25=0,"",'設定シート（ベースサーバv3）'!CZ25) | S25: =IF('設定シート（ベースサーバv3）'!CZ26=0,"",'設定シート（ベースサーバv3）'!CZ26) | T25: =IF('設定シート（ベースサーバv3）'!CZ27=0,"",'設定シート（ベースサーバv3）'!CZ27) | U25: =IF('設定シート（ベースサーバv3）'!CZ28=0,"",'設定シート（ベースサーバv3）'!CZ28) | V25: =IF('設定シート（ベースサーバv3）'!CZ29=0,"",'設定シート（ベースサーバv3）'!CZ29) | W25: =IF('設定シート（ベースサーバv3）'!CZ30=0,"",'設定シート（ベースサーバv3）'!CZ30) | X25: =IF('設定シート（ベースサーバv3）'!CZ31=0,"",'設定シート（ベースサーバv3）'!CZ31) | Y25: =IF('設定シート（ベースサーバv3）'!CZ32=0,"",'設定シート（ベースサーバv3）'!CZ32) | Z25: =IF('設定シート（ベースサーバv3）'!CZ33=0,"",'設定シート（ベースサーバv3）'!CZ33) | AA25: =IF('設定シート（ベースサーバv3）'!CZ34=0,"",'設定シート（ベースサーバv3）'!CZ34) | AB25: =IF('設定シート（ベースサーバv3）'!CZ35=0,"",'設定シート（ベースサーバv3）'!CZ35) | AC25: =IF('設定シート（ベースサーバv3）'!CZ36=0,"",'設定シート（ベースサーバv3）'!CZ36) | AD25: =IF('設定シート（ベースサーバv3）'!CZ37=0,"",'設定シート（ベースサーバv3）'!CZ37) | AE25: =IF('設定シート（ベースサーバv3）'!CZ38=0,"",'設定シート（ベースサーバv3）'!CZ38) | AF25: =IF('設定シート（ベースサーバv3）'!CZ39=0,"",'設定シート（ベースサーバv3）'!CZ39) | AG25: =IF('設定シート（ベースサーバv3）'!CZ40=0,"",'設定シート（ベースサーバv3）'!CZ40) | AH25: =IF('設定シート（ベースサーバv3）'!CZ41=0,"",'設定シート（ベースサーバv3）'!CZ41) | AI25: =IF('設定シート（ベースサーバv3）'!CZ42=0,"",'設定シート（ベースサーバv3）'!CZ42) | AJ25: =IF('設定シート（ベースサーバv3）'!CZ43=0,"",'設定シート（ベースサーバv3）'!CZ43) | AK25: =IF('設定シート（ベースサーバv3）'!CZ44=0,"",'設定シート（ベースサーバv3）'!CZ44) | AL25: =IF('設定シート（ベースサーバv3）'!CZ45=0,"",'設定シート（ベースサーバv3）'!CZ45) | AM25: =IF('設定シート（ベースサーバv3）'!CZ46=0,"",'設定シート（ベースサーバv3）'!CZ46) | AN25: =IF('設定シート（ベースサーバv3）'!CZ47=0,"",'設定シート（ベースサーバv3）'!CZ47)
F26: ='設定シート（ベースサーバv3）'!DD12 -> 25 | G26: =IF('設定シート（ベースサーバv3）'!DD13=0,"",'設定シート（ベースサーバv3）'!DD13) | H26: =IF('設定シート（ベースサーバv3）'!DD15=0,"",'設定シート（ベースサーバv3）'!DD15) | I26: =IF('設定シート（ベースサーバv3）'!DD16=0,"",'設定シート（ベースサーバv3）'!DD16) | J26: =IF('設定シート（ベースサーバv3）'!DD17=0,"0",'設定シート（ベースサーバv3）'!DD17) | K26: =IF('設定シート（ベースサーバv3）'!DD18=0,"",'設定シート（ベースサーバv3）'!DD18) | L26: =IF('設定シート（ベースサーバv3）'!DD19=0,"",'設定シート（ベースサーバv3）'!DD19) | M26: =IF('設定シート（ベースサーバv3）'!DD20=1,"1",'設定シート（ベースサーバv3）'!DD20) | N26: =IF('設定シート（ベースサーバv3）'!DD21=0,"",'設定シート（ベースサーバv3）'!DD21) | O26: =IF('設定シート（ベースサーバv3）'!DD22=0,"",'設定シート（ベースサーバv3）'!DD22) | P26: =IF('設定シート（ベースサーバv3）'!DD23=0,"",'設定シート（ベースサーバv3）'!DD23) | Q26: =IF('設定シート（ベースサーバv3）'!DD24=0,"",'設定シート（ベースサーバv3）'!DD24) | R26: =IF('設定シート（ベースサーバv3）'!DD25=0,"",'設定シート（ベースサーバv3）'!DD25) | S26: =IF('設定シート（ベースサーバv3）'!DD26=0,"",'設定シート（ベースサーバv3）'!DD26) | T26: =IF('設定シート（ベースサーバv3）'!DD27=0,"",'設定シート（ベースサーバv3）'!DD27) | U26: =IF('設定シート（ベースサーバv3）'!DD28=0,"",'設定シート（ベースサーバv3）'!DD28) | V26: =IF('設定シート（ベースサーバv3）'!DD29=0,"",'設定シート（ベースサーバv3）'!DD29) | W26: =IF('設定シート（ベースサーバv3）'!DD30=0,"",'設定シート（ベースサーバv3）'!DD30) | X26: =IF('設定シート（ベースサーバv3）'!DD31=0,"",'設定シート（ベースサーバv3）'!DD31) | Y26: =IF('設定シート（ベースサーバv3）'!DD32=0,"",'設定シート（ベースサーバv3）'!DD32) | Z26: =IF('設定シート（ベースサーバv3）'!DD33=0,"",'設定シート（ベースサーバv3）'!DD33) | AA26: =IF('設定シート（ベースサーバv3）'!DD34=0,"",'設定シート（ベースサーバv3）'!DD34) | AB26: =IF('設定シート（ベースサーバv3）'!DD35=0,"",'設定シート（ベースサーバv3）'!DD35) | AC26: =IF('設定シート（ベースサーバv3）'!DD36=0,"",'設定シート（ベースサーバv3）'!DD36) | AD26: =IF('設定シート（ベースサーバv3）'!DD37=0,"",'設定シート（ベースサーバv3）'!DD37) | AE26: =IF('設定シート（ベースサーバv3）'!DD38=0,"",'設定シート（ベースサーバv3）'!DD38) | AF26: =IF('設定シート（ベースサーバv3）'!DD39=0,"",'設定シート（ベースサーバv3）'!DD39) | AG26: =IF('設定シート（ベースサーバv3）'!DD40=0,"",'設定シート（ベースサーバv3）'!DD40) | AH26: =IF('設定シート（ベースサーバv3）'!DD41=0,"",'設定シート（ベースサーバv3）'!DD41) | AI26: =IF('設定シート（ベースサーバv3）'!DD42=0,"",'設定シート（ベースサーバv3）'!DD42) | AJ26: =IF('設定シート（ベースサーバv3）'!DD43=0,"",'設定シート（ベースサーバv3）'!DD43) | AK26: =IF('設定シート（ベースサーバv3）'!DD44=0,"",'設定シート（ベースサーバv3）'!DD44) | AL26: =IF('設定シート（ベースサーバv3）'!DD45=0,"",'設定シート（ベースサーバv3）'!DD45) | AM26: =IF('設定シート（ベースサーバv3）'!DD46=0,"",'設定シート（ベースサーバv3）'!DD46) | AN26: =IF('設定シート（ベースサーバv3）'!DD47=0,"",'設定シート（ベースサーバv3）'!DD47)
F27: ='設定シート（ベースサーバv3）'!DH12 -> 26 | G27: =IF('設定シート（ベースサーバv3）'!DH13=0,"",'設定シート（ベースサーバv3）'!DH13) | H27: =IF('設定シート（ベースサーバv3）'!DH15=0,"",'設定シート（ベースサーバv3）'!DH15) | I27: =IF('設定シート（ベースサーバv3）'!DH16=0,"",'設定シート（ベースサーバv3）'!DH16) | J27: =IF('設定シート（ベースサーバv3）'!DH17=0,"0",'設定シート（ベースサーバv3）'!DH17) | K27: =IF('設定シート（ベースサーバv3）'!DH18=0,"",'設定シート（ベースサーバv3）'!DH18) | L27: =IF('設定シート（ベースサーバv3）'!DH19=0,"",'設定シート（ベースサーバv3）'!DH19) | M27: =IF('設定シート（ベースサーバv3）'!DH20=1,"1",'設定シート（ベースサーバv3）'!DH20) | N27: =IF('設定シート（ベースサーバv3）'!DH21=0,"",'設定シート（ベースサーバv3）'!DH21) | O27: =IF('設定シート（ベースサーバv3）'!DH22=0,"",'設定シート（ベースサーバv3）'!DH22) | P27: =IF('設定シート（ベースサーバv3）'!DH23=0,"",'設定シート（ベースサーバv3）'!DH23) | Q27: =IF('設定シート（ベースサーバv3）'!DH24=0,"",'設定シート（ベースサーバv3）'!DH24) | R27: =IF('設定シート（ベースサーバv3）'!DH25=0,"",'設定シート（ベースサーバv3）'!DH25) | S27: =IF('設定シート（ベースサーバv3）'!DH26=0,"",'設定シート（ベースサーバv3）'!DH26) | T27: =IF('設定シート（ベースサーバv3）'!DH27=0,"",'設定シート（ベースサーバv3）'!DH27) | U27: =IF('設定シート（ベースサーバv3）'!DH28=0,"",'設定シート（ベースサーバv3）'!DH28) | V27: =IF('設定シート（ベースサーバv3）'!DH29=0,"",'設定シート（ベースサーバv3）'!DH29) | W27: =IF('設定シート（ベースサーバv3）'!DH30=0,"",'設定シート（ベースサーバv3）'!DH30) | X27: =IF('設定シート（ベースサーバv3）'!DH31=0,"",'設定シート（ベースサーバv3）'!DH31) | Y27: =IF('設定シート（ベースサーバv3）'!DH32=0,"",'設定シート（ベースサーバv3）'!DH32) | Z27: =IF('設定シート（ベースサーバv3）'!DH33=0,"",'設定シート（ベースサーバv3）'!DH33) | AA27: =IF('設定シート（ベースサーバv3）'!DH34=0,"",'設定シート（ベースサーバv3）'!DH34) | AB27: =IF('設定シート（ベースサーバv3）'!DH35=0,"",'設定シート（ベースサーバv3）'!DH35) | AC27: =IF('設定シート（ベースサーバv3）'!DH36=0,"",'設定シート（ベースサーバv3）'!DH36) | AD27: =IF('設定シート（ベースサーバv3）'!DH37=0,"",'設定シート（ベースサーバv3）'!DH37) | AE27: =IF('設定シート（ベースサーバv3）'!DH38=0,"",'設定シート（ベースサーバv3）'!DH38) | AF27: =IF('設定シート（ベースサーバv3）'!DH39=0,"",'設定シート（ベースサーバv3）'!DH39) | AG27: =IF('設定シート（ベースサーバv3）'!DH40=0,"",'設定シート（ベースサーバv3）'!DH40) | AH27: =IF('設定シート（ベースサーバv3）'!DH41=0,"",'設定シート（ベースサーバv3）'!DH41) | AI27: =IF('設定シート（ベースサーバv3）'!DH42=0,"",'設定シート（ベースサーバv3）'!DH42) | AJ27: =IF('設定シート（ベースサーバv3）'!DH43=0,"",'設定シート（ベースサーバv3）'!DH43) | AK27: =IF('設定シート（ベースサーバv3）'!DH44=0,"",'設定シート（ベースサーバv3）'!DH44) | AL27: =IF('設定シート（ベースサーバv3）'!DH45=0,"",'設定シート（ベースサーバv3）'!DH45) | AM27: =IF('設定シート（ベースサーバv3）'!DH46=0,"",'設定シート（ベースサーバv3）'!DH46) | AN27: =IF('設定シート（ベースサーバv3）'!DH47=0,"",'設定シート（ベースサーバv3）'!DH47)
F28: ='設定シート（ベースサーバv3）'!DL12 -> 27 | G28: =IF('設定シート（ベースサーバv3）'!DL13=0,"",'設定シート（ベースサーバv3）'!DL13) | H28: =IF('設定シート（ベースサーバv3）'!DL15=0,"",'設定シート（ベースサーバv3）'!DL15) | I28: =IF('設定シート（ベースサーバv3）'!DL16=0,"",'設定シート（ベースサーバv3）'!DL16) | J28: =IF('設定シート（ベースサーバv3）'!DL17=0,"0",'設定シート（ベースサーバv3）'!DL17) | K28: =IF('設定シート（ベースサーバv3）'!DL18=0,"",'設定シート（ベースサーバv3）'!DL18) | L28: =IF('設定シート（ベースサーバv3）'!DL19=0,"",'設定シート（ベースサーバv3）'!DL19) | M28: =IF('設定シート（ベースサーバv3）'!DL20=1,"1",'設定シート（ベースサーバv3）'!DL20) | N28: =IF('設定シート（ベースサーバv3）'!DL21=0,"",'設定シート（ベースサーバv3）'!DL21) | O28: =IF('設定シート（ベースサーバv3）'!DL22=0,"",'設定シート（ベースサーバv3）'!DL22) | P28: =IF('設定シート（ベースサーバv3）'!DL23=0,"",'設定シート（ベースサーバv3）'!DL23) | Q28: =IF('設定シート（ベースサーバv3）'!DL24=0,"",'設定シート（ベースサーバv3）'!DL24) | R28: =IF('設定シート（ベースサーバv3）'!DL25=0,"",'設定シート（ベースサーバv3）'!DL25) | S28: =IF('設定シート（ベースサーバv3）'!DL26=0,"",'設定シート（ベースサーバv3）'!DL26) | T28: =IF('設定シート（ベースサーバv3）'!DL27=0,"",'設定シート（ベースサーバv3）'!DL27) | U28: =IF('設定シート（ベースサーバv3）'!DL28=0,"",'設定シート（ベースサーバv3）'!DL28) | V28: =IF('設定シート（ベースサーバv3）'!DL29=0,"",'設定シート（ベースサーバv3）'!DL29) | W28: =IF('設定シート（ベースサーバv3）'!DL30=0,"",'設定シート（ベースサーバv3）'!DL30) | X28: =IF('設定シート（ベースサーバv3）'!DL31=0,"",'設定シート（ベースサーバv3）'!DL31) | Y28: =IF('設定シート（ベースサーバv3）'!DL32=0,"",'設定シート（ベースサーバv3）'!DL32) | Z28: =IF('設定シート（ベースサーバv3）'!DL33=0,"",'設定シート（ベースサーバv3）'!DL33) | AA28: =IF('設定シート（ベースサーバv3）'!DL34=0,"",'設定シート（ベースサーバv3）'!DL34) | AB28: =IF('設定シート（ベースサーバv3）'!DL35=0,"",'設定シート（ベースサーバv3）'!DL35) | AC28: =IF('設定シート（ベースサーバv3）'!DL36=0,"",'設定シート（ベースサーバv3）'!DL36) | AD28: =IF('設定シート（ベースサーバv3）'!DL37=0,"",'設定シート（ベースサーバv3）'!DL37) | AE28: =IF('設定シート（ベースサーバv3）'!DL38=0,"",'設定シート（ベースサーバv3）'!DL38) | AF28: =IF('設定シート（ベースサーバv3）'!DL39=0,"",'設定シート（ベースサーバv3）'!DL39) | AG28: =IF('設定シート（ベースサーバv3）'!DL40=0,"",'設定シート（ベースサーバv3）'!DL40) | AH28: =IF('設定シート（ベースサーバv3）'!DL41=0,"",'設定シート（ベースサーバv3）'!DL41) | AI28: =IF('設定シート（ベースサーバv3）'!DL42=0,"",'設定シート（ベースサーバv3）'!DL42) | AJ28: =IF('設定シート（ベースサーバv3）'!DL43=0,"",'設定シート（ベースサーバv3）'!DL43) | AK28: =IF('設定シート（ベースサーバv3）'!DL44=0,"",'設定シート（ベースサーバv3）'!DL44) | AL28: =IF('設定シート（ベースサーバv3）'!DL45=0,"",'設定シート（ベースサーバv3）'!DL45) | AM28: =IF('設定シート（ベースサーバv3）'!DL46=0,"",'設定シート（ベースサーバv3）'!DL46) | AN28: =IF('設定シート（ベースサーバv3）'!DL47=0,"",'設定シート（ベースサーバv3）'!DL47)
F29: ='設定シート（ベースサーバv3）'!DP12 -> 28 | G29: =IF('設定シート（ベースサーバv3）'!DP13=0,"",'設定シート（ベースサーバv3）'!DP13) | H29: =IF('設定シート（ベースサーバv3）'!DP15=0,"",'設定シート（ベースサーバv3）'!DP15) | I29: =IF('設定シート（ベースサーバv3）'!DP16=0,"",'設定シート（ベースサーバv3）'!DP16) | J29: =IF('設定シート（ベースサーバv3）'!DP17=0,"0",'設定シート（ベースサーバv3）'!DP17) | K29: =IF('設定シート（ベースサーバv3）'!DP18=0,"",'設定シート（ベースサーバv3）'!DP18) | L29: =IF('設定シート（ベースサーバv3）'!DP19=0,"",'設定シート（ベースサーバv3）'!DP19) | M29: =IF('設定シート（ベースサーバv3）'!DP20=1,"1",'設定シート（ベースサーバv3）'!DP20) | N29: =IF('設定シート（ベースサーバv3）'!DP21=0,"",'設定シート（ベースサーバv3）'!DP21) | O29: =IF('設定シート（ベースサーバv3）'!DP22=0,"",'設定シート（ベースサーバv3）'!DP22) | P29: =IF('設定シート（ベースサーバv3）'!DP23=0,"",'設定シート（ベースサーバv3）'!DP23) | Q29: =IF('設定シート（ベースサーバv3）'!DP24=0,"",'設定シート（ベースサーバv3）'!DP24) | R29: =IF('設定シート（ベースサーバv3）'!DP25=0,"",'設定シート（ベースサーバv3）'!DP25) | S29: =IF('設定シート（ベースサーバv3）'!DP26=0,"",'設定シート（ベースサーバv3）'!DP26) | T29: =IF('設定シート（ベースサーバv3）'!DP27=0,"",'設定シート（ベースサーバv3）'!DP27) | U29: =IF('設定シート（ベースサーバv3）'!DP28=0,"",'設定シート（ベースサーバv3）'!DP28) | V29: =IF('設定シート（ベースサーバv3）'!DP29=0,"",'設定シート（ベースサーバv3）'!DP29) | W29: =IF('設定シート（ベースサーバv3）'!DP30=0,"",'設定シート（ベースサーバv3）'!DP30) | X29: =IF('設定シート（ベースサーバv3）'!DP31=0,"",'設定シート（ベースサーバv3）'!DP31) | Y29: =IF('設定シート（ベースサーバv3）'!DP32=0,"",'設定シート（ベースサーバv3）'!DP32) | Z29: =IF('設定シート（ベースサーバv3）'!DP33=0,"",'設定シート（ベースサーバv3）'!DP33) | AA29: =IF('設定シート（ベースサーバv3）'!DP34=0,"",'設定シート（ベースサーバv3）'!DP34) | AB29: =IF('設定シート（ベースサーバv3）'!DP35=0,"",'設定シート（ベースサーバv3）'!DP35) | AC29: =IF('設定シート（ベースサーバv3）'!DP36=0,"",'設定シート（ベースサーバv3）'!DP36) | AD29: =IF('設定シート（ベースサーバv3）'!DP37=0,"",'設定シート（ベースサーバv3）'!DP37) | AE29: =IF('設定シート（ベースサーバv3）'!DP38=0,"",'設定シート（ベースサーバv3）'!DP38) | AF29: =IF('設定シート（ベースサーバv3）'!DP39=0,"",'設定シート（ベースサーバv3）'!DP39) | AG29: =IF('設定シート（ベースサーバv3）'!DP40=0,"",'設定シート（ベースサーバv3）'!DP40) | AH29: =IF('設定シート（ベースサーバv3）'!DP41=0,"",'設定シート（ベースサーバv3）'!DP41) | AI29: =IF('設定シート（ベースサーバv3）'!DP42=0,"",'設定シート（ベースサーバv3）'!DP42) | AJ29: =IF('設定シート（ベースサーバv3）'!DP43=0,"",'設定シート（ベースサーバv3）'!DP43) | AK29: =IF('設定シート（ベースサーバv3）'!DP44=0,"",'設定シート（ベースサーバv3）'!DP44) | AL29: =IF('設定シート（ベースサーバv3）'!DP45=0,"",'設定シート（ベースサーバv3）'!DP45) | AM29: =IF('設定シート（ベースサーバv3）'!DP46=0,"",'設定シート（ベースサーバv3）'!DP46) | AN29: =IF('設定シート（ベースサーバv3）'!DP47=0,"",'設定シート（ベースサーバv3）'!DP47)
F30: ='設定シート（ベースサーバv3）'!DT12 -> 29 | G30: =IF('設定シート（ベースサーバv3）'!DT13=0,"",'設定シート（ベースサーバv3）'!DT13) | H30: =IF('設定シート（ベースサーバv3）'!DT15=0,"",'設定シート（ベースサーバv3）'!DT15) | I30: =IF('設定シート（ベースサーバv3）'!DT16=0,"",'設定シート（ベースサーバv3）'!DT16) | J30: =IF('設定シート（ベースサーバv3）'!DT17=0,"0",'設定シート（ベースサーバv3）'!DT17) | K30: =IF('設定シート（ベースサーバv3）'!DT18=0,"",'設定シート（ベースサーバv3）'!DT18) | L30: =IF('設定シート（ベースサーバv3）'!DT19=0,"",'設定シート（ベースサーバv3）'!DT19) | M30: =IF('設定シート（ベースサーバv3）'!DT20=1,"1",'設定シート（ベースサーバv3）'!DT20) | N30: =IF('設定シート（ベースサーバv3）'!DT21=0,"",'設定シート（ベースサーバv3）'!DT21) | O30: =IF('設定シート（ベースサーバv3）'!DT22=0,"",'設定シート（ベースサーバv3）'!DT22) | P30: =IF('設定シート（ベースサーバv3）'!DT23=0,"",'設定シート（ベースサーバv3）'!DT23) | Q30: =IF('設定シート（ベースサーバv3）'!DT24=0,"",'設定シート（ベースサーバv3）'!DT24) | R30: =IF('設定シート（ベースサーバv3）'!DT25=0,"",'設定シート（ベースサーバv3）'!DT25) | S30: =IF('設定シート（ベースサーバv3）'!DT26=0,"",'設定シート（ベースサーバv3）'!DT26) | T30: =IF('設定シート（ベースサーバv3）'!DT27=0,"",'設定シート（ベースサーバv3）'!DT27) | U30: =IF('設定シート（ベースサーバv3）'!DT28=0,"",'設定シート（ベースサーバv3）'!DT28) | V30: =IF('設定シート（ベースサーバv3）'!DT29=0,"",'設定シート（ベースサーバv3）'!DT29) | W30: =IF('設定シート（ベースサーバv3）'!DT30=0,"",'設定シート（ベースサーバv3）'!DT30) | X30: =IF('設定シート（ベースサーバv3）'!DT31=0,"",'設定シート（ベースサーバv3）'!DT31) | Y30: =IF('設定シート（ベースサーバv3）'!DT32=0,"",'設定シート（ベースサーバv3）'!DT32) | Z30: =IF('設定シート（ベースサーバv3）'!DT33=0,"",'設定シート（ベースサーバv3）'!DT33) | AA30: =IF('設定シート（ベースサーバv3）'!DT34=0,"",'設定シート（ベースサーバv3）'!DT34) | AB30: =IF('設定シート（ベースサーバv3）'!DT35=0,"",'設定シート（ベースサーバv3）'!DT35) | AC30: =IF('設定シート（ベースサーバv3）'!DT36=0,"",'設定シート（ベースサーバv3）'!DT36) | AD30: =IF('設定シート（ベースサーバv3）'!DT37=0,"",'設定シート（ベースサーバv3）'!DT37) | AE30: =IF('設定シート（ベースサーバv3）'!DT38=0,"",'設定シート（ベースサーバv3）'!DT38) | AF30: =IF('設定シート（ベースサーバv3）'!DT39=0,"",'設定シート（ベースサーバv3）'!DT39) | AG30: =IF('設定シート（ベースサーバv3）'!DT40=0,"",'設定シート（ベースサーバv3）'!DT40) | AH30: =IF('設定シート（ベースサーバv3）'!DT41=0,"",'設定シート（ベースサーバv3）'!DT41) | AI30: =IF('設定シート（ベースサーバv3）'!DT42=0,"",'設定シート（ベースサーバv3）'!DT42) | AJ30: =IF('設定シート（ベースサーバv3）'!DT43=0,"",'設定シート（ベースサーバv3）'!DT43) | AK30: =IF('設定シート（ベースサーバv3）'!DT44=0,"",'設定シート（ベースサーバv3）'!DT44) | AL30: =IF('設定シート（ベースサーバv3）'!DT45=0,"",'設定シート（ベースサーバv3）'!DT45) | AM30: =IF('設定シート（ベースサーバv3）'!DT46=0,"",'設定シート（ベースサーバv3）'!DT46) | AN30: =IF('設定シート（ベースサーバv3）'!DT47=0,"",'設定シート（ベースサーバv3）'!DT47)
F31: ='設定シート（ベースサーバv3）'!DX12 -> 30 | G31: =IF('設定シート（ベースサーバv3）'!DX13=0,"",'設定シート（ベースサーバv3）'!DX13) | H31: =IF('設定シート（ベースサーバv3）'!DX15=0,"",'設定シート（ベースサーバv3）'!DX15) | I31: =IF('設定シート（ベースサーバv3）'!DX16=0,"",'設定シート（ベースサーバv3）'!DX16) | J31: =IF('設定シート（ベースサーバv3）'!DX17=0,"0",'設定シート（ベースサーバv3）'!DX17) | K31: =IF('設定シート（ベースサーバv3）'!DX18=0,"",'設定シート（ベースサーバv3）'!DX18) | L31: =IF('設定シート（ベースサーバv3）'!DX19=0,"",'設定シート（ベースサーバv3）'!DX19) | M31: =IF('設定シート（ベースサーバv3）'!DX20=1,"1",'設定シート（ベースサーバv3）'!DX20) | N31: =IF('設定シート（ベースサーバv3）'!DX21=0,"",'設定シート（ベースサーバv3）'!DX21) | O31: =IF('設定シート（ベースサーバv3）'!DX22=0,"",'設定シート（ベースサーバv3）'!DX22) | P31: =IF('設定シート（ベースサーバv3）'!DX23=0,"",'設定シート（ベースサーバv3）'!DX23) | Q31: =IF('設定シート（ベースサーバv3）'!DX24=0,"",'設定シート（ベースサーバv3）'!DX24) | R31: =IF('設定シート（ベースサーバv3）'!DX25=0,"",'設定シート（ベースサーバv3）'!DX25) | S31: =IF('設定シート（ベースサーバv3）'!DX26=0,"",'設定シート（ベースサーバv3）'!DX26) | T31: =IF('設定シート（ベースサーバv3）'!DX27=0,"",'設定シート（ベースサーバv3）'!DX27) | U31: =IF('設定シート（ベースサーバv3）'!DX28=0,"",'設定シート（ベースサーバv3）'!DX28) | V31: =IF('設定シート（ベースサーバv3）'!DX29=0,"",'設定シート（ベースサーバv3）'!DX29) | W31: =IF('設定シート（ベースサーバv3）'!DX30=0,"",'設定シート（ベースサーバv3）'!DX30) | X31: =IF('設定シート（ベースサーバv3）'!DX31=0,"",'設定シート（ベースサーバv3）'!DX31) | Y31: =IF('設定シート（ベースサーバv3）'!DX32=0,"",'設定シート（ベースサーバv3）'!DX32) | Z31: =IF('設定シート（ベースサーバv3）'!DX33=0,"",'設定シート（ベースサーバv3）'!DX33) | AA31: =IF('設定シート（ベースサーバv3）'!DX34=0,"",'設定シート（ベースサーバv3）'!DX34) | AB31: =IF('設定シート（ベースサーバv3）'!DX35=0,"",'設定シート（ベースサーバv3）'!DX35) | AC31: =IF('設定シート（ベースサーバv3）'!DX36=0,"",'設定シート（ベースサーバv3）'!DX36) | AD31: =IF('設定シート（ベースサーバv3）'!DX37=0,"",'設定シート（ベースサーバv3）'!DX37) | AE31: =IF('設定シート（ベースサーバv3）'!DX38=0,"",'設定シート（ベースサーバv3）'!DX38) | AF31: =IF('設定シート（ベースサーバv3）'!DX39=0,"",'設定シート（ベースサーバv3）'!DX39) | AG31: =IF('設定シート（ベースサーバv3）'!DX40=0,"",'設定シート（ベースサーバv3）'!DX40) | AH31: =IF('設定シート（ベースサーバv3）'!DX41=0,"",'設定シート（ベースサーバv3）'!DX41) | AI31: =IF('設定シート（ベースサーバv3）'!DX42=0,"",'設定シート（ベースサーバv3）'!DX42) | AJ31: =IF('設定シート（ベースサーバv3）'!DX43=0,"",'設定シート（ベースサーバv3）'!DX43) | AK31: =IF('設定シート（ベースサーバv3）'!DX44=0,"",'設定シート（ベースサーバv3）'!DX44) | AL31: =IF('設定シート（ベースサーバv3）'!DX45=0,"",'設定シート（ベースサーバv3）'!DX45) | AM31: =IF('設定シート（ベースサーバv3）'!DX46=0,"",'設定シート（ベースサーバv3）'!DX46) | AN31: =IF('設定シート（ベースサーバv3）'!DX47=0,"",'設定シート（ベースサーバv3）'!DX47)

Sheet ご記入の手引き
B1: SmartConnect Cloud Platform（Type-B） 設定シートご記入の手引き
B3: はじめにご確認ください。
B5: 設定シートについて
C6: SmartConnect Cloud Platformのご利用にあたり各種設定シートを記入いただく必要がございます。
E8: 橙色のセル部が記入事項となります。
C9: ・設定シート（ベースサーバ）：契約サーバ台数やサーバプラン、スペック等の設定情報となります
B12: 注意事項
B14: 【新規申込時の記入方法について】
C15: ・申込種別を「新規」としてご記入ください
C16: ・「設定シート（ベースサーバ）」のお申込みサーバ番号１番から順に、ご希望のサーバ台数分のサーバプラン、スペック等をご記入ください
B18: 【設定変更・削除時の記入方法について】
C19: ・申込種別を「変更」としてご記入ください
C20: ・設定を変更する場合も新規申込時と同じく、橙色のセル部に変更後の設定をご記入ください
C21: ・オプション解約等で設定を削除する場合は、該当部分の橙色のセル部を空欄にしてください

Sheet 設定シート（ベースサーバv3）
A2: SmartConnect Cloud Platform（Type-B） パラメータシート（ベースサーバv3）
A5: 申込種別 | B5: =IF(B6="","新規","変更") -> 新規
A6: テナントID※既契約のお客様のみ記載 | B6: =IF(ImportExport!BH2=0,"",ImportExport!BH2)
A7: 契約者名 | B7: =IF(ImportExport!BI2=0,"",ImportExport!BI2)
A8: 試験用IPアドレス※1 | B8: =IF(ImportExport!BJ2=0,"",ImportExport!BJ2)
A9: 特別対応 | B9: =IF(ImportExport!BK2=0,"",ImportExport!BK2)
A12: ※1本設定シート「③リモートコンソール設定」の「IPアドレス」と同じセグメントから弊社にて設定可能なIPアドレスを1つご記載ください。（重複不可） | J12: お申込みサーバ番号 | L12: 1 | N12: お申込みサーバ番号 | P12: 2 | R12: お申込みサーバ番号 | T12: 3 | V12: お申込みサーバ番号 | X12: 4 | Z12: お申込みサーバ番号 | AB12: 5 | AD12: お申込みサーバ番号 | AF12: 6 | AH12: お申込みサーバ番号 | AJ12: 7 | AL12: お申込みサーバ番号 | AN12: 8 | AP12: お申込みサーバ番号 | AR12: 9 | AT12: お申込みサーバ番号 | AV12: 10 | AX12: お申込みサーバ番号 | AZ12: 11 | BB12: お申込みサーバ番号 | BD12: 12 | BF12: お申込みサーバ番号 | BH12: 13 | BJ12: お申込みサーバ番号 | BL12: 14 | BN12: お申込みサーバ番号 | BP12: 15 | BR12: お申込みサーバ番号 | BT12: 16 | BV12: お申込みサーバ番号 | BX12: 17 | BZ12: お申込みサーバ番号 | CB12: 18 | CD12: お申込みサーバ番号 | CF12: 19 | CH12: お申込みサーバ番号 | CJ12: 20 | CL12: お申込みサーバ番号 | CN12: 21 | CP12: お申込みサーバ番号 | CR12: 22 | CT12: お申込みサーバ番号 | CV12: 23 | CX12: お申込みサーバ番号 | CZ12: 24 | DB12: お申込みサーバ番号 | DD12: 25 | DF12: お申込みサーバ番号 | DH12: 26 | DJ12: お申込みサーバ番号 | DL12: 27 | DN12: お申込みサーバ番号 | DP12: 28 | DR12: お申込みサーバ番号 | DT12: 29 | DV12: お申込みサーバ番号 | DX12: 30
J13: サーバ名 | L13: =IF(ImportExport!BM2=0,"",ImportExport!BM2) | N13: サーバ名 | P13: =IF(ImportExport!BM3=0,"",ImportExport!BM3) | R13: サーバ名 | T13: =IF(ImportExport!BM4=0,"",ImportExport!BM4) | V13: サーバ名 | X13: =IF(ImportExport!BM5=0,"",ImportExport!BM5) | Z13: サーバ名 | AB13: =IF(ImportExport!BM6=0,"",ImportExport!BM6) | AD13: サーバ名 | AF13: =IF(ImportExport!BM7=0,"",ImportExport!BM7) | AH13: サーバ名 | AJ13: =IF(ImportExport!BM8=0,"",ImportExport!BM8) | AL13: サーバ名 | AN13: =IF(ImportExport!BM9=0,"",ImportExport!BM9) | AP13: サーバ名 | AR13: =IF(ImportExport!BM10=0,"",ImportExport!BM10) | AT13: サーバ名 | AV13: =IF(ImportExport!BM11=0,"",ImportExport!BM11) | AX13: サーバ名 | AZ13: =IF(ImportExport!BM12=0,"",ImportExport!BM12) | BB13: サーバ名 | BD13: =IF(ImportExport!BM13=0,"",ImportExport!BM13) | BF13: サーバ名 | BH13: =IF(ImportExport!BM14=0,"",ImportExport!BM14) | BJ13: サーバ名 | BL13: =IF(ImportExport!BM15=0,"",ImportExport!BM15) | BN13: サーバ名 | BP13: =IF(ImportExport!BM16=0,"",ImportExport!BM16) | BR13: サーバ名 | BT13: =IF(ImportExport!BM17=0,"",ImportExport!BM17) | BV13: サーバ名 | BX13: =IF(ImportExport!BM18=0,"",ImportExport!BM18) | BZ13: サーバ名 | CB13: =IF(ImportExport!BM19=0,"",ImportExport!BM19) | CD13: サーバ名 | CF13: =IF(ImportExport!BM20=0,"",ImportExport!BM20) | CH13: サーバ名 | CJ13: =IF(ImportExport!BM21=0,"",ImportExport!BM21) | CL13: サーバ名 | CN13: =IF(ImportExport!BM22=0,"",ImportExport!BM22) | CP13: サーバ名 | CR13: =IF(ImportExport!BM23=0,"",ImportExport!BM23) | CT13: サーバ名 | CV13: =IF(ImportExport!BM24=0,"",ImportExport!BM24) | CX13: サーバ名 | CZ13: =IF(ImportExport!BM25=0,"",ImportExport!BM25) | DB13: サーバ名 | DD13: =IF(ImportExport!BM26=0,"",ImportExport!BM26) | DF13: サーバ名 | DH13: =IF(ImportExport!BM27=0,"",ImportExport!BM27) | DJ13: サーバ名 | DL13: =IF(ImportExport!BM28=0,"",ImportExport!BM28) | DN13: サーバ名 | DP13: =IF(ImportExport!BM29=0,"",ImportExport!BM29) | DR13: サーバ名 | DT13: =IF(ImportExport!BM30=0,"",ImportExport!BM30) | DV13: サーバ名 | DX13: =IF(ImportExport!BM31=0,"",ImportExport!BM31)
A14: カテゴリ | B14: 項目名 | D14: 説明 | J14: 変更前の設定 | K14: 変更内容 | L14: 新規設定 （変更後の設定） | N14: 変更前の設定 | O14: 変更内容 | P14: 新規設定 （変更後の設定） | R14: 変更前の設定 | S14: 変更内容 | T14: 新規設定 （変更後の設定） | V14: 変更前の設定 | W14: 変更内容 | X14: 新規設定 （変更後の設定） | Z14: 変更前の設定 | AA14: 変更内容 | AB14: 新規設定 （変更後の設定） | AD14: 変更前の設定 | AE14: 変更内容 | AF14: 新規設定 （変更後の設定） | AH14: 変更前の設定 | AI14: 変更内容 | AJ14: 新規設定 （変更後の設定） | AL14: 変更前の設定 | AM14: 変更内容 | AN14: 新規設定 （変更後の設定） | AP14: 変更前の設定 | AQ14: 変更内容 | AR14: 新規設定 （変更後の設定） | AT14: 変更前の設定 | AU14: 変更内容 | AV14: 新規設定 （変更後の設定） | AX14: 変更前の設定 | AY14: 変更内容 | AZ14: 新規設定 （変更後の設定） | BB14: 変更前の設定 | BC14: 変更内容 | BD14: 新規設定 （変更後の設定） | BF14: 変更前の設定 | BG14: 変更内容 | BH14: 新規設定 （変更後の設定） | BJ14: 変更前の設定 | BK14: 変更内容 | BL14: 新規設定 （変更後の設定） | BN14: 変更前の設定 | BO14: 変更内容 | BP14: 新規設定 （変更後の設定） | BR14: 変更前の設定 | BS14: 変更内容 | BT14: 新規設定 （変更後の設定） | BV14: 変更前の設定 | BW14: 変更内容 | BX14: 新規設定 （変更後の設定） | BZ14: 変更前の設定 | CA14: 変更内容 | CB14: 新規設定 （変更後の設定） | CD14: 変更前の設定 | CE14: 変更内容 | CF14: 新規設定 （変更後の設定） | CH14: 変更前の設定 | CI14: 変更内容 | CJ14: 新規設定 （変更後の設定） | CL14: 変更前の設定 | CM14: 変更内容 | CN14: 新規設定 （変更後の設定） | CP14: 変更前の設定 | CQ14: 変更内容 | CR14: 新規設定 （変更後の設定） | CT14: 変更前の設定 | CU14: 変更内容 | CV14: 新規設定 （変更後の設定） | CX14: 変更前の設定 | CY14: 変更内容 | CZ14: 新規設定 （変更後の設定） | DB14: 変更前の設定 | DC14: 変更内容 | DD14: 新規設定 （変更後の設定） | DF14: 変更前の設定 | DG14: 変更内容 | DH14: 新規設定 （変更後の設定） | DJ14: 変更前の設定 | DK14: 変更内容 | DL14: 新規設定 （変更後の設定） | DN14: 変更前の設定 | DO14: 変更内容 | DP14: 新規設定 （変更後の設定） | DR14: 変更前の設定 | DS14: 変更内容 | DT14: 新規設定 （変更後の設定） | DV14: 変更前の設定 | DW14: 変更内容 | DX14: 新規設定 （変更後の設定）
A15: ①ベースサーバー | B15: ベースサーバプラン | D15: 利用されるベースサーバプランをご記入ください。 | J15: =IF(ImportExport!BN2=0,"",ImportExport!BN2) | K15: =IF(L13="","",IF(J15=L15,"","変更")) | L15: =J15 | N15: =IF(ImportExport!BN3=0,"",ImportExport!BN3) | O15: =IF(P13="","",IF(N15=P15,"","変更")) | P15: =N15 | R15: =IF(ImportExport!BN4=0,"",ImportExport!BN4) | S15: =IF(T13="","",IF(R15=T15,"","変更")) | T15: =R15 | V15: =IF(ImportExport!BN5=0,"",ImportExport!BN5) | W15: =IF(X13="","",IF(V15=X15,"","変更")) | X15: =V15 | Z15: =IF(ImportExport!BN6=0,"",ImportExport!BN6) | AA15: =IF(AB13="","",IF(Z15=AB15,"","変更")) | AB15: =Z15 | AD15: =IF(ImportExport!BN7=0,"",ImportExport!BN7) | AE15: =IF(AF13="","",IF(AD15=AF15,"","変更")) | AF15: =AD15 | AH15: =IF(ImportExport!BN8=0,"",ImportExport!BN8) | AI15: =IF(AJ13="","",IF(AH15=AJ15,"","変更")) | AJ15: =AH15 | AL15: =IF(ImportExport!BN9=0,"",ImportExport!BN9) | AM15: =IF(AN13="","",IF(AL15=AN15,"","変更")) | AN15: =AL15 | AP15: =IF(ImportExport!BN10=0,"",ImportExport!BN10) | AQ15: =IF(AR13="","",IF(AP15=AR15,"","変更")) | AR15: =AP15 | AT15: =IF(ImportExport!BN11=0,"",ImportExport!BN11) | AU15: =IF(AV13="","",IF(AT15=AV15,"","変更")) | AV15: =AT15 | AX15: =IF(ImportExport!BN12=0,"",ImportExport!BN12) | AY15: =IF(AZ13="","",IF(AX15=AZ15,"","変更")) | AZ15: =AX15 | BB15: =IF(ImportExport!BN13=0,"",ImportExport!BN13) | BC15: =IF(BD13="","",IF(BB15=BD15,"","変更")) | BD15: =BB15 | BF15: =IF(ImportExport!BN14=0,"",ImportExport!BN14) | BG15: =IF(BH13="","",IF(BF15=BH15,"","変更")) | BH15: =BF15 | BJ15: =IF(ImportExport!BN15=0,"",ImportExport!BN15) | BK15: =IF(BL13="","",IF(BJ15=BL15,"","変更")) | BL15: =BJ15 | BN15: =IF(ImportExport!BN16=0,"",ImportExport!BN16) | BO15: =IF(BP13="","",IF(BN15=BP15,"","変更")) | BP15: =BN15 | BR15: =IF(ImportExport!BN17=0,"",ImportExport!BN17) | BS15: =IF(BT13="","",IF(BR15=BT15,"","変更")) | BT15: =BR15 | BV15: =IF(ImportExport!BN18=0,"",ImportExport!BN18) | BW15: =IF(BX13="","",IF(BV15=BX15,"","変更")) | BX15: =BV15 | BZ15: =IF(ImportExport!BN19=0,"",ImportExport!BN19) | CA15: =IF(CB13="","",IF(BZ15=CB15,"","変更")) | CB15: =BZ15 | CD15: =IF(ImportExport!BN20=0,"",ImportExport!BN20) | CE15: =IF(CF13="","",IF(CD15=CF15,"","変更")) | CF15: =CD15 | CH15: =IF(ImportExport!BN21=0,"",ImportExport!BN21) | CI15: =IF(CJ13="","",IF(CH15=CJ15,"","変更")) | CJ15: =CH15 | CL15: =IF(ImportExport!BN22=0,"",ImportExport!BN22) | CM15: =IF(CN13="","",IF(CL15=CN15,"","変更")) | CN15: =CL15 | CP15: =IF(ImportExport!BN23=0,"",ImportExport!BN23) | CQ15: =IF(CR13="","",IF(CP15=CR15,"","変更")) | CR15: =CP15 | CT15: =IF(ImportExport!BN24=0,"",ImportExport!BN24) | CU15: =IF(CV13="","",IF(CT15=CV15,"","変更")) | CV15: =CT15 | CX15: =IF(ImportExport!BN25=0,"",ImportExport!BN25) | CY15: =IF(CZ13="","",IF(CX15=CZ15,"","変更")) | CZ15: =CX15 | DB15: =IF(ImportExport!BN26=0,"",ImportExport!BN26) | DC15: =IF(DD13="","",IF(DB15=DD15,"","変更")) | DD15: =DB15 | DF15: =IF(ImportExport!BN27=0,"",ImportExport!BN27) | DG15: =IF(DH13="","",IF(DF15=DH15,"","変更")) | DH15: =DF15 | DJ15: =IF(ImportExport!BN28=0,"",ImportExport!BN28) | DK15: =IF(DL13="","",IF(DJ15=DL15,"","変更")) | DL15: =DJ15 | DN15: =IF(ImportExport!BN29=0,"",ImportExport!BN29) | DO15: =IF(DP13="","",IF(DN15=DP15,"","変更")) | DP15: =DN15 | DR15: =IF(ImportExport!BN30=0,"",ImportExport!BN30) | DS15: =IF(DT13="","",IF(DR15=DT15,"","変更")) | DT15: =DR15 | DV15: =IF(ImportExport!BN31=0,"",ImportExport!BN31) | DW15: =IF(DX13="","",IF(DV15=DX15,"","変更")) | DX15: =DV15
B16: CPU追加 | D16: CPU追加あり、なしをご記入ください。 | J16: =IF(ImportExport!BO2=0,"",ImportExport!BO2) | K16: =IF(L13="","",IF(J16=L16,"","変更")) | L16: =J16 | N16: =IF(ImportExport!BO3=0,"",ImportExport!BO3) | O16: =IF(P13="","",IF(N16=P16,"","変更")) | P16: =N16 | R16: =IF(ImportExport!BO4=0,"",ImportExport!BO4) | S16: =IF(T13="","",IF(R16=T16,"","変更")) | T16: =R16 | V16: =IF(ImportExport!BO5=0,"",ImportExport!BO5) | W16: =IF(X13="","",IF(V16=X16,"","変更")) | X16: =V16 | Z16: =IF(ImportExport!BO6=0,"",ImportExport!BO6) | AA16: =IF(AB13="","",IF(Z16=AB16,"","変更")) | AB16: =Z16 | AD16: =IF(ImportExport!BO7=0,"",ImportExport!BO7) | AE16: =IF(AF13="","",IF(AD16=AF16,"","変更")) | AF16: =AD16 | AH16: =IF(ImportExport!BO8=0,"",ImportExport!BO8) | AI16: =IF(AJ13="","",IF(AH16=AJ16,"","変更")) | AJ16: =AH16 | AL16: =IF(ImportExport!BO9=0,"",ImportExport!BO9) | AM16: =IF(AN13="","",IF(AL16=AN16,"","変更")) | AN16: =AL16 | AP16: =IF(ImportExport!BO10=0,"",ImportExport!BO10) | AQ16: =IF(AR13="","",IF(AP16=AR16,"","変更")) | AR16: =AP16 | AT16: =IF(ImportExport!BO11=0,"",ImportExport!BO11) | AU16: =IF(AV13="","",IF(AT16=AV16,"","変更")) | AV16: =AT16 | AX16: =IF(ImportExport!BO12=0,"",ImportExport!BO12) | AY16: =IF(AZ13="","",IF(AX16=AZ16,"","変更")) | AZ16: =AX16 | BB16: =IF(ImportExport!BO13=0,"",ImportExport!BO13) | BC16: =IF(BD13="","",IF(BB16=BD16,"","変更")) | BD16: =BB16 | BF16: =IF(ImportExport!BO14=0,"",ImportExport!BO14) | BG16: =IF(BH13="","",IF(BF16=BH16,"","変更")) | BH16: =BF16 | BJ16: =IF(ImportExport!BO15=0,"",ImportExport!BO15) | BK16: =IF(BL13="","",IF(BJ16=BL16,"","変更")) | BL16: =BJ16 | BN16: =IF(ImportExport!BO16=0,"",ImportExport!BO16) | BO16: =IF(BP13="","",IF(BN16=BP16,"","変更")) | BP16: =BN16 | BR16: =IF(ImportExport!BO17=0,"",ImportExport!BO17) | BS16: =IF(BT13="","",IF(BR16=BT16,"","変更")) | BT16: =BR16 | BV16: =IF(ImportExport!BO18=0,"",ImportExport!BO18) | BW16: =IF(BX13="","",IF(BV16=BX16,"","変更")) | BX16: =BV16 | BZ16: =IF(ImportExport!BO19=0,"",ImportExport!BO19) | CA16: =IF(CB13="","",IF(BZ16=CB16,"","変更")) | CB16: =BZ16 | CD16: =IF(ImportExport!BO20=0,"",ImportExport!BO20) | CE16: =IF(CF13="","",IF(CD16=CF16,"","変更")) | CF16: =CD16 | CH16: =IF(ImportExport!BO21=0,"",ImportExport!BO21) | CI16: =IF(CJ13="","",IF(CH16=CJ16,"","変更")) | CJ16: =CH16 | CL16: =IF(ImportExport!BO22=0,"",ImportExport!BO22) | CM16: =IF(CN13="","",IF(CL16=CN16,"","変更")) | CN16: =CL16 | CP16: =IF(ImportExport!BO23=0,"",ImportExport!BO23) | CQ16: =IF(CR13="","",IF(CP16=CR16,"","変更")) | CR16: =CP16 | CT16: =IF(ImportExport!BO24=0,"",ImportExport!BO24) | CU16: =IF(CV13="","",IF(CT16=CV16,"","変更")) | CV16: =CT16 | CX16: =IF(ImportExport!BO25=0,"",ImportExport!BO25) | CY16: =IF(CZ13="","",IF(CX16=CZ16,"","変更")) | CZ16: =CX16 | DB16: =IF(ImportExport!BO26=0,"",ImportExport!BO26) | DC16: =IF(DD13="","",IF(DB16=DD16,"","変更")) | DD16: =DB16 | DF16: =IF(ImportExport!BO27=0,"",ImportExport!BO27) | DG16: =IF(DH13="","",IF(DF16=DH16,"","変更")) | DH16: =DF16 | DJ16: =IF(ImportExport!BO28=0,"",ImportExport!BO28) | DK16: =IF(DL13="","",IF(DJ16=DL16,"","変更")) | DL16: =DJ16 | DN16: =IF(ImportExport!BO29=0,"",ImportExport!BO29) | DO16: =IF(DP13="","",IF(DN16=DP16,"","変更")) | DP16: =DN16 | DR16: =IF(ImportExport!BO30=0,"",ImportExport!BO30) | DS16: =IF(DT13="","",IF(DR16=DT16,"","変更")) | DT16: =DR16 | DV16: =IF(ImportExport!BO31=0,"",ImportExport!BO31) | DW16: =IF(DX13="","",IF(DV16=DX16,"","変更")) | DX16: =DV16
B17: メモリ追加数 | D17: 合計搭載メモリ数は下記のパターンとなるようにご記入ください。 ・CPU追加なしの場合：1,2,4,6,8,12,16 ・CPU追加ありの場合：2,4,8,12,16,24,32 | J17: =IF(ImportExport!BP2=0,"",ImportExport!BP2) | K17: =IF(L13="","",IF(J17=L17,"","変更")) | L17: =J17 | N17: =IF(ImportExport!BP3=0,"",ImportExport!BP3) | O17: =IF(P13="","",IF(N17=P17,"","変更")) | P17: =N17 | R17: =IF(ImportExport!BP4=0,"",ImportExport!BP4) | S17: =IF(T13="","",IF(R17=T17,"","変更")) | T17: =R17 | V17: =IF(ImportExport!BP5=0,"",ImportExport!BP5) | W17: =IF(X13="","",IF(V17=X17,"","変更")) | X17: =V17 | Z17: =IF(ImportExport!BP6=0,"",ImportExport!BP6) | AA17: =IF(AB13="","",IF(Z17=AB17,"","変更")) | AB17: =Z17 | AD17: =IF(ImportExport!BP7=0,"",ImportExport!BP7) | AE17: =IF(AF13="","",IF(AD17=AF17,"","変更")) | AF17: =AD17 | AH17: =IF(ImportExport!BP8=0,"",ImportExport!BP8) | AI17: =IF(AJ13="","",IF(AH17=AJ17,"","変更")) | AJ17: =AH17 | AL17: =IF(ImportExport!BP9=0,"",ImportExport!BP9) | AM17: =IF(AN13="","",IF(AL17=AN17,"","変更")) | AN17: =AL17 | AP17: =IF(ImportExport!BP10=0,"",ImportExport!BP10) | AQ17: =IF(AR13="","",IF(AP17=AR17,"","変更")) | AR17: =AP17 | AT17: =IF(ImportExport!BP11=0,"",ImportExport!BP11) | AU17: =IF(AV13="","",IF(AT17=AV17,"","変更")) | AV17: =AT17 | AX17: =IF(ImportExport!BP12=0,"",ImportExport!BP12) | AY17: =IF(AZ13="","",IF(AX17=AZ17,"","変更")) | AZ17: =AX17 | BB17: =IF(ImportExport!BP13=0,"",ImportExport!BP13) | BC17: =IF(BD13="","",IF(BB17=BD17,"","変更")) | BD17: =BB17 | BF17: =IF(ImportExport!BP14=0,"",ImportExport!BP14) | BG17: =IF(BH13="","",IF(BF17=BH17,"","変更")) | BH17: =BF17 | BJ17: =IF(ImportExport!BP15=0,"",ImportExport!BP15) | BK17: =IF(BL13="","",IF(BJ17=BL17,"","変更")) | BL17: =BJ17 | BN17: =IF(ImportExport!BP16=0,"",ImportExport!BP16) | BO17: =IF(BP13="","",IF(BN17=BP17,"","変更")) | BP17: =BN17 | BR17: =IF(ImportExport!BP17=0,"",ImportExport!BP17) | BS17: =IF(BT13="","",IF(BR17=BT17,"","変更")) | BT17: =BR17 | BV17: =IF(ImportExport!BP18=0,"",ImportExport!BP18) | BW17: =IF(BX13="","",IF(BV17=BX17,"","変更")) | BX17: =BV17 | BZ17: =IF(ImportExport!BP19=0,"",ImportExport!BP19) | CA17: =IF(CB13="","",IF(BZ17=CB17,"","変更")) | CB17: =BZ17 | CD17: =IF(ImportExport!BP20=0,"",ImportExport!BP20) | CE17: =IF(CF13="","",IF(CD17=CF17,"","変更")) | CF17: =CD17 | CH17: =IF(ImportExport!BP21=0,"",ImportExport!BP21) | CI17: =IF(CJ13="","",IF(CH17=CJ17,"","変更")) | CJ17: =CH17 | CL17: =IF(ImportExport!BP22=0,"",ImportExport!BP22) | CM17: =IF(CN13="","",IF(CL17=CN17,"","変更")) | CN17: =CL17 | CP17: =IF(ImportExport!BP23=0,"",ImportExport!BP23) | CQ17: =IF(CR13="","",IF(CP17=CR17,"","変更")) | CR17: =CP17 | CT17: =IF(ImportExport!BP24=0,"",ImportExport!BP24) | CU17: =IF(CV13="","",IF(CT17=CV17,"","変更")) | CV17: =CT17 | CX17: =IF(ImportExport!BP25=0,"",ImportExport!BP25) | CY17: =IF(CZ13="","",IF(CX17=CZ17,"","変更")) | CZ17: =CX17 | DB17: =IF(ImportExport!BP26=0,"",ImportExport!BP26) | DC17: =IF(DD13="","",IF(DB17=DD17,"","変更")) | DD17: =DB17 | DF17: =IF(ImportExport!BP27=0,"",ImportExport!BP27) | DG17: =IF(DH13="","",IF(DF17=DH17,"","変更")) | DH17: =DF17 | DJ17: =IF(ImportExport!BP28=0,"",ImportExport!BP28) | DK17: =IF(DL13="","",IF(DJ17=DL17,"","変更")) | DL17: =DJ17 | DN17: =IF(ImportExport!BP29=0,"",ImportExport!BP29) | DO17: =IF(DP13="","",IF(DN17=DP17,"","変更")) | DP17: =DN17 | DR17: =IF(ImportExport!BP30=0,"",ImportExport!BP30) | DS17: =IF(DT13="","",IF(DR17=DT17,"","変更")) | DT17: =DR17 | DV17: =IF(ImportExport!BP31=0,"",ImportExport!BP31) | DW17: =IF(DX13="","",IF(DV17=DX17,"","変更")) | DX17: =DV17
B18: 標準搭載メモリ数 | J18: =IF(ImportExport!BQ2=0,"",ImportExport!BQ2) | K18: =IF(L13="","",IF(J18=L18,"","変更")) | L18: =IF(J18<>"",J18,IF(L15<>"",1,"")) | N18: =IF(ImportExport!BQ3=0,"",ImportExport!BQ3) | O18: =IF(P13="","",IF(N18=P18,"","変更")) | P18: =IF(N18<>"",N18,IF(P15<>"",1,"")) | R18: =IF(ImportExport!BQ4=0,"",ImportExport!BQ4) | S18: =IF(T13="","",IF(R18=T18,"","変更")) | T18: =IF(R18<>"",R18,IF(T15<>"",1,"")) | V18: =IF(ImportExport!BQ5=0,"",ImportExport!BQ5) | W18: =IF(X13="","",IF(V18=X18,"","変更")) | X18: =IF(V18<>"",V18,IF(X15<>"",1,"")) | Z18: =IF(ImportExport!BQ6=0,"",ImportExport!BQ6) | AA18: =IF(AB13="","",IF(Z18=AB18,"","変更")) | AB18: =IF(Z18<>"",Z18,IF(AB15<>"",1,"")) | AD18: =IF(ImportExport!BQ7=0,"",ImportExport!BQ7) | AE18: =IF(AF13="","",IF(AD18=AF18,"","変更")) | AF18: =IF(AD18<>"",AD18,IF(AF15<>"",1,"")) | AH18: =IF(ImportExport!BQ8=0,"",ImportExport!BQ8) | AI18: =IF(AJ13="","",IF(AH18=AJ18,"","変更")) | AJ18: =IF(AH18<>"",AH18,IF(AJ15<>"",1,"")) | AL18: =IF(ImportExport!BQ9=0,"",ImportExport!BQ9) | AM18: =IF(AN13="","",IF(AL18=AN18,"","変更")) | AN18: =IF(AL18<>"",AL18,IF(AN15<>"",1,"")) | AP18: =IF(ImportExport!BQ10=0,"",ImportExport!BQ10) | AQ18: =IF(AR13="","",IF(AP18=AR18,"","変更")) | AR18: =IF(AP18<>"",AP18,IF(AR15<>"",1,"")) | AT18: =IF(ImportExport!BQ11=0,"",ImportExport!BQ11) | AU18: =IF(AV13="","",IF(AT18=AV18,"","変更")) | AV18: =IF(AT18<>"",AT18,IF(AV15<>"",1,"")) | AX18: =IF(ImportExport!BQ12=0,"",ImportExport!BQ12) | AY18: =IF(AZ13="","",IF(AX18=AZ18,"","変更")) | AZ18: =IF(AX18<>"",AX18,IF(AZ15<>"",1,"")) | BB18: =IF(ImportExport!BQ13=0,"",ImportExport!BQ13) | BC18: =IF(BD13="","",IF(BB18=BD18,"","変更")) | BD18: =IF(BB18<>"",BB18,IF(BD15<>"",1,"")) | BF18: =IF(ImportExport!BQ14=0,"",ImportExport!BQ14) | BG18: =IF(BH13="","",IF(BF18=BH18,"","変更")) | BH18: =IF(BF18<>"",BF18,IF(BH15<>"",1,"")) | BJ18: =IF(ImportExport!BQ15=0,"",ImportExport!BQ15) | BK18: =IF(BL13="","",IF(BJ18=BL18,"","変更")) | BL18: =IF(BJ18<>"",BJ18,IF(BL15<>"",1,"")) | BN18: =IF(ImportExport!BQ16=0,"",ImportExport!BQ16) | BO18: =IF(BP13="","",IF(BN18=BP18,"","変更")) | BP18: =IF(BN18<>"",BN18,IF(BP15<>"",1,"")) | BR18: =IF(ImportExport!BQ17=0,"",ImportExport!BQ17) | BS18: =IF(BT13="","",IF(BR18=BT18,"","変更")) | BT18: =IF(BR18<>"",BR18,IF(BT15<>"",1,"")) | BV18: =IF(ImportExport!BQ18=0,"",ImportExport!BQ18) | BW18: =IF(BX13="","",IF(BV18=BX18,"","変更")) | BX18: =IF(BV18<>"",BV18,IF(BX15<>"",1,"")) | BZ18: =IF(ImportExport!BQ19=0,"",ImportExport!BQ19) | CA18: =IF(CB13="","",IF(BZ18=CB18,"","変更")) | CB18: =IF(BZ18<>"",BZ18,IF(CB15<>"",1,"")) | CD18: =IF(ImportExport!BQ20=0,"",ImportExport!BQ20) | CE18: =IF(CF13="","",IF(CD18=CF18,"","変更")) | CF18: =IF(CD18<>"",CD18,IF(CF15<>"",1,"")) | CH18: =IF(ImportExport!BQ21=0,"",ImportExport!BQ21) | CI18: =IF(CJ13="","",IF(CH18=CJ18,"","変更")) | CJ18: =IF(CH18<>"",CH18,IF(CJ15<>"",1,"")) | CL18: =IF(ImportExport!BQ22=0,"",ImportExport!BQ22) | CM18: =IF(CN13="","",IF(CL18=CN18,"","変更")) | CN18: =IF(CL18<>"",CL18,IF(CN15<>"",1,"")) | CP18: =IF(ImportExport!BQ23=0,"",ImportExport!BQ23) | CQ18: =IF(CR13="","",IF(CP18=CR18,"","変更")) | CR18: =IF(CP18<>"",CP18,IF(CR15<>"",1,"")) | CT18: =IF(ImportExport!BQ24=0,"",ImportExport!BQ24) | CU18: =IF(CV13="","",IF(CT18=CV18,"","変更")) | CV18: =IF(CT18<>"",CT18,IF(CV15<>"",1,"")) | CX18: =IF(ImportExport!BQ25=0,"",ImportExport!BQ25) | CY18: =IF(CZ13="","",IF(CX18=CZ18,"","変更")) | CZ18: =IF(CX18<>"",CX18,IF(CZ15<>"",1,"")) | DB18: =IF(ImportExport!BQ26=0,"",ImportExport!BQ26) | DC18: =IF(DD13="","",IF(DB18=DD18,"","変更")) | DD18: =IF(DB18<>"",DB18,IF(DD15<>"",1,"")) | DF18: =IF(ImportExport!BQ27=0,"",ImportExport!BQ27) | DG18: =IF(DH13="","",IF(DF18=DH18,"","変更")) | DH18: =IF(DF18<>"",DF18,IF(DH15<>"",1,"")) | DJ18: =IF(ImportExport!BQ28=0,"",ImportExport!BQ28) | DK18: =IF(DL13="","",IF(DJ18=DL18,"","変更")) | DL18: =IF(DJ18<>"",DJ18,IF(DL15<>"",1,"")) | DN18: =IF(ImportExport!BQ29=0,"",ImportExport!BQ29) | DO18: =IF(DP13="","",IF(DN18=DP18,"","変更")) | DP18: =IF(DN18<>"",DN18,IF(DP15<>"",1,"")) | DR18: =IF(ImportExport!BQ30=0,"",ImportExport!BQ30) | DS18: =IF(DT13="","",IF(DR18=DT18,"","変更")) | DT18: =IF(DR18<>"",DR18,IF(DT15<>"",1,"")) | DV18: =IF(ImportExport!BQ31=0,"",ImportExport!BQ31) | DW18: =IF(DX13="","",IF(DV18=DX18,"","変更")) | DX18: =IF(DV18<>"",DV18,IF(DX15<>"",1,""))
B19: メモリ1枚あたりの容量 | J19: =IF(ImportExport!BR2=0,"",ImportExport!BR2) | K19: =IF(L13="","",IF(J19=L19,"","変更")) | L19: =IF(J19<>"",J19,IFERROR(VLOOKUP(L15,Selection!$F$2:$G$8,2,FALSE),"")) | N19: =IF(ImportExport!BR3=0,"",ImportExport!BR3) | O19: =IF(P13="","",IF(N19=P19,"","変更")) | P19: =IF(N19<>"",N19,IFERROR(VLOOKUP(P15,Selection!$F$2:$G$8,2,FALSE),"")) | R19: =IF(ImportExport!BR4=0,"",ImportExport!BR4) | S19: =IF(T13="","",IF(R19=T19,"","変更")) | T19: =IF(R19<>"",R19,IFERROR(VLOOKUP(T15,Selection!$F$2:$G$8,2,FALSE),"")) | V19: =IF(ImportExport!BR5=0,"",ImportExport!BR5) | W19: =IF(X13="","",IF(V19=X19,"","変更")) | X19: =IF(V19<>"",V19,IFERROR(VLOOKUP(X15,Selection!$F$2:$G$8,2,FALSE),"")) | Z19: =IF(ImportExport!BR6=0,"",ImportExport!BR6) | AA19: =IF(AB13="","",IF(Z19=AB19,"","変更")) | AB19: =IF(Z19<>"",Z19,IFERROR(VLOOKUP(AB15,Selection!$F$2:$G$8,2,FALSE),"")) | AD19: =IF(ImportExport!BR7=0,"",ImportExport!BR7) | AE19: =IF(AF13="","",IF(AD19=AF19,"","変更")) | AF19: =IF(AD19<>"",AD19,IFERROR(VLOOKUP(AF15,Selection!$F$2:$G$8,2,FALSE),"")) | AH19: =IF(ImportExport!BR8=0,"",ImportExport!BR8) | AI19: =IF(AJ13="","",IF(AH19=AJ19,"","変更")) | AJ19: =IF(AH19<>"",AH19,IFERROR(VLOOKUP(AJ15,Selection!$F$2:$G$8,2,FALSE),"")) | AL19: =IF(ImportExport!BR9=0,"",ImportExport!BR9) | AM19: =IF(AN13="","",IF(AL19=AN19,"","変更")) | AN19: =IF(AL19<>"",AL19,IFERROR(VLOOKUP(AN15,Selection!$F$2:$G$8,2,FALSE),"")) | AP19: =IF(ImportExport!BR10=0,"",ImportExport!BR10) | AQ19: =IF(AR13="","",IF(AP19=AR19,"","変更")) | AR19: =IF(AP19<>"",AP19,IFERROR(VLOOKUP(AR15,Selection!$F$2:$G$8,2,FALSE),"")) | AT19: =IF(ImportExport!BR11=0,"",ImportExport!BR11) | AU19: =IF(AV13="","",IF(AT19=AV19,"","変更")) | AV19: =IF(AT19<>"",AT19,IFERROR(VLOOKUP(AV15,Selection!$F$2:$G$8,2,FALSE),"")) | AX19: =IF(ImportExport!BR12=0,"",ImportExport!BR12) | AY19: =IF(AZ13="","",IF(AX19=AZ19,"","変更")) | AZ19: =IF(AX19<>"",AX19,IFERROR(VLOOKUP(AZ15,Selection!$F$2:$G$8,2,FALSE),"")) | BB19: =IF(ImportExport!BR13=0,"",ImportExport!BR13) | BC19: =IF(BD13="","",IF(BB19=BD19,"","変更")) | BD19: =IF(BB19<>"",BB19,IFERROR(VLOOKUP(BD15,Selection!$F$2:$G$8,2,FALSE),"")) | BF19: =IF(ImportExport!BR14=0,"",ImportExport!BR14) | BG19: =IF(BH13="","",IF(BF19=BH19,"","変更")) | BH19: =IF(BF19<>"",BF19,IFERROR(VLOOKUP(BH15,Selection!$F$2:$G$8,2,FALSE),"")) | BJ19: =IF(ImportExport!BR15=0,"",ImportExport!BR15) | BK19: =IF(BL13="","",IF(BJ19=BL19,"","変更")) | BL19: =IF(BJ19<>"",BJ19,IFERROR(VLOOKUP(BL15,Selection!$F$2:$G$8,2,FALSE),"")) | BN19: =IF(ImportExport!BR16=0,"",ImportExport!BR16) | BO19: =IF(BP13="","",IF(BN19=BP19,"","変更")) | BP19: =IF(BN19<>"",BN19,IFERROR(VLOOKUP(BP15,Selection!$F$2:$G$8,2,FALSE),"")) | BR19: =IF(ImportExport!BR17=0,"",ImportExport!BR17) | BS19: =IF(BT13="","",IF(BR19=BT19,"","変更")) | BT19: =IF(BR19<>"",BR19,IFERROR(VLOOKUP(BT15,Selection!$F$2:$G$8,2,FALSE),"")) | BV19: =IF(ImportExport!BR18=0,"",ImportExport!BR18) | BW19: =IF(BX13="","",IF(BV19=BX19,"","変更")) | BX19: =IF(BV19<>"",BV19,IFERROR(VLOOKUP(BX15,Selection!$F$2:$G$8,2,FALSE),"")) | BZ19: =IF(ImportExport!BR19=0,"",ImportExport!BR19) | CA19: =IF(CB13="","",IF(BZ19=CB19,"","変更")) | CB19: =IF(BZ19<>"",BZ19,IFERROR(VLOOKUP(CB15,Selection!$F$2:$G$8,2,FALSE),"")) | CD19: =IF(ImportExport!BR20=0,"",ImportExport!BR20) | CE19: =IF(CF13="","",IF(CD19=CF19,"","変更")) | CF19: =IF(CD19<>"",CD19,IFERROR(VLOOKUP(CF15,Selection!$F$2:$G$8,2,FALSE),"")) | CH19: =IF(ImportExport!BR21=0,"",ImportExport!BR21) | CI19: =IF(CJ13="","",IF(CH19=CJ19,"","変更")) | CJ19: =IF(CH19<>"",CH19,IFERROR(VLOOKUP(CJ15,Selection!$F$2:$G$8,2,FALSE),"")) | CL19: =IF(ImportExport!BR22=0,"",ImportExport!BR22) | CM19: =IF(CN13="","",IF(CL19=CN19,"","変更")) | CN19: =IF(CL19<>"",CL19,IFERROR(VLOOKUP(CN15,Selection!$F$2:$G$8,2,FALSE),"")) | CP19: =IF(ImportExport!BR23=0,"",ImportExport!BR23) | CQ19: =IF(CR13="","",IF(CP19=CR19,"","変更")) | CR19: =IF(CP19<>"",CP19,IFERROR(VLOOKUP(CR15,Selection!$F$2:$G$8,2,FALSE),"")) | CT19: =IF(ImportExport!BR24=0,"",ImportExport!BR24) | CU19: =IF(CV13="","",IF(CT19=CV19,"","変更")) | CV19: =IF(CT19<>"",CT19,IFERROR(VLOOKUP(CV15,Selection!$F$2:$G$8,2,FALSE),"")) | CX19: =IF(ImportExport!BR25=0,"",ImportExport!BR25) | CY19: =IF(CZ13="","",IF(CX19=CZ19,"","変更")) | CZ19: =IF(CX19<>"",CX19,IFERROR(VLOOKUP(CZ15,Selection!$F$2:$G$8,2,FALSE),"")) | DB19: =IF(ImportExport!BR26=0,"",ImportExport!BR26) | DC19: =IF(DD13="","",IF(DB19=DD19,"","変更")) | DD19: =IF(DB19<>"",DB19,IFERROR(VLOOKUP(DD15,Selection!$F$2:$G$8,2,FALSE),"")) | DF19: =IF(ImportExport!BR27=0,"",ImportExport!BR27) | DG19: =IF(DH13="","",IF(DF19=DH19,"","変更")) | DH19: =IF(DF19<>"",DF19,IFERROR(VLOOKUP(DH15,Selection!$F$2:$G$8,2,FALSE),"")) | DJ19: =IF(ImportExport!BR28=0,"",ImportExport!BR28) | DK19: =IF(DL13="","",IF(DJ19=DL19,"","変更")) | DL19: =IF(DJ19<>"",DJ19,IFERROR(VLOOKUP(DL15,Selection!$F$2:$G$8,2,FALSE),"")) | DN19: =IF(ImportExport!BR29=0,"",ImportExport!BR29) | DO19: =IF(DP13="","",IF(DN19=DP19,"","変更")) | DP19: =IF(DN19<>"",DN19,IFERROR(VLOOKUP(DP15,Selection!$F$2:$G$8,2,FALSE),"")) | DR19: =IF(ImportExport!BR30=0,"",ImportExport!BR30) | DS19: =IF(DT13="","",IF(DR19=DT19,"","変更")) | DT19: =IF(DR19<>"",DR19,IFERROR(VLOOKUP(DT15,Selection!$F$2:$G$8,2,FALSE),"")) | DV19: =IF(ImportExport!BR31=0,"",ImportExport!BR31) | DW19: =IF(DX13="","",IF(DV19=DX19,"","変更")) | DX19: =IF(DV19<>"",DV19,IFERROR(VLOOKUP(DX15,Selection!$F$2:$G$8,2,FALSE),""))
B20: 合計搭載メモリ数 | J20: =IF(ImportExport!BS2=0,"",ImportExport!BS2) | K20: =IF(L13="","",IF(J20=L20,"","変更")) | L20: =IF(SUM(L17:L18)=0,"",SUM(L17:L18)) | N20: =IF(ImportExport!BS3=0,"",ImportExport!BS3) | O20: =IF(P13="","",IF(N20=P20,"","変更")) | P20: =IF(SUM(P17:P18)=0,"",SUM(P17:P18)) | R20: =IF(ImportExport!BS4=0,"",ImportExport!BS4) | S20: =IF(T13="","",IF(R20=T20,"","変更")) | T20: =IF(SUM(T17:T18)=0,"",SUM(T17:T18)) | V20: =IF(ImportExport!BS5=0,"",ImportExport!BS5) | W20: =IF(X13="","",IF(V20=X20,"","変更")) | X20: =IF(SUM(X17:X18)=0,"",SUM(X17:X18)) | Z20: =IF(ImportExport!BS6=0,"",ImportExport!BS6) | AA20: =IF(AB13="","",IF(Z20=AB20,"","変更")) | AB20: =IF(SUM(AB17:AB18)=0,"",SUM(AB17:AB18)) | AD20: =IF(ImportExport!BS7=0,"",ImportExport!BS7) | AE20: =IF(AF13="","",IF(AD20=AF20,"","変更")) | AF20: =IF(SUM(AF17:AF18)=0,"",SUM(AF17:AF18)) | AH20: =IF(ImportExport!BS8=0,"",ImportExport!BS8) | AI20: =IF(AJ13="","",IF(AH20=AJ20,"","変更")) | AJ20: =IF(SUM(AJ17:AJ18)=0,"",SUM(AJ17:AJ18)) | AL20: =IF(ImportExport!BS9=0,"",ImportExport!BS9) | AM20: =IF(AN13="","",IF(AL20=AN20,"","変更")) | AN20: =IF(SUM(AN17:AN18)=0,"",SUM(AN17:AN18)) | AP20: =IF(ImportExport!BS10=0,"",ImportExport!BS10) | AQ20: =IF(AR13="","",IF(AP20=AR20,"","変更")) | AR20: =IF(SUM(AR17:AR18)=0,"",SUM(AR17:AR18)) | AT20: =IF(ImportExport!BS11=0,"",ImportExport!BS11) | AU20: =IF(AV13="","",IF(AT20=AV20,"","変更")) | AV20: =IF(SUM(AV17:AV18)=0,"",SUM(AV17:AV18)) | AX20: =IF(ImportExport!BS12=0,"",ImportExport!BS12) | AY20: =IF(AZ13="","",IF(AX20=AZ20,"","変更")) | AZ20: =IF(SUM(AZ17:AZ18)=0,"",SUM(AZ17:AZ18)) | BB20: =IF(ImportExport!BS13=0,"",ImportExport!BS13) | BC20: =IF(BD13="","",IF(BB20=BD20,"","変更")) | BD20: =IF(SUM(BD17:BD18)=0,"",SUM(BD17:BD18)) | BF20: =IF(ImportExport!BS14=0,"",ImportExport!BS14) | BG20: =IF(BH13="","",IF(BF20=BH20,"","変更")) | BH20: =IF(SUM(BH17:BH18)=0,"",SUM(BH17:BH18)) | BJ20: =IF(ImportExport!BS15=0,"",ImportExport!BS15) | BK20: =IF(BL13="","",IF(BJ20=BL20,"","変更")) | BL20: =IF(SUM(BL17:BL18)=0,"",SUM(BL17:BL18)) | BN20: =IF(ImportExport!BS16=0,"",ImportExport!BS16) | BO20: =IF(BP13="","",IF(BN20=BP20,"","変更")) | BP20: =IF(SUM(BP17:BP18)=0,"",SUM(BP17:BP18)) | BR20: =IF(ImportExport!BS17=0,"",ImportExport!BS17) | BS20: =IF(BT13="","",IF(BR20=BT20,"","変更")) | BT20: =IF(SUM(BT17:BT18)=0,"",SUM(BT17:BT18)) | BV20: =IF(ImportExport!BS18=0,"",ImportExport!BS18) | BW20: =IF(BX13="","",IF(BV20=BX20,"","変更")) | BX20: =IF(SUM(BX17:BX18)=0,"",SUM(BX17:BX18)) | BZ20: =IF(ImportExport!BS19=0,"",ImportExport!BS19) | CA20: =IF(CB13="","",IF(BZ20=CB20,"","変更")) | CB20: =IF(SUM(CB17:CB18)=0,"",SUM(CB17:CB18)) | CD20: =IF(ImportExport!BS20=0,"",ImportExport!BS20) | CE20: =IF(CF13="","",IF(CD20=CF20,"","変更")) | CF20: =IF(SUM(CF17:CF18)=0,"",SUM(CF17:CF18)) | CH20: =IF(ImportExport!BS21=0,"",ImportExport!BS21) | CI20: =IF(CJ13="","",IF(CH20=CJ20,"","変更")) | CJ20: =IF(SUM(CJ17:CJ18)=0,"",SUM(CJ17:CJ18)) | CL20: =IF(ImportExport!BS22=0,"",ImportExport!BS22) | CM20: =IF(CN13="","",IF(CL20=CN20,"","変更")) | CN20: =IF(SUM(CN17:CN18)=0,"",SUM(CN17:CN18)) | CP20: =IF(ImportExport!BS23=0,"",ImportExport!BS23) | CQ20: =IF(CR13="","",IF(CP20=CR20,"","変更")) | CR20: =IF(SUM(CR17:CR18)=0,"",SUM(CR17:CR18)) | CT20: =IF(ImportExport!BS24=0,"",ImportExport!BS24) | CU20: =IF(CV13="","",IF(CT20=CV20,"","変更")) | CV20: =IF(SUM(CV17:CV18)=0,"",SUM(CV17:CV18)) | CX20: =IF(ImportExport!BS25=0,"",ImportExport!BS25) | CY20: =IF(CZ13="","",IF(CX20=CZ20,"","変更")) | CZ20: =IF(SUM(CZ17:CZ18)=0,"",SUM(CZ17:CZ18)) | DB20: =IF(ImportExport!BS26=0,"",ImportExport!BS26) | DC20: =IF(DD13="","",IF(DB20=DD20,"","変更")) | DD20: =IF(SUM(DD17:DD18)=0,"",SUM(DD17:DD18)) | DF20: =IF(ImportExport!BS27=0,"",ImportExport!BS27) | DG20: =IF(DH13="","",IF(DF20=DH20,"","変更")) | DH20: =IF(SUM(DH17:DH18)=0,"",SUM(DH17:DH18)) | DJ20: =IF(ImportExport!BS28=0,"",ImportExport!BS28) | DK20: =IF(DL13="","",IF(DJ20=DL20,"","変更")) | DL20: =IF(SUM(DL17:DL18)=0,"",SUM(DL17:DL18)) | DN20: =IF(ImportExport!BS29=0,"",ImportExport!BS29) | DO20: =IF(DP13="","",IF(DN20=DP20,"","変更")) | DP20: =IF(SUM(DP17:DP18)=0,"",SUM(DP17:DP18)) | DR20: =IF(ImportExport!BS30=0,"",ImportExport!BS30) | DS20: =IF(DT13="","",IF(DR20=DT20,"","変更")) | DT20: =IF(SUM(DT17:DT18)=0,"",SUM(DT17:DT18)) | DV20: =IF(ImportExport!BS31=0,"",ImportExport!BS31) | DW20: =IF(DX13="","",IF(DV20=DX20,"","変更")) | DX20: =IF(SUM(DX17:DX18)=0,"",SUM(DX17:DX18))
B21: ディスク種類① | D21: ベースサーバーに搭載するディスクをご記入ください。最大8台までディスクの搭載が可能です。 本サービスではRAID1,5,6,10の構成を推奨いたします。 | J21: =IF(ImportExport!BT2=0,"",ImportExport!BT2) | K21: =IF(L13="","",IF(J21=L21,"","変更")) | L21: =J21 | N21: =IF(ImportExport!BT3=0,"",ImportExport!BT3) | O21: =IF(P13="","",IF(N21=P21,"","変更")) | P21: =N21 | R21: =IF(ImportExport!BT4=0,"",ImportExport!BT4) | S21: =IF(T13="","",IF(R21=T21,"","変更")) | T21: =R21 | V21: =IF(ImportExport!BT5=0,"",ImportExport!BT5) | W21: =IF(X13="","",IF(V21=X21,"","変更")) | X21: =V21 | Z21: =IF(ImportExport!BT6=0,"",ImportExport!BT6) | AA21: =IF(AB13="","",IF(Z21=AB21,"","変更")) | AB21: =Z21 | AD21: =IF(ImportExport!BT7=0,"",ImportExport!BT7) | AE21: =IF(AF13="","",IF(AD21=AF21,"","変更")) | AF21: =AD21 | AH21: =IF(ImportExport!BT8=0,"",ImportExport!BT8) | AI21: =IF(AJ13="","",IF(AH21=AJ21,"","変更")) | AJ21: =AH21 | AL21: =IF(ImportExport!BT9=0,"",ImportExport!BT9) | AM21: =IF(AN13="","",IF(AL21=AN21,"","変更")) | AN21: =AL21 | AP21: =IF(ImportExport!BT10=0,"",ImportExport!BT10) | AQ21: =IF(AR13="","",IF(AP21=AR21,"","変更")) | AR21: =AP21 | AT21: =IF(ImportExport!BT11=0,"",ImportExport!BT11) | AU21: =IF(AV13="","",IF(AT21=AV21,"","変更")) | AV21: =AT21 | AX21: =IF(ImportExport!BT12=0,"",ImportExport!BT12) | AY21: =IF(AZ13="","",IF(AX21=AZ21,"","変更")) | AZ21: =AX21 | BB21: =IF(ImportExport!BT13=0,"",ImportExport!BT13) | BC21: =IF(BD13="","",IF(BB21=BD21,"","変更")) | BD21: =BB21 | BF21: =IF(ImportExport!BT14=0,"",ImportExport!BT14) | BG21: =IF(BH13="","",IF(BF21=BH21,"","変更")) | BH21: =BF21 | BJ21: =IF(ImportExport!BT15=0,"",ImportExport!BT15) | BK21: =IF(BL13="","",IF(BJ21=BL21,"","変更")) | BL21: =BJ21 | BN21: =IF(ImportExport!BT16=0,"",ImportExport!BT16) | BO21: =IF(BP13="","",IF(BN21=BP21,"","変更")) | BP21: =BN21 | BR21: =IF(ImportExport!BT17=0,"",ImportExport!BT17) | BS21: =IF(BT13="","",IF(BR21=BT21,"","変更")) | BT21: =BR21 | BV21: =IF(ImportExport!BT18=0,"",ImportExport!BT18) | BW21: =IF(BX13="","",IF(BV21=BX21,"","変更")) | BX21: =BV21 | BZ21: =IF(ImportExport!BT19=0,"",ImportExport!BT19) | CA21: =IF(CB13="","",IF(BZ21=CB21,"","変更")) | CB21: =BZ21 | CD21: =IF(ImportExport!BT20=0,"",ImportExport!BT20) | CE21: =IF(CF13="","",IF(CD21=CF21,"","変更")) | CF21: =CD21 | CH21: =IF(ImportExport!BT21=0,"",ImportExport!BT21) | CI21: =IF(CJ13="","",IF(CH21=CJ21,"","変更")) | CJ21: =CH21 | CL21: =IF(ImportExport!BT22=0,"",ImportExport!BT22) | CM21: =IF(CN13="","",IF(CL21=CN21,"","変更")) | CN21: =CL21 | CP21: =IF(ImportExport!BT23=0,"",ImportExport!BT23) | CQ21: =IF(CR13="","",IF(CP21=CR21,"","変更")) | CR21: =CP21 | CT21: =IF(ImportExport!BT24=0,"",ImportExport!BT24) | CU21: =IF(CV13="","",IF(CT21=CV21,"","変更")) | CV21: =CT21 | CX21: =IF(ImportExport!BT25=0,"",ImportExport!BT25) | CY21: =IF(CZ13="","",IF(CX21=CZ21,"","変更")) | CZ21: =CX21 | DB21: =IF(ImportExport!BT26=0,"",ImportExport!BT26) | DC21: =IF(DD13="","",IF(DB21=DD21,"","変更")) | DD21: =DB21 | DF21: =IF(ImportExport!BT27=0,"",ImportExport!BT27) | DG21: =IF(DH13="","",IF(DF21=DH21,"","変更")) | DH21: =DF21 | DJ21: =IF(ImportExport!BT28=0,"",ImportExport!BT28) | DK21: =IF(DL13="","",IF(DJ21=DL21,"","変更")) | DL21: =DJ21 | DN21: =IF(ImportExport!BT29=0,"",ImportExport!BT29) | DO21: =IF(DP13="","",IF(DN21=DP21,"","変更")) | DP21: =DN21 | DR21: =IF(ImportExport!BT30=0,"",ImportExport!BT30) | DS21: =IF(DT13="","",IF(DR21=DT21,"","変更")) | DT21: =DR21 | DV21: =IF(ImportExport!BT31=0,"",ImportExport!BT31) | DW21: =IF(DX13="","",IF(DV21=DX21,"","変更")) | DX21: =DV21
B22: ディスク種類① 数量 | J22: =IF(ImportExport!BU2=0,"",ImportExport!BU2) | K22: =IF(L13="","",IF(J22=L22,"","変更")) | L22: =J22 | N22: =IF(ImportExport!BU3=0,"",ImportExport!BU3) | O22: =IF(P13="","",IF(N22=P22,"","変更")) | P22: =N22 | R22: =IF(ImportExport!BU4=0,"",ImportExport!BU4) | S22: =IF(T13="","",IF(R22=T22,"","変更")) | T22: =R22 | V22: =IF(ImportExport!BU5=0,"",ImportExport!BU5) | W22: =IF(X13="","",IF(V22=X22,"","変更")) | X22: =V22 | Z22: =IF(ImportExport!BU6=0,"",ImportExport!BU6) | AA22: =IF(AB13="","",IF(Z22=AB22,"","変更")) | AB22: =Z22 | AD22: =IF(ImportExport!BU7=0,"",ImportExport!BU7) | AE22: =IF(AF13="","",IF(AD22=AF22,"","変更")) | AF22: =AD22 | AH22: =IF(ImportExport!BU8=0,"",ImportExport!BU8) | AI22: =IF(AJ13="","",IF(AH22=AJ22,"","変更")) | AJ22: =AH22 | AL22: =IF(ImportExport!BU9=0,"",ImportExport!BU9) | AM22: =IF(AN13="","",IF(AL22=AN22,"","変更")) | AN22: =AL22 | AP22: =IF(ImportExport!BU10=0,"",ImportExport!BU10) | AQ22: =IF(AR13="","",IF(AP22=AR22,"","変更")) | AR22: =AP22 | AT22: =IF(ImportExport!BU11=0,"",ImportExport!BU11) | AU22: =IF(AV13="","",IF(AT22=AV22,"","変更")) | AV22: =AT22 | AX22: =IF(ImportExport!BU12=0,"",ImportExport!BU12) | AY22: =IF(AZ13="","",IF(AX22=AZ22,"","変更")) | AZ22: =AX22 | BB22: =IF(ImportExport!BU13=0,"",ImportExport!BU13) | BC22: =IF(BD13="","",IF(BB22=BD22,"","変更")) | BD22: =BB22 | BF22: =IF(ImportExport!BU14=0,"",ImportExport!BU14) | BG22: =IF(BH13="","",IF(BF22=BH22,"","変更")) | BH22: =BF22 | BJ22: =IF(ImportExport!BU15=0,"",ImportExport!BU15) | BK22: =IF(BL13="","",IF(BJ22=BL22,"","変更")) | BL22: =BJ22 | BN22: =IF(ImportExport!BU16=0,"",ImportExport!BU16) | BO22: =IF(BP13="","",IF(BN22=BP22,"","変更")) | BP22: =BN22 | BR22: =IF(ImportExport!BU17=0,"",ImportExport!BU17) | BS22: =IF(BT13="","",IF(BR22=BT22,"","変更")) | BT22: =BR22 | BV22: =IF(ImportExport!BU18=0,"",ImportExport!BU18) | BW22: =IF(BX13="","",IF(BV22=BX22,"","変更")) | BX22: =BV22 | BZ22: =IF(ImportExport!BU19=0,"",ImportExport!BU19) | CA22: =IF(CB13="","",IF(BZ22=CB22,"","変更")) | CB22: =BZ22 | CD22: =IF(ImportExport!BU20=0,"",ImportExport!BU20) | CE22: =IF(CF13="","",IF(CD22=CF22,"","変更")) | CF22: =CD22 | CH22: =IF(ImportExport!BU21=0,"",ImportExport!BU21) | CI22: =IF(CJ13="","",IF(CH22=CJ22,"","変更")) | CJ22: =CH22 | CL22: =IF(ImportExport!BU22=0,"",ImportExport!BU22) | CM22: =IF(CN13="","",IF(CL22=CN22,"","変更")) | CN22: =CL22 | CP22: =IF(ImportExport!BU23=0,"",ImportExport!BU23) | CQ22: =IF(CR13="","",IF(CP22=CR22,"","変更")) | CR22: =CP22 | CT22: =IF(ImportExport!BU24=0,"",ImportExport!BU24) | CU22: =IF(CV13="","",IF(CT22=CV22,"","変更")) | CV22: =CT22 | CX22: =IF(ImportExport!BU25=0,"",ImportExport!BU25) | CY22: =IF(CZ13="","",IF(CX22=CZ22,"","変更")) | CZ22: =CX22 | DB22: =IF(ImportExport!BU26=0,"",ImportExport!BU26) | DC22: =IF(DD13="","",IF(DB22=DD22,"","変更")) | DD22: =DB22 | DF22: =IF(ImportExport!BU27=0,"",ImportExport!BU27) | DG22: =IF(DH13="","",IF(DF22=DH22,"","変更")) | DH22: =DF22 | DJ22: =IF(ImportExport!BU28=0,"",ImportExport!BU28) | DK22: =IF(DL13="","",IF(DJ22=DL22,"","変更")) | DL22: =DJ22 | DN22: =IF(ImportExport!BU29=0,"",ImportExport!BU29) | DO22: =IF(DP13="","",IF(DN22=DP22,"","変更")) | DP22: =DN22 | DR22: =IF(ImportExport!BU30=0,"",ImportExport!BU30) | DS22: =IF(DT13="","",IF(DR22=DT22,"","変更")) | DT22: =DR22 | DV22: =IF(ImportExport!BU31=0,"",ImportExport!BU31) | DW22: =IF(DX13="","",IF(DV22=DX22,"","変更")) | DX22: =DV22
B23: ディスク種類② | J23: =IF(ImportExport!BV2=0,"",ImportExport!BV2) | K23: =IF(L13="","",IF(J23=L23,"","変更")) | L23: =J23 | N23: =IF(ImportExport!BV3=0,"",ImportExport!BV3) | O23: =IF(P13="","",IF(N23=P23,"","変更")) | P23: =N23 | R23: =IF(ImportExport!BV4=0,"",ImportExport!BV4) | S23: =IF(T13="","",IF(R23=T23,"","変更")) | T23: =R23 | V23: =IF(ImportExport!BV5=0,"",ImportExport!BV5) | W23: =IF(X13="","",IF(V23=X23,"","変更")) | X23: =V23 | Z23: =IF(ImportExport!BV6=0,"",ImportExport!BV6) | AA23: =IF(AB13="","",IF(Z23=AB23,"","変更")) | AB23: =Z23 | AD23: =IF(ImportExport!BV7=0,"",ImportExport!BV7) | AE23: =IF(AF13="","",IF(AD23=AF23,"","変更")) | AF23: =AD23 | AH23: =IF(ImportExport!BV8=0,"",ImportExport!BV8) | AI23: =IF(AJ13="","",IF(AH23=AJ23,"","変更")) | AJ23: =AH23 | AL23: =IF(ImportExport!BV9=0,"",ImportExport!BV9) | AM23: =IF(AN13="","",IF(AL23=AN23,"","変更")) | AN23: =AL23 | AP23: =IF(ImportExport!BV10=0,"",ImportExport!BV10) | AQ23: =IF(AR13="","",IF(AP23=AR23,"","変更")) | AR23: =AP23 | AT23: =IF(ImportExport!BV11=0,"",ImportExport!BV11) | AU23: =IF(AV13="","",IF(AT23=AV23,"","変更")) | AV23: =AT23 | AX23: =IF(ImportExport!BV12=0,"",ImportExport!BV12) | AY23: =IF(AZ13="","",IF(AX23=AZ23,"","変更")) | AZ23: =AX23 | BB23: =IF(ImportExport!BV13=0,"",ImportExport!BV13) | BC23: =IF(BD13="","",IF(BB23=BD23,"","変更")) | BD23: =BB23 | BF23: =IF(ImportExport!BV14=0,"",ImportExport!BV14) | BG23: =IF(BH13="","",IF(BF23=BH23,"","変更")) | BH23: =BF23 | BJ23: =IF(ImportExport!BV15=0,"",ImportExport!BV15) | BK23: =IF(BL13="","",IF(BJ23=BL23,"","変更")) | BL23: =BJ23 | BN23: =IF(ImportExport!BV16=0,"",ImportExport!BV16) | BO23: =IF(BP13="","",IF(BN23=BP23,"","変更")) | BP23: =BN23 | BR23: =IF(ImportExport!BV17=0,"",ImportExport!BV17) | BS23: =IF(BT13="","",IF(BR23=BT23,"","変更")) | BT23: =BR23 | BV23: =IF(ImportExport!BV18=0,"",ImportExport!BV18) | BW23: =IF(BX13="","",IF(BV23=BX23,"","変更")) | BX23: =BV23 | BZ23: =IF(ImportExport!BV19=0,"",ImportExport!BV19) | CA23: =IF(CB13="","",IF(BZ23=CB23,"","変更")) | CB23: =BZ23 | CD23: =IF(ImportExport!BV20=0,"",ImportExport!BV20) | CE23: =IF(CF13="","",IF(CD23=CF23,"","変更")) | CF23: =CD23 | CH23: =IF(ImportExport!BV21=0,"",ImportExport!BV21) | CI23: =IF(CJ13="","",IF(CH23=CJ23,"","変更")) | CJ23: =CH23 | CL23: =IF(ImportExport!BV22=0,"",ImportExport!BV22) | CM23: =IF(CN13="","",IF(CL23=CN23,"","変更")) | CN23: =CL23 | CP23: =IF(ImportExport!BV23=0,"",ImportExport!BV23) | CQ23: =IF(CR13="","",IF(CP23=CR23,"","変更")) | CR23: =CP23 | CT23: =IF(ImportExport!BV24=0,"",ImportExport!BV24) | CU23: =IF(CV13="","",IF(CT23=CV23,"","変更")) | CV23: =CT23 | CX23: =IF(ImportExport!BV25=0,"",ImportExport!BV25) | CY23: =IF(CZ13="","",IF(CX23=CZ23,"","変更")) | CZ23: =CX23 | DB23: =IF(ImportExport!BV26=0,"",ImportExport!BV26) | DC23: =IF(DD13="","",IF(DB23=DD23,"","変更")) | DD23: =DB23 | DF23: =IF(ImportExport!BV27=0,"",ImportExport!BV27) | DG23: =IF(DH13="","",IF(DF23=DH23,"","変更")) | DH23: =DF23 | DJ23: =IF(ImportExport!BV28=0,"",ImportExport!BV28) | DK23: =IF(DL13="","",IF(DJ23=DL23,"","変更")) | DL23: =DJ23 | DN23: =IF(ImportExport!BV29=0,"",ImportExport!BV29) | DO23: =IF(DP13="","",IF(DN23=DP23,"","変更")) | DP23: =DN23 | DR23: =IF(ImportExport!BV30=0,"",ImportExport!BV30) | DS23: =IF(DT13="","",IF(DR23=DT23,"","変更")) | DT23: =DR23 | DV23: =IF(ImportExport!BV31=0,"",ImportExport!BV31) | DW23: =IF(DX13="","",IF(DV23=DX23,"","変更")) | DX23: =DV23
B24: ディスク種類② 数量 | J24: =IF(ImportExport!BW2=0,"",ImportExport!BW2) | K24: =IF(L13="","",IF(J24=L24,"","変更")) | L24: =J24 | N24: =IF(ImportExport!BW3=0,"",ImportExport!BW3) | O24: =IF(P13="","",IF(N24=P24,"","変更")) | P24: =N24 | R24: =IF(ImportExport!BW4=0,"",ImportExport!BW4) | S24: =IF(T13="","",IF(R24=T24,"","変更")) | T24: =R24 | V24: =IF(ImportExport!BW5=0,"",ImportExport!BW5) | W24: =IF(X13="","",IF(V24=X24,"","変更")) | X24: =V24 | Z24: =IF(ImportExport!BW6=0,"",ImportExport!BW6) | AA24: =IF(AB13="","",IF(Z24=AB24,"","変更")) | AB24: =Z24 | AD24: =IF(ImportExport!BW7=0,"",ImportExport!BW7) | AE24: =IF(AF13="","",IF(AD24=AF24,"","変更")) | AF24: =AD24 | AH24: =IF(ImportExport!BW8=0,"",ImportExport!BW8) | AI24: =IF(AJ13="","",IF(AH24=AJ24,"","変更")) | AJ24: =AH24 | AL24: =IF(ImportExport!BW9=0,"",ImportExport!BW9) | AM24: =IF(AN13="","",IF(AL24=AN24,"","変更")) | AN24: =AL24 | AP24: =IF(ImportExport!BW10=0,"",ImportExport!BW10) | AQ24: =IF(AR13="","",IF(AP24=AR24,"","変更")) | AR24: =AP24 | AT24: =IF(ImportExport!BW11=0,"",ImportExport!BW11) | AU24: =IF(AV13="","",IF(AT24=AV24,"","変更")) | AV24: =AT24 | AX24: =IF(ImportExport!BW12=0,"",ImportExport!BW12) | AY24: =IF(AZ13="","",IF(AX24=AZ24,"","変更")) | AZ24: =AX24 | BB24: =IF(ImportExport!BW13=0,"",ImportExport!BW13) | BC24: =IF(BD13="","",IF(BB24=BD24,"","変更")) | BD24: =BB24 | BF24: =IF(ImportExport!BW14=0,"",ImportExport!BW14) | BG24: =IF(BH13="","",IF(BF24=BH24,"","変更")) | BH24: =BF24 | BJ24: =IF(ImportExport!BW15=0,"",ImportExport!BW15) | BK24: =IF(BL13="","",IF(BJ24=BL24,"","変更")) | BL24: =BJ24 | BN24: =IF(ImportExport!BW16=0,"",ImportExport!BW16) | BO24: =IF(BP13="","",IF(BN24=BP24,"","変更")) | BP24: =BN24 | BR24: =IF(ImportExport!BW17=0,"",ImportExport!BW17) | BS24: =IF(BT13="","",IF(BR24=BT24,"","変更")) | BT24: =BR24 | BV24: =IF(ImportExport!BW18=0,"",ImportExport!BW18) | BW24: =IF(BX13="","",IF(BV24=BX24,"","変更")) | BX24: =BV24 | BZ24: =IF(ImportExport!BW19=0,"",ImportExport!BW19) | CA24: =IF(CB13="","",IF(BZ24=CB24,"","変更")) | CB24: =BZ24 | CD24: =IF(ImportExport!BW20=0,"",ImportExport!BW20) | CE24: =IF(CF13="","",IF(CD24=CF24,"","変更")) | CF24: =CD24 | CH24: =IF(ImportExport!BW21=0,"",ImportExport!BW21) | CI24: =IF(CJ13="","",IF(CH24=CJ24,"","変更")) | CJ24: =CH24 | CL24: =IF(ImportExport!BW22=0,"",ImportExport!BW22) | CM24: =IF(CN13="","",IF(CL24=CN24,"","変更")) | CN24: =CL24 | CP24: =IF(ImportExport!BW23=0,"",ImportExport!BW23) | CQ24: =IF(CR13="","",IF(CP24=CR24,"","変更")) | CR24: =CP24 | CT24: =IF(ImportExport!BW24=0,"",ImportExport!BW24) | CU24: =IF(CV13="","",IF(CT24=CV24,"","変更")) | CV24: =CT24 | CX24: =IF(ImportExport!BW25=0,"",ImportExport!BW25) | CY24: =IF(CZ13="","",IF(CX24=CZ24,"","変更")) | CZ24: =CX24 | DB24: =IF(ImportExport!BW26=0,"",ImportExport!BW26) | DC24: =IF(DD13="","",IF(DB24=DD24,"","変更")) | DD24: =DB24 | DF24: =IF(ImportExport!BW27=0,"",ImportExport!BW27) | DG24: =IF(DH13="","",IF(DF24=DH24,"","変更")) | DH24: =DF24 | DJ24: =IF(ImportExport!BW28=0,"",ImportExport!BW28) | DK24: =IF(DL13="","",IF(DJ24=DL24,"","変更")) | DL24: =DJ24 | DN24: =IF(ImportExport!BW29=0,"",ImportExport!BW29) | DO24: =IF(DP13="","",IF(DN24=DP24,"","変更")) | DP24: =DN24 | DR24: =IF(ImportExport!BW30=0,"",ImportExport!BW30) | DS24: =IF(DT13="","",IF(DR24=DT24,"","変更")) | DT24: =DR24 | DV24: =IF(ImportExport!BW31=0,"",ImportExport!BW31) | DW24: =IF(DX13="","",IF(DV24=DX24,"","変更")) | DX24: =DV24
B25: ディスク種類③ | J25: =IF(ImportExport!BX2=0,"",ImportExport!BX2) | K25: =IF(L13="","",IF(J25=L25,"","変更")) | L25: =J25 | N25: =IF(ImportExport!BX3=0,"",ImportExport!BX3) | O25: =IF(P13="","",IF(N25=P25,"","変更")) | P25: =N25 | R25: =IF(ImportExport!BX4=0,"",ImportExport!BX4) | S25: =IF(T13="","",IF(R25=T25,"","変更")) | T25: =R25 | V25: =IF(ImportExport!BX5=0,"",ImportExport!BX5) | W25: =IF(X13="","",IF(V25=X25,"","変更")) | X25: =V25 | Z25: =IF(ImportExport!BX6=0,"",ImportExport!BX6) | AA25: =IF(AB13="","",IF(Z25=AB25,"","変更")) | AB25: =Z25 | AD25: =IF(ImportExport!BX7=0,"",ImportExport!BX7) | AE25: =IF(AF13="","",IF(AD25=AF25,"","変更")) | AF25: =AD25 | AH25: =IF(ImportExport!BX8=0,"",ImportExport!BX8) | AI25: =IF(AJ13="","",IF(AH25=AJ25,"","変更")) | AJ25: =AH25 | AL25: =IF(ImportExport!BX9=0,"",ImportExport!BX9) | AM25: =IF(AN13="","",IF(AL25=AN25,"","変更")) | AN25: =AL25 | AP25: =IF(ImportExport!BX10=0,"",ImportExport!BX10) | AQ25: =IF(AR13="","",IF(AP25=AR25,"","変更")) | AR25: =AP25 | AT25: =IF(ImportExport!BX11=0,"",ImportExport!BX11) | AU25: =IF(AV13="","",IF(AT25=AV25,"","変更")) | AV25: =AT25 | AX25: =IF(ImportExport!BX12=0,"",ImportExport!BX12) | AY25: =IF(AZ13="","",IF(AX25=AZ25,"","変更")) | AZ25: =AX25 | BB25: =IF(ImportExport!BX13=0,"",ImportExport!BX13) | BC25: =IF(BD13="","",IF(BB25=BD25,"","変更")) | BD25: =BB25 | BF25: =IF(ImportExport!BX14=0,"",ImportExport!BX14) | BG25: =IF(BH13="","",IF(BF25=BH25,"","変更")) | BH25: =BF25 | BJ25: =IF(ImportExport!BX15=0,"",ImportExport!BX15) | BK25: =IF(BL13="","",IF(BJ25=BL25,"","変更")) | BL25: =BJ25 | BN25: =IF(ImportExport!BX16=0,"",ImportExport!BX16) | BO25: =IF(BP13="","",IF(BN25=BP25,"","変更")) | BP25: =BN25 | BR25: =IF(ImportExport!BX17=0,"",ImportExport!BX17) | BS25: =IF(BT13="","",IF(BR25=BT25,"","変更")) | BT25: =BR25 | BV25: =IF(ImportExport!BX18=0,"",ImportExport!BX18) | BW25: =IF(BX13="","",IF(BV25=BX25,"","変更")) | BX25: =BV25 | BZ25: =IF(ImportExport!BX19=0,"",ImportExport!BX19) | CA25: =IF(CB13="","",IF(BZ25=CB25,"","変更")) | CB25: =BZ25 | CD25: =IF(ImportExport!BX20=0,"",ImportExport!BX20) | CE25: =IF(CF13="","",IF(CD25=CF25,"","変更")) | CF25: =CD25 | CH25: =IF(ImportExport!BX21=0,"",ImportExport!BX21) | CI25: =IF(CJ13="","",IF(CH25=CJ25,"","変更")) | CJ25: =CH25 | CL25: =IF(ImportExport!BX22=0,"",ImportExport!BX22) | CM25: =IF(CN13="","",IF(CL25=CN25,"","変更")) | CN25: =CL25 | CP25: =IF(ImportExport!BX23=0,"",ImportExport!BX23) | CQ25: =IF(CR13="","",IF(CP25=CR25,"","変更")) | CR25: =CP25 | CT25: =IF(ImportExport!BX24=0,"",ImportExport!BX24) | CU25: =IF(CV13="","",IF(CT25=CV25,"","変更")) | CV25: =CT25 | CX25: =IF(ImportExport!BX25=0,"",ImportExport!BX25) | CY25: =IF(CZ13="","",IF(CX25=CZ25,"","変更")) | CZ25: =CX25 | DB25: =IF(ImportExport!BX26=0,"",ImportExport!BX26) | DC25: =IF(DD13="","",IF(DB25=DD25,"","変更")) | DD25: =DB25 | DF25: =IF(ImportExport!BX27=0,"",ImportExport!BX27) | DG25: =IF(DH13="","",IF(DF25=DH25,"","変更")) | DH25: =DF25 | DJ25: =IF(ImportExport!BX28=0,"",ImportExport!BX28) | DK25: =IF(DL13="","",IF(DJ25=DL25,"","変更")) | DL25: =DJ25 | DN25: =IF(ImportExport!BX29=0,"",ImportExport!BX29) | DO25: =IF(DP13="","",IF(DN25=DP25,"","変更")) | DP25: =DN25 | DR25: =IF(ImportExport!BX30=0,"",ImportExport!BX30) | DS25: =IF(DT13="","",IF(DR25=DT25,"","変更")) | DT25: =DR25 | DV25: =IF(ImportExport!BX31=0,"",ImportExport!BX31) | DW25: =IF(DX13="","",IF(DV25=DX25,"","変更")) | DX25: =DV25
B26: ディスク種類③ 数量 | J26: =IF(ImportExport!BY2=0,"",ImportExport!BY2) | K26: =IF(L13="","",IF(J26=L26,"","変更")) | L26: =J26 | N26: =IF(ImportExport!BY3=0,"",ImportExport!BY3) | O26: =IF(P13="","",IF(N26=P26,"","変更")) | P26: =N26 | R26: =IF(ImportExport!BY4=0,"",ImportExport!BY4) | S26: =IF(T13="","",IF(R26=T26,"","変更")) | T26: =R26 | V26: =IF(ImportExport!BY5=0,"",ImportExport!BY5) | W26: =IF(X13="","",IF(V26=X26,"","変更")) | X26: =V26 | Z26: =IF(ImportExport!BY6=0,"",ImportExport!BY6) | AA26: =IF(AB13="","",IF(Z26=AB26,"","変更")) | AB26: =Z26 | AD26: =IF(ImportExport!BY7=0,"",ImportExport!BY7) | AE26: =IF(AF13="","",IF(AD26=AF26,"","変更")) | AF26: =AD26 | AH26: =IF(ImportExport!BY8=0,"",ImportExport!BY8) | AI26: =IF(AJ13="","",IF(AH26=AJ26,"","変更")) | AJ26: =AH26 | AL26: =IF(ImportExport!BY9=0,"",ImportExport!BY9) | AM26: =IF(AN13="","",IF(AL26=AN26,"","変更")) | AN26: =AL26 | AP26: =IF(ImportExport!BY10=0,"",ImportExport!BY10) | AQ26: =IF(AR13="","",IF(AP26=AR26,"","変更")) | AR26: =AP26 | AT26: =IF(ImportExport!BY11=0,"",ImportExport!BY11) | AU26: =IF(AV13="","",IF(AT26=AV26,"","変更")) | AV26: =AT26 | AX26: =IF(ImportExport!BY12=0,"",ImportExport!BY12) | AY26: =IF(AZ13="","",IF(AX26=AZ26,"","変更")) | AZ26: =AX26 | BB26: =IF(ImportExport!BY13=0,"",ImportExport!BY13) | BC26: =IF(BD13="","",IF(BB26=BD26,"","変更")) | BD26: =BB26 | BF26: =IF(ImportExport!BY14=0,"",ImportExport!BY14) | BG26: =IF(BH13="","",IF(BF26=BH26,"","変更")) | BH26: =BF26 | BJ26: =IF(ImportExport!BY15=0,"",ImportExport!BY15) | BK26: =IF(BL13="","",IF(BJ26=BL26,"","変更")) | BL26: =BJ26 | BN26: =IF(ImportExport!BY16=0,"",ImportExport!BY16) | BO26: =IF(BP13="","",IF(BN26=BP26,"","変更")) | BP26: =BN26 | BR26: =IF(ImportExport!BY17=0,"",ImportExport!BY17) | BS26: =IF(BT13="","",IF(BR26=BT26,"","変更")) | BT26: =BR26 | BV26: =IF(ImportExport!BY18=0,"",ImportExport!BY18) | BW26: =IF(BX13="","",IF(BV26=BX26,"","変更")) | BX26: =BV26 | BZ26: =IF(ImportExport!BY19=0,"",ImportExport!BY19) | CA26: =IF(CB13="","",IF(BZ26=CB26,"","変更")) | CB26: =BZ26 | CD26: =IF(ImportExport!BY20=0,"",ImportExport!BY20) | CE26: =IF(CF13="","",IF(CD26=CF26,"","変更")) | CF26: =CD26 | CH26: =IF(ImportExport!BY21=0,"",ImportExport!BY21) | CI26: =IF(CJ13="","",IF(CH26=CJ26,"","変更")) | CJ26: =CH26 | CL26: =IF(ImportExport!BY22=0,"",ImportExport!BY22) | CM26: =IF(CN13="","",IF(CL26=CN26,"","変更")) | CN26: =CL26 | CP26: =IF(ImportExport!BY23=0,"",ImportExport!BY23) | CQ26: =IF(CR13="","",IF(CP26=CR26,"","変更")) | CR26: =CP26 | CT26: =IF(ImportExport!BY24=0,"",ImportExport!BY24) | CU26: =IF(CV13="","",IF(CT26=CV26,"","変更")) | CV26: =CT26 | CX26: =IF(ImportExport!BY25=0,"",ImportExport!BY25) | CY26: =IF(CZ13="","",IF(CX26=CZ26,"","変更")) | CZ26: =CX26 | DB26: =IF(ImportExport!BY26=0,"",ImportExport!BY26) | DC26: =IF(DD13="","",IF(DB26=DD26,"","変更")) | DD26: =DB26 | DF26: =IF(ImportExport!BY27=0,"",ImportExport!BY27) | DG26: =IF(DH13="","",IF(DF26=DH26,"","変更")) | DH26: =DF26 | DJ26: =IF(ImportExport!BY28=0,"",ImportExport!BY28) | DK26: =IF(DL13="","",IF(DJ26=DL26,"","変更")) | DL26: =DJ26 | DN26: =IF(ImportExport!BY29=0,"",ImportExport!BY29) | DO26: =IF(DP13="","",IF(DN26=DP26,"","変更")) | DP26: =DN26 | DR26: =IF(ImportExport!BY30=0,"",ImportExport!BY30) | DS26: =IF(DT13="","",IF(DR26=DT26,"","変更")) | DT26: =DR26 | DV26: =IF(ImportExport!BY31=0,"",ImportExport!BY31) | DW26: =IF(DX13="","",IF(DV26=DX26,"","変更")) | DX26: =DV26
B27: ディスク種類④ | J27: =IF(ImportExport!BZ2=0,"",ImportExport!BZ2) | K27: =IF(L13="","",IF(J27=L27,"","変更")) | L27: =J27 | N27: =IF(ImportExport!BZ3=0,"",ImportExport!BZ3) | O27: =IF(P13="","",IF(N27=P27,"","変更")) | P27: =N27 | R27: =IF(ImportExport!BZ4=0,"",ImportExport!BZ4) | S27: =IF(T13="","",IF(R27=T27,"","変更")) | T27: =R27 | V27: =IF(ImportExport!BZ5=0,"",ImportExport!BZ5) | W27: =IF(X13="","",IF(V27=X27,"","変更")) | X27: =V27 | Z27: =IF(ImportExport!BZ6=0,"",ImportExport!BZ6) | AA27: =IF(AB13="","",IF(Z27=AB27,"","変更")) | AB27: =Z27 | AD27: =IF(ImportExport!BZ7=0,"",ImportExport!BZ7) | AE27: =IF(AF13="","",IF(AD27=AF27,"","変更")) | AF27: =AD27 | AH27: =IF(ImportExport!BZ8=0,"",ImportExport!BZ8) | AI27: =IF(AJ13="","",IF(AH27=AJ27,"","変更")) | AJ27: =AH27 | AL27: =IF(ImportExport!BZ9=0,"",ImportExport!BZ9) | AM27: =IF(AN13="","",IF(AL27=AN27,"","変更")) | AN27: =AL27 | AP27: =IF(ImportExport!BZ10=0,"",ImportExport!BZ10) | AQ27: =IF(AR13="","",IF(AP27=AR27,"","変更")) | AR27: =AP27 | AT27: =IF(ImportExport!BZ11=0,"",ImportExport!BZ11) | AU27: =IF(AV13="","",IF(AT27=AV27,"","変更")) | AV27: =AT27 | AX27: =IF(ImportExport!BZ12=0,"",ImportExport!BZ12) | AY27: =IF(AZ13="","",IF(AX27=AZ27,"","変更")) | AZ27: =AX27 | BB27: =IF(ImportExport!BZ13=0,"",ImportExport!BZ13) | BC27: =IF(BD13="","",IF(BB27=BD27,"","変更")) | BD27: =BB27 | BF27: =IF(ImportExport!BZ14=0,"",ImportExport!BZ14) | BG27: =IF(BH13="","",IF(BF27=BH27,"","変更")) | BH27: =BF27 | BJ27: =IF(ImportExport!BZ15=0,"",ImportExport!BZ15) | BK27: =IF(BL13="","",IF(BJ27=BL27,"","変更")) | BL27: =BJ27 | BN27: =IF(ImportExport!BZ16=0,"",ImportExport!BZ16) | BO27: =IF(BP13="","",IF(BN27=BP27,"","変更")) | BP27: =BN27 | BR27: =IF(ImportExport!BZ17=0,"",ImportExport!BZ17) | BS27: =IF(BT13="","",IF(BR27=BT27,"","変更")) | BT27: =BR27 | BV27: =IF(ImportExport!BZ18=0,"",ImportExport!BZ18) | BW27: =IF(BX13="","",IF(BV27=BX27,"","変更")) | BX27: =BV27 | BZ27: =IF(ImportExport!BZ19=0,"",ImportExport!BZ19) | CA27: =IF(CB13="","",IF(BZ27=CB27,"","変更")) | CB27: =BZ27 | CD27: =IF(ImportExport!BZ20=0,"",ImportExport!BZ20) | CE27: =IF(CF13="","",IF(CD27=CF27,"","変更")) | CF27: =CD27 | CH27: =IF(ImportExport!BZ21=0,"",ImportExport!BZ21) | CI27: =IF(CJ13="","",IF(CH27=CJ27,"","変更")) | CJ27: =CH27 | CL27: =IF(ImportExport!BZ22=0,"",ImportExport!BZ22) | CM27: =IF(CN13="","",IF(CL27=CN27,"","変更")) | CN27: =CL27 | CP27: =IF(ImportExport!BZ23=0,"",ImportExport!BZ23) | CQ27: =IF(CR13="","",IF(CP27=CR27,"","変更")) | CR27: =CP27 | CT27: =IF(ImportExport!BZ24=0,"",ImportExport!BZ24) | CU27: =IF(CV13="","",IF(CT27=CV27,"","変更")) | CV27: =CT27 | CX27: =IF(ImportExport!BZ25=0,"",ImportExport!BZ25) | CY27: =IF(CZ13="","",IF(CX27=CZ27,"","変更")) | CZ27: =CX27 | DB27: =IF(ImportExport!BZ26=0,"",ImportExport!BZ26) | DC27: =IF(DD13="","",IF(DB27=DD27,"","変更")) | DD27: =DB27 | DF27: =IF(ImportExport!BZ27=0,"",ImportExport!BZ27) | DG27: =IF(DH13="","",IF(DF27=DH27,"","変更")) | DH27: =DF27 | DJ27: =IF(ImportExport!BZ28=0,"",ImportExport!BZ28) | DK27: =IF(DL13="","",IF(DJ27=DL27,"","変更")) | DL27: =DJ27 | DN27: =IF(ImportExport!BZ29=0,"",ImportExport!BZ29) | DO27: =IF(DP13="","",IF(DN27=DP27,"","変更")) | DP27: =DN27 | DR27: =IF(ImportExport!BZ30=0,"",ImportExport!BZ30) | DS27: =IF(DT13="","",IF(DR27=DT27,"","変更")) | DT27: =DR27 | DV27: =IF(ImportExport!BZ31=0,"",ImportExport!BZ31) | DW27: =IF(DX13="","",IF(DV27=DX27,"","変更")) | DX27: =DV27
B28: ディスク種類④ 数量 | J28: =IF(ImportExport!CA2=0,"",ImportExport!CA2) | K28: =IF(L13="","",IF(J28=L28,"","変更")) | L28: =J28 | N28: =IF(ImportExport!CA3=0,"",ImportExport!CA3) | O28: =IF(P13="","",IF(N28=P28,"","変更")) | P28: =N28 | R28: =IF(ImportExport!CA4=0,"",ImportExport!CA4) | S28: =IF(T13="","",IF(R28=T28,"","変更")) | T28: =R28 | V28: =IF(ImportExport!CA5=0,"",ImportExport!CA5) | W28: =IF(X13="","",IF(V28=X28,"","変更")) | X28: =V28 | Z28: =IF(ImportExport!CA6=0,"",ImportExport!CA6) | AA28: =IF(AB13="","",IF(Z28=AB28,"","変更")) | AB28: =Z28 | AD28: =IF(ImportExport!CA7=0,"",ImportExport!CA7) | AE28: =IF(AF13="","",IF(AD28=AF28,"","変更")) | AF28: =AD28 | AH28: =IF(ImportExport!CA8=0,"",ImportExport!CA8) | AI28: =IF(AJ13="","",IF(AH28=AJ28,"","変更")) | AJ28: =AH28 | AL28: =IF(ImportExport!CA9=0,"",ImportExport!CA9) | AM28: =IF(AN13="","",IF(AL28=AN28,"","変更")) | AN28: =AL28 | AP28: =IF(ImportExport!CA10=0,"",ImportExport!CA10) | AQ28: =IF(AR13="","",IF(AP28=AR28,"","変更")) | AR28: =AP28 | AT28: =IF(ImportExport!CA11=0,"",ImportExport!CA11) | AU28: =IF(AV13="","",IF(AT28=AV28,"","変更")) | AV28: =AT28 | AX28: =IF(ImportExport!CA12=0,"",ImportExport!CA12) | AY28: =IF(AZ13="","",IF(AX28=AZ28,"","変更")) | AZ28: =AX28 | BB28: =IF(ImportExport!CA13=0,"",ImportExport!CA13) | BC28: =IF(BD13="","",IF(BB28=BD28,"","変更")) | BD28: =BB28 | BF28: =IF(ImportExport!CA14=0,"",ImportExport!CA14) | BG28: =IF(BH13="","",IF(BF28=BH28,"","変更")) | BH28: =BF28 | BJ28: =IF(ImportExport!CA15=0,"",ImportExport!CA15) | BK28: =IF(BL13="","",IF(BJ28=BL28,"","変更")) | BL28: =BJ28 | BN28: =IF(ImportExport!CA16=0,"",ImportExport!CA16) | BO28: =IF(BP13="","",IF(BN28=BP28,"","変更")) | BP28: =BN28 | BR28: =IF(ImportExport!CA17=0,"",ImportExport!CA17) | BS28: =IF(BT13="","",IF(BR28=BT28,"","変更")) | BT28: =BR28 | BV28: =IF(ImportExport!CA18=0,"",ImportExport!CA18) | BW28: =IF(BX13="","",IF(BV28=BX28,"","変更")) | BX28: =BV28 | BZ28: =IF(ImportExport!CA19=0,"",ImportExport!CA19) | CA28: =IF(CB13="","",IF(BZ28=CB28,"","変更")) | CB28: =BZ28 | CD28: =IF(ImportExport!CA20=0,"",ImportExport!CA20) | CE28: =IF(CF13="","",IF(CD28=CF28,"","変更")) | CF28: =CD28 | CH28: =IF(ImportExport!CA21=0,"",ImportExport!CA21) | CI28: =IF(CJ13="","",IF(CH28=CJ28,"","変更")) | CJ28: =CH28 | CL28: =IF(ImportExport!CA22=0,"",ImportExport!CA22) | CM28: =IF(CN13="","",IF(CL28=CN28,"","変更")) | CN28: =CL28 | CP28: =IF(ImportExport!CA23=0,"",ImportExport!CA23) | CQ28: =IF(CR13="","",IF(CP28=CR28,"","変更")) | CR28: =CP28 | CT28: =IF(ImportExport!CA24=0,"",ImportExport!CA24) | CU28: =IF(CV13="","",IF(CT28=CV28,"","変更")) | CV28: =CT28 | CX28: =IF(ImportExport!CA25=0,"",ImportExport!CA25) | CY28: =IF(CZ13="","",IF(CX28=CZ28,"","変更")) | CZ28: =CX28 | DB28: =IF(ImportExport!CA26=0,"",ImportExport!CA26) | DC28: =IF(DD13="","",IF(DB28=DD28,"","変更")) | DD28: =DB28 | DF28: =IF(ImportExport!CA27=0,"",ImportExport!CA27) | DG28: =IF(DH13="","",IF(DF28=DH28,"","変更")) | DH28: =DF28 | DJ28: =IF(ImportExport!CA28=0,"",ImportExport!CA28) | DK28: =IF(DL13="","",IF(DJ28=DL28,"","変更")) | DL28: =DJ28 | DN28: =IF(ImportExport!CA29=0,"",ImportExport!CA29) | DO28: =IF(DP13="","",IF(DN28=DP28,"","変更")) | DP28: =DN28 | DR28: =IF(ImportExport!CA30=0,"",ImportExport!CA30) | DS28: =IF(DT13="","",IF(DR28=DT28,"","変更")) | DT28: =DR28 | DV28: =IF(ImportExport!CA31=0,"",ImportExport!CA31) | DW28: =IF(DX13="","",IF(DV28=DX28,"","変更")) | DX28: =DV28
A29: ②ネットワーク設定 | B29: NIC追加 | D29: 10Gbps 2ポート追加あり、なしをご記入ください。 | J29: =IF(ImportExport!CB2=0,"",ImportExport!CB2) | K29: =IF(L13="","",IF(J29=L29,"","変更")) | L29: =J29 | N29: =IF(ImportExport!CB3=0,"",ImportExport!CB3) | O29: =IF(P13="","",IF(N29=P29,"","変更")) | P29: =N29 | R29: =IF(ImportExport!CB4=0,"",ImportExport!CB4) | S29: =IF(T13="","",IF(R29=T29,"","変更")) | T29: =R29 | V29: =IF(ImportExport!CB5=0,"",ImportExport!CB5) | W29: =IF(X13="","",IF(V29=X29,"","変更")) | X29: =V29 | Z29: =IF(ImportExport!CB6=0,"",ImportExport!CB6) | AA29: =IF(AB13="","",IF(Z29=AB29,"","変更")) | AB29: =Z29 | AD29: =IF(ImportExport!CB7=0,"",ImportExport!CB7) | AE29: =IF(AF13="","",IF(AD29=AF29,"","変更")) | AF29: =AD29 | AH29: =IF(ImportExport!CB8=0,"",ImportExport!CB8) | AI29: =IF(AJ13="","",IF(AH29=AJ29,"","変更")) | AJ29: =AH29 | AL29: =IF(ImportExport!CB9=0,"",ImportExport!CB9) | AM29: =IF(AN13="","",IF(AL29=AN29,"","変更")) | AN29: =AL29 | AP29: =IF(ImportExport!CB10=0,"",ImportExport!CB10) | AQ29: =IF(AR13="","",IF(AP29=AR29,"","変更")) | AR29: =AP29 | AT29: =IF(ImportExport!CB11=0,"",ImportExport!CB11) | AU29: =IF(AV13="","",IF(AT29=AV29,"","変更")) | AV29: =AT29 | AX29: =IF(ImportExport!CB12=0,"",ImportExport!CB12) | AY29: =IF(AZ13="","",IF(AX29=AZ29,"","変更")) | AZ29: =AX29 | BB29: =IF(ImportExport!CB13=0,"",ImportExport!CB13) | BC29: =IF(BD13="","",IF(BB29=BD29,"","変更")) | BD29: =BB29 | BF29: =IF(ImportExport!CB14=0,"",ImportExport!CB14) | BG29: =IF(BH13="","",IF(BF29=BH29,"","変更")) | BH29: =BF29 | BJ29: =IF(ImportExport!CB15=0,"",ImportExport!CB15) | BK29: =IF(BL13="","",IF(BJ29=BL29,"","変更")) | BL29: =BJ29 | BN29: =IF(ImportExport!CB16=0,"",ImportExport!CB16) | BO29: =IF(BP13="","",IF(BN29=BP29,"","変更")) | BP29: =BN29 | BR29: =IF(ImportExport!CB17=0,"",ImportExport!CB17) | BS29: =IF(BT13="","",IF(BR29=BT29,"","変更")) | BT29: =BR29 | BV29: =IF(ImportExport!CB18=0,"",ImportExport!CB18) | BW29: =IF(BX13="","",IF(BV29=BX29,"","変更")) | BX29: =BV29 | BZ29: =IF(ImportExport!CB19=0,"",ImportExport!CB19) | CA29: =IF(CB13="","",IF(BZ29=CB29,"","変更")) | CB29: =BZ29 | CD29: =IF(ImportExport!CB20=0,"",ImportExport!CB20) | CE29: =IF(CF13="","",IF(CD29=CF29,"","変更")) | CF29: =CD29 | CH29: =IF(ImportExport!CB21=0,"",ImportExport!CB21) | CI29: =IF(CJ13="","",IF(CH29=CJ29,"","変更")) | CJ29: =CH29 | CL29: =IF(ImportExport!CB22=0,"",ImportExport!CB22) | CM29: =IF(CN13="","",IF(CL29=CN29,"","変更")) | CN29: =CL29 | CP29: =IF(ImportExport!CB23=0,"",ImportExport!CB23) | CQ29: =IF(CR13="","",IF(CP29=CR29,"","変更")) | CR29: =CP29 | CT29: =IF(ImportExport!CB24=0,"",ImportExport!CB24) | CU29: =IF(CV13="","",IF(CT29=CV29,"","変更")) | CV29: =CT29 | CX29: =IF(ImportExport!CB25=0,"",ImportExport!CB25) | CY29: =IF(CZ13="","",IF(CX29=CZ29,"","変更")) | CZ29: =CX29 | DB29: =IF(ImportExport!CB26=0,"",ImportExport!CB26) | DC29: =IF(DD13="","",IF(DB29=DD29,"","変更")) | DD29: =DB29 | DF29: =IF(ImportExport!CB27=0,"",ImportExport!CB27) | DG29: =IF(DH13="","",IF(DF29=DH29,"","変更")) | DH29: =DF29 | DJ29: =IF(ImportExport!CB28=0,"",ImportExport!CB28) | DK29: =IF(DL13="","",IF(DJ29=DL29,"","変更")) | DL29: =DJ29 | DN29: =IF(ImportExport!CB29=0,"",ImportExport!CB29) | DO29: =IF(DP13="","",IF(DN29=DP29,"","変更")) | DP29: =DN29 | DR29: =IF(ImportExport!CB30=0,"",ImportExport!CB30) | DS29: =IF(DT13="","",IF(DR29=DT29,"","変更")) | DT29: =DR29 | DV29: =IF(ImportExport!CB31=0,"",ImportExport!CB31) | DW29: =IF(DX13="","",IF(DV29=DX29,"","変更")) | DX29: =DV29
B30: NIC冗長化グループ1 | D30: NICの冗長化方式をStaticLAGもしくはLACP、LAGなしからご記入ください。 | J30: =IF(ImportExport!CC2=0,"",ImportExport!CC2) | K30: =IF(L13="","",IF(J30=L30,"","変更")) | L30: =J30 | N30: =IF(ImportExport!CC3=0,"",ImportExport!CC3) | O30: =IF(P13="","",IF(N30=P30,"","変更")) | P30: =N30 | R30: =IF(ImportExport!CC4=0,"",ImportExport!CC4) | S30: =IF(T13="","",IF(R30=T30,"","変更")) | T30: =R30 | V30: =IF(ImportExport!CC5=0,"",ImportExport!CC5) | W30: =IF(X13="","",IF(V30=X30,"","変更")) | X30: =V30 | Z30: =IF(ImportExport!CC6=0,"",ImportExport!CC6) | AA30: =IF(AB13="","",IF(Z30=AB30,"","変更")) | AB30: =Z30 | AD30: =IF(ImportExport!CC7=0,"",ImportExport!CC7) | AE30: =IF(AF13="","",IF(AD30=AF30,"","変更")) | AF30: =AD30 | AH30: =IF(ImportExport!CC8=0,"",ImportExport!CC8) | AI30: =IF(AJ13="","",IF(AH30=AJ30,"","変更")) | AJ30: =AH30 | AL30: =IF(ImportExport!CC9=0,"",ImportExport!CC9) | AM30: =IF(AN13="","",IF(AL30=AN30,"","変更")) | AN30: =AL30 | AP30: =IF(ImportExport!CC10=0,"",ImportExport!CC10) | AQ30: =IF(AR13="","",IF(AP30=AR30,"","変更")) | AR30: =AP30 | AT30: =IF(ImportExport!CC11=0,"",ImportExport!CC11) | AU30: =IF(AV13="","",IF(AT30=AV30,"","変更")) | AV30: =AT30 | AX30: =IF(ImportExport!CC12=0,"",ImportExport!CC12) | AY30: =IF(AZ13="","",IF(AX30=AZ30,"","変更")) | AZ30: =AX30 | BB30: =IF(ImportExport!CC13=0,"",ImportExport!CC13) | BC30: =IF(BD13="","",IF(BB30=BD30,"","変更")) | BD30: =BB30 | BF30: =IF(ImportExport!CC14=0,"",ImportExport!CC14) | BG30: =IF(BH13="","",IF(BF30=BH30,"","変更")) | BH30: =BF30 | BJ30: =IF(ImportExport!CC15=0,"",ImportExport!CC15) | BK30: =IF(BL13="","",IF(BJ30=BL30,"","変更")) | BL30: =BJ30 | BN30: =IF(ImportExport!CC16=0,"",ImportExport!CC16) | BO30: =IF(BP13="","",IF(BN30=BP30,"","変更")) | BP30: =BN30 | BR30: =IF(ImportExport!CC17=0,"",ImportExport!CC17) | BS30: =IF(BT13="","",IF(BR30=BT30,"","変更")) | BT30: =BR30 | BV30: =IF(ImportExport!CC18=0,"",ImportExport!CC18) | BW30: =IF(BX13="","",IF(BV30=BX30,"","変更")) | BX30: =BV30 | BZ30: =IF(ImportExport!CC19=0,"",ImportExport!CC19) | CA30: =IF(CB13="","",IF(BZ30=CB30,"","変更")) | CB30: =BZ30 | CD30: =IF(ImportExport!CC20=0,"",ImportExport!CC20) | CE30: =IF(CF13="","",IF(CD30=CF30,"","変更")) | CF30: =CD30 | CH30: =IF(ImportExport!CC21=0,"",ImportExport!CC21) | CI30: =IF(CJ13="","",IF(CH30=CJ30,"","変更")) | CJ30: =CH30 | CL30: =IF(ImportExport!CC22=0,"",ImportExport!CC22) | CM30: =IF(CN13="","",IF(CL30=CN30,"","変更")) | CN30: =CL30 | CP30: =IF(ImportExport!CC23=0,"",ImportExport!CC23) | CQ30: =IF(CR13="","",IF(CP30=CR30,"","変更")) | CR30: =CP30 | CT30: =IF(ImportExport!CC24=0,"",ImportExport!CC24) | CU30: =IF(CV13="","",IF(CT30=CV30,"","変更")) | CV30: =CT30 | CX30: =IF(ImportExport!CC25=0,"",ImportExport!CC25) | CY30: =IF(CZ13="","",IF(CX30=CZ30,"","変更")) | CZ30: =CX30 | DB30: =IF(ImportExport!CC26=0,"",ImportExport!CC26) | DC30: =IF(DD13="","",IF(DB30=DD30,"","変更")) | DD30: =DB30 | DF30: =IF(ImportExport!CC27=0,"",ImportExport!CC27) | DG30: =IF(DH13="","",IF(DF30=DH30,"","変更")) | DH30: =DF30 | DJ30: =IF(ImportExport!CC28=0,"",ImportExport!CC28) | DK30: =IF(DL13="","",IF(DJ30=DL30,"","変更")) | DL30: =DJ30 | DN30: =IF(ImportExport!CC29=0,"",ImportExport!CC29) | DO30: =IF(DP13="","",IF(DN30=DP30,"","変更")) | DP30: =DN30 | DR30: =IF(ImportExport!CC30=0,"",ImportExport!CC30) | DS30: =IF(DT13="","",IF(DR30=DT30,"","変更")) | DT30: =DR30 | DV30: =IF(ImportExport!CC31=0,"",ImportExport!CC31) | DW30: =IF(DX13="","",IF(DV30=DX30,"","変更")) | DX30: =DV30
C31: タグVLAN | D31: タグVLANの設定あり、なしをご記入ください。複数セグメントをご利用の場合にはタグVLANありをご記入ください。 | J31: =IF(ImportExport!CD2=0,"",ImportExport!CD2) | K31: =IF(L13="","",IF(J31=L31,"","変更")) | L31: =J31 | N31: =IF(ImportExport!CD3=0,"",ImportExport!CD3) | O31: =IF(P13="","",IF(N31=P31,"","変更")) | P31: =N31 | R31: =IF(ImportExport!CD4=0,"",ImportExport!CD4) | S31: =IF(T13="","",IF(R31=T31,"","変更")) | T31: =R31 | V31: =IF(ImportExport!CD5=0,"",ImportExport!CD5) | W31: =IF(X13="","",IF(V31=X31,"","変更")) | X31: =V31 | Z31: =IF(ImportExport!CD6=0,"",ImportExport!CD6) | AA31: =IF(AB13="","",IF(Z31=AB31,"","変更")) | AB31: =Z31 | AD31: =IF(ImportExport!CD7=0,"",ImportExport!CD7) | AE31: =IF(AF13="","",IF(AD31=AF31,"","変更")) | AF31: =AD31 | AH31: =IF(ImportExport!CD8=0,"",ImportExport!CD8) | AI31: =IF(AJ13="","",IF(AH31=AJ31,"","変更")) | AJ31: =AH31 | AL31: =IF(ImportExport!CD9=0,"",ImportExport!CD9) | AM31: =IF(AN13="","",IF(AL31=AN31,"","変更")) | AN31: =AL31 | AP31: =IF(ImportExport!CD10=0,"",ImportExport!CD10) | AQ31: =IF(AR13="","",IF(AP31=AR31,"","変更")) | AR31: =AP31 | AT31: =IF(ImportExport!CD11=0,"",ImportExport!CD11) | AU31: =IF(AV13="","",IF(AT31=AV31,"","変更")) | AV31: =AT31 | AX31: =IF(ImportExport!CD12=0,"",ImportExport!CD12) | AY31: =IF(AZ13="","",IF(AX31=AZ31,"","変更")) | AZ31: =AX31 | BB31: =IF(ImportExport!CD13=0,"",ImportExport!CD13) | BC31: =IF(BD13="","",IF(BB31=BD31,"","変更")) | BD31: =BB31 | BF31: =IF(ImportExport!CD14=0,"",ImportExport!CD14) | BG31: =IF(BH13="","",IF(BF31=BH31,"","変更")) | BH31: =BF31 | BJ31: =IF(ImportExport!CD15=0,"",ImportExport!CD15) | BK31: =IF(BL13="","",IF(BJ31=BL31,"","変更")) | BL31: =BJ31 | BN31: =IF(ImportExport!CD16=0,"",ImportExport!CD16) | BO31: =IF(BP13="","",IF(BN31=BP31,"","変更")) | BP31: =BN31 | BR31: =IF(ImportExport!CD17=0,"",ImportExport!CD17) | BS31: =IF(BT13="","",IF(BR31=BT31,"","変更")) | BT31: =BR31 | BV31: =IF(ImportExport!CD18=0,"",ImportExport!CD18) | BW31: =IF(BX13="","",IF(BV31=BX31,"","変更")) | BX31: =BV31 | BZ31: =IF(ImportExport!CD19=0,"",ImportExport!CD19) | CA31: =IF(CB13="","",IF(BZ31=CB31,"","変更")) | CB31: =BZ31 | CD31: =IF(ImportExport!CD20=0,"",ImportExport!CD20) | CE31: =IF(CF13="","",IF(CD31=CF31,"","変更")) | CF31: =CD31 | CH31: =IF(ImportExport!CD21=0,"",ImportExport!CD21) | CI31: =IF(CJ13="","",IF(CH31=CJ31,"","変更")) | CJ31: =CH31 | CL31: =IF(ImportExport!CD22=0,"",ImportExport!CD22) | CM31: =IF(CN13="","",IF(CL31=CN31,"","変更")) | CN31: =CL31 | CP31: =IF(ImportExport!CD23=0,"",ImportExport!CD23) | CQ31: =IF(CR13="","",IF(CP31=CR31,"","変更")) | CR31: =CP31 | CT31: =IF(ImportExport!CD24=0,"",ImportExport!CD24) | CU31: =IF(CV13="","",IF(CT31=CV31,"","変更")) | CV31: =CT31 | CX31: =IF(ImportExport!CD25=0,"",ImportExport!CD25) | CY31: =IF(CZ13="","",IF(CX31=CZ31,"","変更")) | CZ31: =CX31 | DB31: =IF(ImportExport!CD26=0,"",ImportExport!CD26) | DC31: =IF(DD13="","",IF(DB31=DD31,"","変更")) | DD31: =DB31 | DF31: =IF(ImportExport!CD27=0,"",ImportExport!CD27) | DG31: =IF(DH13="","",IF(DF31=DH31,"","変更")) | DH31: =DF31 | DJ31: =IF(ImportExport!CD28=0,"",ImportExport!CD28) | DK31: =IF(DL13="","",IF(DJ31=DL31,"","変更")) | DL31: =DJ31 | DN31: =IF(ImportExport!CD29=0,"",ImportExport!CD29) | DO31: =IF(DP13="","",IF(DN31=DP31,"","変更")) | DP31: =DN31 | DR31: =IF(ImportExport!CD30=0,"",ImportExport!CD30) | DS31: =IF(DT13="","",IF(DR31=DT31,"","変更")) | DT31: =DR31 | DV31: =IF(ImportExport!CD31=0,"",ImportExport!CD31) | DW31: =IF(DX13="","",IF(DV31=DX31,"","変更")) | DX31: =DV31
C32: 接続VLAN管理番号 | D32: タグVLANなしを選択の場合に、設定するVLAN番号をご記入ください。 | J32: =IF(ImportExport!CE2=0,"",ImportExport!CE2) | K32: =IF(L13="","",IF(J32=L32,"","変更")) | L32: =J32 | N32: =IF(ImportExport!CE3=0,"",ImportExport!CE3) | O32: =IF(P13="","",IF(N32=P32,"","変更")) | P32: =N32 | R32: =IF(ImportExport!CE4=0,"",ImportExport!CE4) | S32: =IF(T13="","",IF(R32=T32,"","変更")) | T32: =R32 | V32: =IF(ImportExport!CE5=0,"",ImportExport!CE5) | W32: =IF(X13="","",IF(V32=X32,"","変更")) | X32: =V32 | Z32: =IF(ImportExport!CE6=0,"",ImportExport!CE6) | AA32: =IF(AB13="","",IF(Z32=AB32,"","変更")) | AB32: =Z32 | AD32: =IF(ImportExport!CE7=0,"",ImportExport!CE7) | AE32: =IF(AF13="","",IF(AD32=AF32,"","変更")) | AF32: =AD32 | AH32: =IF(ImportExport!CE8=0,"",ImportExport!CE8) | AI32: =IF(AJ13="","",IF(AH32=AJ32,"","変更")) | AJ32: =AH32 | AL32: =IF(ImportExport!CE9=0,"",ImportExport!CE9) | AM32: =IF(AN13="","",IF(AL32=AN32,"","変更")) | AN32: =AL32 | AP32: =IF(ImportExport!CE10=0,"",ImportExport!CE10) | AQ32: =IF(AR13="","",IF(AP32=AR32,"","変更")) | AR32: =AP32 | AT32: =IF(ImportExport!CE11=0,"",ImportExport!CE11) | AU32: =IF(AV13="","",IF(AT32=AV32,"","変更")) | AV32: =AT32 | AX32: =IF(ImportExport!CE12=0,"",ImportExport!CE12) | AY32: =IF(AZ13="","",IF(AX32=AZ32,"","変更")) | AZ32: =AX32 | BB32: =IF(ImportExport!CE13=0,"",ImportExport!CE13) | BC32: =IF(BD13="","",IF(BB32=BD32,"","変更")) | BD32: =BB32 | BF32: =IF(ImportExport!CE14=0,"",ImportExport!CE14) | BG32: =IF(BH13="","",IF(BF32=BH32,"","変更")) | BH32: =BF32 | BJ32: =IF(ImportExport!CE15=0,"",ImportExport!CE15) | BK32: =IF(BL13="","",IF(BJ32=BL32,"","変更")) | BL32: =BJ32 | BN32: =IF(ImportExport!CE16=0,"",ImportExport!CE16) | BO32: =IF(BP13="","",IF(BN32=BP32,"","変更")) | BP32: =BN32 | BR32: =IF(ImportExport!CE17=0,"",ImportExport!CE17) | BS32: =IF(BT13="","",IF(BR32=BT32,"","変更")) | BT32: =BR32 | BV32: =IF(ImportExport!CE18=0,"",ImportExport!CE18) | BW32: =IF(BX13="","",IF(BV32=BX32,"","変更")) | BX32: =BV32 | BZ32: =IF(ImportExport!CE19=0,"",ImportExport!CE19) | CA32: =IF(CB13="","",IF(BZ32=CB32,"","変更")) | CB32: =BZ32 | CD32: =IF(ImportExport!CE20=0,"",ImportExport!CE20) | CE32: =IF(CF13="","",IF(CD32=CF32,"","変更")) | CF32: =CD32 | CH32: =IF(ImportExport!CE21=0,"",ImportExport!CE21) | CI32: =IF(CJ13="","",IF(CH32=CJ32,"","変更")) | CJ32: =CH32 | CL32: =IF(ImportExport!CE22=0,"",ImportExport!CE22) | CM32: =IF(CN13="","",IF(CL32=CN32,"","変更")) | CN32: =CL32 | CP32: =IF(ImportExport!CE23=0,"",ImportExport!CE23) | CQ32: =IF(CR13="","",IF(CP32=CR32,"","変更")) | CR32: =CP32 | CT32: =IF(ImportExport!CE24=0,"",ImportExport!CE24) | CU32: =IF(CV13="","",IF(CT32=CV32,"","変更")) | CV32: =CT32 | CX32: =IF(ImportExport!CE25=0,"",ImportExport!CE25) | CY32: =IF(CZ13="","",IF(CX32=CZ32,"","変更")) | CZ32: =CX32 | DB32: =IF(ImportExport!CE26=0,"",ImportExport!CE26) | DC32: =IF(DD13="","",IF(DB32=DD32,"","変更")) | DD32: =DB32 | DF32: =IF(ImportExport!CE27=0,"",ImportExport!CE27) | DG32: =IF(DH13="","",IF(DF32=DH32,"","変更")) | DH32: =DF32 | DJ32: =IF(ImportExport!CE28=0,"",ImportExport!CE28) | DK32: =IF(DL13="","",IF(DJ32=DL32,"","変更")) | DL32: =DJ32 | DN32: =IF(ImportExport!CE29=0,"",ImportExport!CE29) | DO32: =IF(DP13="","",IF(DN32=DP32,"","変更")) | DP32: =DN32 | DR32: =IF(ImportExport!CE30=0,"",ImportExport!CE30) | DS32: =IF(DT13="","",IF(DR32=DT32,"","変更")) | DT32: =DR32 | DV32: =IF(ImportExport!CE31=0,"",ImportExport!CE31) | DW32: =IF(DX13="","",IF(DV32=DX32,"","変更")) | DX32: =DV32
B33: NIC冗長化グループ2 | D33: NICの冗長化方式をStaticLAGもしくはLACP、LAGなしからご記入ください。 | J33: =IF(ImportExport!CF2=0,"",ImportExport!CF2) | K33: =IF(L13="","",IF(J33=L33,"","変更")) | L33: =J33 | N33: =IF(ImportExport!CF3=0,"",ImportExport!CF3) | O33: =IF(P13="","",IF(N33=P33,"","変更")) | P33: =N33 | R33: =IF(ImportExport!CF4=0,"",ImportExport!CF4) | S33: =IF(T13="","",IF(R33=T33,"","変更")) | T33: =R33 | V33: =IF(ImportExport!CF5=0,"",ImportExport!CF5) | W33: =IF(X13="","",IF(V33=X33,"","変更")) | X33: =V33 | Z33: =IF(ImportExport!CF6=0,"",ImportExport!CF6) | AA33: =IF(AB13="","",IF(Z33=AB33,"","変更")) | AB33: =Z33 | AD33: =IF(ImportExport!CF7=0,"",ImportExport!CF7) | AE33: =IF(AF13="","",IF(AD33=AF33,"","変更")) | AF33: =AD33 | AH33: =IF(ImportExport!CF8=0,"",ImportExport!CF8) | AI33: =IF(AJ13="","",IF(AH33=AJ33,"","変更")) | AJ33: =AH33 | AL33: =IF(ImportExport!CF9=0,"",ImportExport!CF9) | AM33: =IF(AN13="","",IF(AL33=AN33,"","変更")) | AN33: =AL33 | AP33: =IF(ImportExport!CF10=0,"",ImportExport!CF10) | AQ33: =IF(AR13="","",IF(AP33=AR33,"","変更")) | AR33: =AP33 | AT33: =IF(ImportExport!CF11=0,"",ImportExport!CF11) | AU33: =IF(AV13="","",IF(AT33=AV33,"","変更")) | AV33: =AT33 | AX33: =IF(ImportExport!CF12=0,"",ImportExport!CF12) | AY33: =IF(AZ13="","",IF(AX33=AZ33,"","変更")) | AZ33: =AX33 | BB33: =IF(ImportExport!CF13=0,"",ImportExport!CF13) | BC33: =IF(BD13="","",IF(BB33=BD33,"","変更")) | BD33: =BB33 | BF33: =IF(ImportExport!CF14=0,"",ImportExport!CF14) | BG33: =IF(BH13="","",IF(BF33=BH33,"","変更")) | BH33: =BF33 | BJ33: =IF(ImportExport!CF15=0,"",ImportExport!CF15) | BK33: =IF(BL13="","",IF(BJ33=BL33,"","変更")) | BL33: =BJ33 | BN33: =IF(ImportExport!CF16=0,"",ImportExport!CF16) | BO33: =IF(BP13="","",IF(BN33=BP33,"","変更")) | BP33: =BN33 | BR33: =IF(ImportExport!CF17=0,"",ImportExport!CF17) | BS33: =IF(BT13="","",IF(BR33=BT33,"","変更")) | BT33: =BR33 | BV33: =IF(ImportExport!CF18=0,"",ImportExport!CF18) | BW33: =IF(BX13="","",IF(BV33=BX33,"","変更")) | BX33: =BV33 | BZ33: =IF(ImportExport!CF19=0,"",ImportExport!CF19) | CA33: =IF(CB13="","",IF(BZ33=CB33,"","変更")) | CB33: =BZ33 | CD33: =IF(ImportExport!CF20=0,"",ImportExport!CF20) | CE33: =IF(CF13="","",IF(CD33=CF33,"","変更")) | CF33: =CD33 | CH33: =IF(ImportExport!CF21=0,"",ImportExport!CF21) | CI33: =IF(CJ13="","",IF(CH33=CJ33,"","変更")) | CJ33: =CH33 | CL33: =IF(ImportExport!CF22=0,"",ImportExport!CF22) | CM33: =IF(CN13="","",IF(CL33=CN33,"","変更")) | CN33: =CL33 | CP33: =IF(ImportExport!CF23=0,"",ImportExport!CF23) | CQ33: =IF(CR13="","",IF(CP33=CR33,"","変更")) | CR33: =CP33 | CT33: =IF(ImportExport!CF24=0,"",ImportExport!CF24) | CU33: =IF(CV13="","",IF(CT33=CV33,"","変更")) | CV33: =CT33 | CX33: =IF(ImportExport!CF25=0,"",ImportExport!CF25) | CY33: =IF(CZ13="","",IF(CX33=CZ33,"","変更")) | CZ33: =CX33 | DB33: =IF(ImportExport!CF26=0,"",ImportExport!CF26) | DC33: =IF(DD13="","",IF(DB33=DD33,"","変更")) | DD33: =DB33 | DF33: =IF(ImportExport!CF27=0,"",ImportExport!CF27) | DG33: =IF(DH13="","",IF(DF33=DH33,"","変更")) | DH33: =DF33 | DJ33: =IF(ImportExport!CF28=0,"",ImportExport!CF28) | DK33: =IF(DL13="","",IF(DJ33=DL33,"","変更")) | DL33: =DJ33 | DN33: =IF(ImportExport!CF29=0,"",ImportExport!CF29) | DO33: =IF(DP13="","",IF(DN33=DP33,"","変更")) | DP33: =DN33 | DR33: =IF(ImportExport!CF30=0,"",ImportExport!CF30) | DS33: =IF(DT13="","",IF(DR33=DT33,"","変更")) | DT33: =DR33 | DV33: =IF(ImportExport!CF31=0,"",ImportExport!CF31) | DW33: =IF(DX13="","",IF(DV33=DX33,"","変更")) | DX33: =DV33
C34: タグVLAN | D34: タグVLANの設定あり、なしをご記入ください。複数セグメントをご利用の場合にはタグVLANありをご記入ください。 | J34: =IF(ImportExport!CG2=0,"",ImportExport!CG2) | K34: =IF(L13="","",IF(J34=L34,"","変更")) | L34: =J34 | N34: =IF(ImportExport!CG3=0,"",ImportExport!CG3) | O34: =IF(P13="","",IF(N34=P34,"","変更")) | P34: =N34 | R34: =IF(ImportExport!CG4=0,"",ImportExport!CG4) | S34: =IF(T13="","",IF(R34=T34,"","変更")) | T34: =R34 | V34: =IF(ImportExport!CG5=0,"",ImportExport!CG5) | W34: =IF(X13="","",IF(V34=X34,"","変更")) | X34: =V34 | Z34: =IF(ImportExport!CG6=0,"",ImportExport!CG6) | AA34: =IF(AB13="","",IF(Z34=AB34,"","変更")) | AB34: =Z34 | AD34: =IF(ImportExport!CG7=0,"",ImportExport!CG7) | AE34: =IF(AF13="","",IF(AD34=AF34,"","変更")) | AF34: =AD34 | AH34: =IF(ImportExport!CG8=0,"",ImportExport!CG8) | AI34: =IF(AJ13="","",IF(AH34=AJ34,"","変更")) | AJ34: =AH34 | AL34: =IF(ImportExport!CG9=0,"",ImportExport!CG9) | AM34: =IF(AN13="","",IF(AL34=AN34,"","変更")) | AN34: =AL34 | AP34: =IF(ImportExport!CG10=0,"",ImportExport!CG10) | AQ34: =IF(AR13="","",IF(AP34=AR34,"","変更")) | AR34: =AP34 | AT34: =IF(ImportExport!CG11=0,"",ImportExport!CG11) | AU34: =IF(AV13="","",IF(AT34=AV34,"","変更")) | AV34: =AT34 | AX34: =IF(ImportExport!CG12=0,"",ImportExport!CG12) | AY34: =IF(AZ13="","",IF(AX34=AZ34,"","変更")) | AZ34: =AX34 | BB34: =IF(ImportExport!CG13=0,"",ImportExport!CG13) | BC34: =IF(BD13="","",IF(BB34=BD34,"","変更")) | BD34: =BB34 | BF34: =IF(ImportExport!CG14=0,"",ImportExport!CG14) | BG34: =IF(BH13="","",IF(BF34=BH34,"","変更")) | BH34: =BF34 | BJ34: =IF(ImportExport!CG15=0,"",ImportExport!CG15) | BK34: =IF(BL13="","",IF(BJ34=BL34,"","変更")) | BL34: =BJ34 | BN34: =IF(ImportExport!CG16=0,"",ImportExport!CG16) | BO34: =IF(BP13="","",IF(BN34=BP34,"","変更")) | BP34: =BN34 | BR34: =IF(ImportExport!CG17=0,"",ImportExport!CG17) | BS34: =IF(BT13="","",IF(BR34=BT34,"","変更")) | BT34: =BR34 | BV34: =IF(ImportExport!CG18=0,"",ImportExport!CG18) | BW34: =IF(BX13="","",IF(BV34=BX34,"","変更")) | BX34: =BV34 | BZ34: =IF(ImportExport!CG19=0,"",ImportExport!CG19) | CA34: =IF(CB13="","",IF(BZ34=CB34,"","変更")) | CB34: =BZ34 | CD34: =IF(ImportExport!CG20=0,"",ImportExport!CG20) | CE34: =IF(CF13="","",IF(CD34=CF34,"","変更")) | CF34: =CD34 | CH34: =IF(ImportExport!CG21=0,"",ImportExport!CG21) | CI34: =IF(CJ13="","",IF(CH34=CJ34,"","変更")) | CJ34: =CH34 | CL34: =IF(ImportExport!CG22=0,"",ImportExport!CG22) | CM34: =IF(CN13="","",IF(CL34=CN34,"","変更")) | CN34: =CL34 | CP34: =IF(ImportExport!CG23=0,"",ImportExport!CG23) | CQ34: =IF(CR13="","",IF(CP34=CR34,"","変更")) | CR34: =CP34 | CT34: =IF(ImportExport!CG24=0,"",ImportExport!CG24) | CU34: =IF(CV13="","",IF(CT34=CV34,"","変更")) | CV34: =CT34 | CX34: =IF(ImportExport!CG25=0,"",ImportExport!CG25) | CY34: =IF(CZ13="","",IF(CX34=CZ34,"","変更")) | CZ34: =CX34 | DB34: =IF(ImportExport!CG26=0,"",ImportExport!CG26) | DC34: =IF(DD13="","",IF(DB34=DD34,"","変更")) | DD34: =DB34 | DF34: =IF(ImportExport!CG27=0,"",ImportExport!CG27) | DG34: =IF(DH13="","",IF(DF34=DH34,"","変更")) | DH34: =DF34 | DJ34: =IF(ImportExport!CG28=0,"",ImportExport!CG28) | DK34: =IF(DL13="","",IF(DJ34=DL34,"","変更")) | DL34: =DJ34 | DN34: =IF(ImportExport!CG29=0,"",ImportExport!CG29) | DO34: =IF(DP13="","",IF(DN34=DP34,"","変更")) | DP34: =DN34 | DR34: =IF(ImportExport!CG30=0,"",ImportExport!CG30) | DS34: =IF(DT13="","",IF(DR34=DT34,"","変更")) | DT34: =DR34 | DV34: =IF(ImportExport!CG31=0,"",ImportExport!CG31) | DW34: =IF(DX13="","",IF(DV34=DX34,"","変更")) | DX34: =DV34
C35: 接続VLAN管理番号 | D35: タグVLANなしを選択の場合に、設定するVLAN番号をご記入ください。 | J35: =IF(ImportExport!CH2=0,"",ImportExport!CH2) | K35: =IF(L13="","",IF(J35=L35,"","変更")) | L35: =J35 | N35: =IF(ImportExport!CH3=0,"",ImportExport!CH3) | O35: =IF(P13="","",IF(N35=P35,"","変更")) | P35: =N35 | R35: =IF(ImportExport!CH4=0,"",ImportExport!CH4) | S35: =IF(T13="","",IF(R35=T35,"","変更")) | T35: =R35 | V35: =IF(ImportExport!CH5=0,"",ImportExport!CH5) | W35: =IF(X13="","",IF(V35=X35,"","変更")) | X35: =V35 | Z35: =IF(ImportExport!CH6=0,"",ImportExport!CH6) | AA35: =IF(AB13="","",IF(Z35=AB35,"","変更")) | AB35: =Z35 | AD35: =IF(ImportExport!CH7=0,"",ImportExport!CH7) | AE35: =IF(AF13="","",IF(AD35=AF35,"","変更")) | AF35: =AD35 | AH35: =IF(ImportExport!CH8=0,"",ImportExport!CH8) | AI35: =IF(AJ13="","",IF(AH35=AJ35,"","変更")) | AJ35: =AH35 | AL35: =IF(ImportExport!CH9=0,"",ImportExport!CH9) | AM35: =IF(AN13="","",IF(AL35=AN35,"","変更")) | AN35: =AL35 | AP35: =IF(ImportExport!CH10=0,"",ImportExport!CH10) | AQ35: =IF(AR13="","",IF(AP35=AR35,"","変更")) | AR35: =AP35 | AT35: =IF(ImportExport!CH11=0,"",ImportExport!CH11) | AU35: =IF(AV13="","",IF(AT35=AV35,"","変更")) | AV35: =AT35 | AX35: =IF(ImportExport!CH12=0,"",ImportExport!CH12) | AY35: =IF(AZ13="","",IF(AX35=AZ35,"","変更")) | AZ35: =AX35 | BB35: =IF(ImportExport!CH13=0,"",ImportExport!CH13) | BC35: =IF(BD13="","",IF(BB35=BD35,"","変更")) | BD35: =BB35 | BF35: =IF(ImportExport!CH14=0,"",ImportExport!CH14) | BG35: =IF(BH13="","",IF(BF35=BH35,"","変更")) | BH35: =BF35 | BJ35: =IF(ImportExport!CH15=0,"",ImportExport!CH15) | BK35: =IF(BL13="","",IF(BJ35=BL35,"","変更")) | BL35: =BJ35 | BN35: =IF(ImportExport!CH16=0,"",ImportExport!CH16) | BO35: =IF(BP13="","",IF(BN35=BP35,"","変更")) | BP35: =BN35 | BR35: =IF(ImportExport!CH17=0,"",ImportExport!CH17) | BS35: =IF(BT13="","",IF(BR35=BT35,"","変更")) | BT35: =BR35 | BV35: =IF(ImportExport!CH18=0,"",ImportExport!CH18) | BW35: =IF(BX13="","",IF(BV35=BX35,"","変更")) | BX35: =BV35 | BZ35: =IF(ImportExport!CH19=0,"",ImportExport!CH19) | CA35: =IF(CB13="","",IF(BZ35=CB35,"","変更")) | CB35: =BZ35 | CD35: =IF(ImportExport!CH20=0,"",ImportExport!CH20) | CE35: =IF(CF13="","",IF(CD35=CF35,"","変更")) | CF35: =CD35 | CH35: =IF(ImportExport!CH21=0,"",ImportExport!CH21) | CI35: =IF(CJ13="","",IF(CH35=CJ35,"","変更")) | CJ35: =CH35 | CL35: =IF(ImportExport!CH22=0,"",ImportExport!CH22) | CM35: =IF(CN13="","",IF(CL35=CN35,"","変更")) | CN35: =CL35 | CP35: =IF(ImportExport!CH23=0,"",ImportExport!CH23) | CQ35: =IF(CR13="","",IF(CP35=CR35,"","変更")) | CR35: =CP35 | CT35: =IF(ImportExport!CH24=0,"",ImportExport!CH24) | CU35: =IF(CV13="","",IF(CT35=CV35,"","変更")) | CV35: =CT35 | CX35: =IF(ImportExport!CH25=0,"",ImportExport!CH25) | CY35: =IF(CZ13="","",IF(CX35=CZ35,"","変更")) | CZ35: =CX35 | DB35: =IF(ImportExport!CH26=0,"",ImportExport!CH26) | DC35: =IF(DD13="","",IF(DB35=DD35,"","変更")) | DD35: =DB35 | DF35: =IF(ImportExport!CH27=0,"",ImportExport!CH27) | DG35: =IF(DH13="","",IF(DF35=DH35,"","変更")) | DH35: =DF35 | DJ35: =IF(ImportExport!CH28=0,"",ImportExport!CH28) | DK35: =IF(DL13="","",IF(DJ35=DL35,"","変更")) | DL35: =DJ35 | DN35: =IF(ImportExport!CH29=0,"",ImportExport!CH29) | DO35: =IF(DP13="","",IF(DN35=DP35,"","変更")) | DP35: =DN35 | DR35: =IF(ImportExport!CH30=0,"",ImportExport!CH30) | DS35: =IF(DT13="","",IF(DR35=DT35,"","変更")) | DT35: =DR35 | DV35: =IF(ImportExport!CH31=0,"",ImportExport!CH31) | DW35: =IF(DX13="","",IF(DV35=DX35,"","変更")) | DX35: =DV35
B36: 標準NIC-port1 | D36: NIC冗長化グループをご記入ください | J36: =IF(ImportExport!CI2=0,"",ImportExport!CI2) | K36: =IF(L13="","",IF(J36=L36,"","変更")) | L36: =J36 | N36: =IF(ImportExport!CI3=0,"",ImportExport!CI3) | O36: =IF(P13="","",IF(N36=P36,"","変更")) | P36: =N36 | R36: =IF(ImportExport!CI4=0,"",ImportExport!CI4) | S36: =IF(T13="","",IF(R36=T36,"","変更")) | T36: =R36 | V36: =IF(ImportExport!CI5=0,"",ImportExport!CI5) | W36: =IF(X13="","",IF(V36=X36,"","変更")) | X36: =V36 | Z36: =IF(ImportExport!CI6=0,"",ImportExport!CI6) | AA36: =IF(AB13="","",IF(Z36=AB36,"","変更")) | AB36: =Z36 | AD36: =IF(ImportExport!CI7=0,"",ImportExport!CI7) | AE36: =IF(AF13="","",IF(AD36=AF36,"","変更")) | AF36: =AD36 | AH36: =IF(ImportExport!CI8=0,"",ImportExport!CI8) | AI36: =IF(AJ13="","",IF(AH36=AJ36,"","変更")) | AJ36: =AH36 | AL36: =IF(ImportExport!CI9=0,"",ImportExport!CI9) | AM36: =IF(AN13="","",IF(AL36=AN36,"","変更")) | AN36: =AL36 | AP36: =IF(ImportExport!CI10=0,"",ImportExport!CI10) | AQ36: =IF(AR13="","",IF(AP36=AR36,"","変更")) | AR36: =AP36 | AT36: =IF(ImportExport!CI11=0,"",ImportExport!CI11) | AU36: =IF(AV13="","",IF(AT36=AV36,"","変更")) | AV36: =AT36 | AX36: =IF(ImportExport!CI12=0,"",ImportExport!CI12) | AY36: =IF(AZ13="","",IF(AX36=AZ36,"","変更")) | AZ36: =AX36 | BB36: =IF(ImportExport!CI13=0,"",ImportExport!CI13) | BC36: =IF(BD13="","",IF(BB36=BD36,"","変更")) | BD36: =BB36 | BF36: =IF(ImportExport!CI14=0,"",ImportExport!CI14) | BG36: =IF(BH13="","",IF(BF36=BH36,"","変更")) | BH36: =BF36 | BJ36: =IF(ImportExport!CI15=0,"",ImportExport!CI15) | BK36: =IF(BL13="","",IF(BJ36=BL36,"","変更")) | BL36: =BJ36 | BN36: =IF(ImportExport!CI16=0,"",ImportExport!CI16) | BO36: =IF(BP13="","",IF(BN36=BP36,"","変更")) | BP36: =BN36 | BR36: =IF(ImportExport!CI17=0,"",ImportExport!CI17) | BS36: =IF(BT13="","",IF(BR36=BT36,"","変更")) | BT36: =BR36 | BV36: =IF(ImportExport!CI18=0,"",ImportExport!CI18) | BW36: =IF(BX13="","",IF(BV36=BX36,"","変更")) | BX36: =BV36 | BZ36: =IF(ImportExport!CI19=0,"",ImportExport!CI19) | CA36: =IF(CB13="","",IF(BZ36=CB36,"","変更")) | CB36: =BZ36 | CD36: =IF(ImportExport!CI20=0,"",ImportExport!CI20) | CE36: =IF(CF13="","",IF(CD36=CF36,"","変更")) | CF36: =CD36 | CH36: =IF(ImportExport!CI21=0,"",ImportExport!CI21) | CI36: =IF(CJ13="","",IF(CH36=CJ36,"","変更")) | CJ36: =CH36 | CL36: =IF(ImportExport!CI22=0,"",ImportExport!CI22) | CM36: =IF(CN13="","",IF(CL36=CN36,"","変更")) | CN36: =CL36 | CP36: =IF(ImportExport!CI23=0,"",ImportExport!CI23) | CQ36: =IF(CR13="","",IF(CP36=CR36,"","変更")) | CR36: =CP36 | CT36: =IF(ImportExport!CI24=0,"",ImportExport!CI24) | CU36: =IF(CV13="","",IF(CT36=CV36,"","変更")) | CV36: =CT36 | CX36: =IF(ImportExport!CI25=0,"",ImportExport!CI25) | CY36: =IF(CZ13="","",IF(CX36=CZ36,"","変更")) | CZ36: =CX36 | DB36: =IF(ImportExport!CI26=0,"",ImportExport!CI26) | DC36: =IF(DD13="","",IF(DB36=DD36,"","変更")) | DD36: =DB36 | DF36: =IF(ImportExport!CI27=0,"",ImportExport!CI27) | DG36: =IF(DH13="","",IF(DF36=DH36,"","変更")) | DH36: =DF36 | DJ36: =IF(ImportExport!CI28=0,"",ImportExport!CI28) | DK36: =IF(DL13="","",IF(DJ36=DL36,"","変更")) | DL36: =DJ36 | DN36: =IF(ImportExport!CI29=0,"",ImportExport!CI29) | DO36: =IF(DP13="","",IF(DN36=DP36,"","変更")) | DP36: =DN36 | DR36: =IF(ImportExport!CI30=0,"",ImportExport!CI30) | DS36: =IF(DT13="","",IF(DR36=DT36,"","変更")) | DT36: =DR36 | DV36: =IF(ImportExport!CI31=0,"",ImportExport!CI31) | DW36: =IF(DX13="","",IF(DV36=DX36,"","変更")) | DX36: =DV36
B37: 標準NIC-port2 | D37: NIC冗長化グループをご記入ください | J37: =IF(ImportExport!CJ2=0,"",ImportExport!CJ2) | K37: =IF(L13="","",IF(J37=L37,"","変更")) | L37: =J37 | N37: =IF(ImportExport!CJ3=0,"",ImportExport!CJ3) | O37: =IF(P13="","",IF(N37=P37,"","変更")) | P37: =N37 | R37: =IF(ImportExport!CJ4=0,"",ImportExport!CJ4) | S37: =IF(T13="","",IF(R37=T37,"","変更")) | T37: =R37 | V37: =IF(ImportExport!CJ5=0,"",ImportExport!CJ5) | W37: =IF(X13="","",IF(V37=X37,"","変更")) | X37: =V37 | Z37: =IF(ImportExport!CJ6=0,"",ImportExport!CJ6) | AA37: =IF(AB13="","",IF(Z37=AB37,"","変更")) | AB37: =Z37 | AD37: =IF(ImportExport!CJ7=0,"",ImportExport!CJ7) | AE37: =IF(AF13="","",IF(AD37=AF37,"","変更")) | AF37: =AD37 | AH37: =IF(ImportExport!CJ8=0,"",ImportExport!CJ8) | AI37: =IF(AJ13="","",IF(AH37=AJ37,"","変更")) | AJ37: =AH37 | AL37: =IF(ImportExport!CJ9=0,"",ImportExport!CJ9) | AM37: =IF(AN13="","",IF(AL37=AN37,"","変更")) | AN37: =AL37 | AP37: =IF(ImportExport!CJ10=0,"",ImportExport!CJ10) | AQ37: =IF(AR13="","",IF(AP37=AR37,"","変更")) | AR37: =AP37 | AT37: =IF(ImportExport!CJ11=0,"",ImportExport!CJ11) | AU37: =IF(AV13="","",IF(AT37=AV37,"","変更")) | AV37: =AT37 | AX37: =IF(ImportExport!CJ12=0,"",ImportExport!CJ12) | AY37: =IF(AZ13="","",IF(AX37=AZ37,"","変更")) | AZ37: =AX37 | BB37: =IF(ImportExport!CJ13=0,"",ImportExport!CJ13) | BC37: =IF(BD13="","",IF(BB37=BD37,"","変更")) | BD37: =BB37 | BF37: =IF(ImportExport!CJ14=0,"",ImportExport!CJ14) | BG37: =IF(BH13="","",IF(BF37=BH37,"","変更")) | BH37: =BF37 | BJ37: =IF(ImportExport!CJ15=0,"",ImportExport!CJ15) | BK37: =IF(BL13="","",IF(BJ37=BL37,"","変更")) | BL37: =BJ37 | BN37: =IF(ImportExport!CJ16=0,"",ImportExport!CJ16) | BO37: =IF(BP13="","",IF(BN37=BP37,"","変更")) | BP37: =BN37 | BR37: =IF(ImportExport!CJ17=0,"",ImportExport!CJ17) | BS37: =IF(BT13="","",IF(BR37=BT37,"","変更")) | BT37: =BR37 | BV37: =IF(ImportExport!CJ18=0,"",ImportExport!CJ18) | BW37: =IF(BX13="","",IF(BV37=BX37,"","変更")) | BX37: =BV37 | BZ37: =IF(ImportExport!CJ19=0,"",ImportExport!CJ19) | CA37: =IF(CB13="","",IF(BZ37=CB37,"","変更")) | CB37: =BZ37 | CD37: =IF(ImportExport!CJ20=0,"",ImportExport!CJ20) | CE37: =IF(CF13="","",IF(CD37=CF37,"","変更")) | CF37: =CD37 | CH37: =IF(ImportExport!CJ21=0,"",ImportExport!CJ21) | CI37: =IF(CJ13="","",IF(CH37=CJ37,"","変更")) | CJ37: =CH37 | CL37: =IF(ImportExport!CJ22=0,"",ImportExport!CJ22) | CM37: =IF(CN13="","",IF(CL37=CN37,"","変更")) | CN37: =CL37 | CP37: =IF(ImportExport!CJ23=0,"",ImportExport!CJ23) | CQ37: =IF(CR13="","",IF(CP37=CR37,"","変更")) | CR37: =CP37 | CT37: =IF(ImportExport!CJ24=0,"",ImportExport!CJ24) | CU37: =IF(CV13="","",IF(CT37=CV37,"","変更")) | CV37: =CT37 | CX37: =IF(ImportExport!CJ25=0,"",ImportExport!CJ25) | CY37: =IF(CZ13="","",IF(CX37=CZ37,"","変更")) | CZ37: =CX37 | DB37: =IF(ImportExport!CJ26=0,"",ImportExport!CJ26) | DC37: =IF(DD13="","",IF(DB37=DD37,"","変更")) | DD37: =DB37 | DF37: =IF(ImportExport!CJ27=0,"",ImportExport!CJ27) | DG37: =IF(DH13="","",IF(DF37=DH37,"","変更")) | DH37: =DF37 | DJ37: =IF(ImportExport!CJ28=0,"",ImportExport!CJ28) | DK37: =IF(DL13="","",IF(DJ37=DL37,"","変更")) | DL37: =DJ37 | DN37: =IF(ImportExport!CJ29=0,"",ImportExport!CJ29) | DO37: =IF(DP13="","",IF(DN37=DP37,"","変更")) | DP37: =DN37 | DR37: =IF(ImportExport!CJ30=0,"",ImportExport!CJ30) | DS37: =IF(DT13="","",IF(DR37=DT37,"","変更")) | DT37: =DR37 | DV37: =IF(ImportExport!CJ31=0,"",ImportExport!CJ31) | DW37: =IF(DX13="","",IF(DV37=DX37,"","変更")) | DX37: =DV37
B38: 追加NIC-port1 | D38: NIC冗長化グループをご記入ください | J38: =IF(ImportExport!CK2=0,"",ImportExport!CK2) | K38: =IF(L13="","",IF(J38=L38,"","変更")) | L38: =J38 | N38: =IF(ImportExport!CK3=0,"",ImportExport!CK3) | O38: =IF(P13="","",IF(N38=P38,"","変更")) | P38: =N38 | R38: =IF(ImportExport!CK4=0,"",ImportExport!CK4) | S38: =IF(T13="","",IF(R38=T38,"","変更")) | T38: =R38 | V38: =IF(ImportExport!CK5=0,"",ImportExport!CK5) | W38: =IF(X13="","",IF(V38=X38,"","変更")) | X38: =V38 | Z38: =IF(ImportExport!CK6=0,"",ImportExport!CK6) | AA38: =IF(AB13="","",IF(Z38=AB38,"","変更")) | AB38: =Z38 | AD38: =IF(ImportExport!CK7=0,"",ImportExport!CK7) | AE38: =IF(AF13="","",IF(AD38=AF38,"","変更")) | AF38: =AD38 | AH38: =IF(ImportExport!CK8=0,"",ImportExport!CK8) | AI38: =IF(AJ13="","",IF(AH38=AJ38,"","変更")) | AJ38: =AH38 | AL38: =IF(ImportExport!CK9=0,"",ImportExport!CK9) | AM38: =IF(AN13="","",IF(AL38=AN38,"","変更")) | AN38: =AL38 | AP38: =IF(ImportExport!CK10=0,"",ImportExport!CK10) | AQ38: =IF(AR13="","",IF(AP38=AR38,"","変更")) | AR38: =AP38 | AT38: =IF(ImportExport!CK11=0,"",ImportExport!CK11) | AU38: =IF(AV13="","",IF(AT38=AV38,"","変更")) | AV38: =AT38 | AX38: =IF(ImportExport!CK12=0,"",ImportExport!CK12) | AY38: =IF(AZ13="","",IF(AX38=AZ38,"","変更")) | AZ38: =AX38 | BB38: =IF(ImportExport!CK13=0,"",ImportExport!CK13) | BC38: =IF(BD13="","",IF(BB38=BD38,"","変更")) | BD38: =BB38 | BF38: =IF(ImportExport!CK14=0,"",ImportExport!CK14) | BG38: =IF(BH13="","",IF(BF38=BH38,"","変更")) | BH38: =BF38 | BJ38: =IF(ImportExport!CK15=0,"",ImportExport!CK15) | BK38: =IF(BL13="","",IF(BJ38=BL38,"","変更")) | BL38: =BJ38 | BN38: =IF(ImportExport!CK16=0,"",ImportExport!CK16) | BO38: =IF(BP13="","",IF(BN38=BP38,"","変更")) | BP38: =BN38 | BR38: =IF(ImportExport!CK17=0,"",ImportExport!CK17) | BS38: =IF(BT13="","",IF(BR38=BT38,"","変更")) | BT38: =BR38 | BV38: =IF(ImportExport!CK18=0,"",ImportExport!CK18) | BW38: =IF(BX13="","",IF(BV38=BX38,"","変更")) | BX38: =BV38 | BZ38: =IF(ImportExport!CK19=0,"",ImportExport!CK19) | CA38: =IF(CB13="","",IF(BZ38=CB38,"","変更")) | CB38: =BZ38 | CD38: =IF(ImportExport!CK20=0,"",ImportExport!CK20) | CE38: =IF(CF13="","",IF(CD38=CF38,"","変更")) | CF38: =CD38 | CH38: =IF(ImportExport!CK21=0,"",ImportExport!CK21) | CI38: =IF(CJ13="","",IF(CH38=CJ38,"","変更")) | CJ38: =CH38 | CL38: =IF(ImportExport!CK22=0,"",ImportExport!CK22) | CM38: =IF(CN13="","",IF(CL38=CN38,"","変更")) | CN38: =CL38 | CP38: =IF(ImportExport!CK23=0,"",ImportExport!CK23) | CQ38: =IF(CR13="","",IF(CP38=CR38,"","変更")) | CR38: =CP38 | CT38: =IF(ImportExport!CK24=0,"",ImportExport!CK24) | CU38: =IF(CV13="","",IF(CT38=CV38,"","変更")) | CV38: =CT38 | CX38: =IF(ImportExport!CK25=0,"",ImportExport!CK25) | CY38: =IF(CZ13="","",IF(CX38=CZ38,"","変更")) | CZ38: =CX38 | DB38: =IF(ImportExport!CK26=0,"",ImportExport!CK26) | DC38: =IF(DD13="","",IF(DB38=DD38,"","変更")) | DD38: =DB38 | DF38: =IF(ImportExport!CK27=0,"",ImportExport!CK27) | DG38: =IF(DH13="","",IF(DF38=DH38,"","変更")) | DH38: =DF38 | DJ38: =IF(ImportExport!CK28=0,"",ImportExport!CK28) | DK38: =IF(DL13="","",IF(DJ38=DL38,"","変更")) | DL38: =DJ38 | DN38: =IF(ImportExport!CK29=0,"",ImportExport!CK29) | DO38: =IF(DP13="","",IF(DN38=DP38,"","変更")) | DP38: =DN38 | DR38: =IF(ImportExport!CK30=0,"",ImportExport!CK30) | DS38: =IF(DT13="","",IF(DR38=DT38,"","変更")) | DT38: =DR38 | DV38: =IF(ImportExport!CK31=0,"",ImportExport!CK31) | DW38: =IF(DX13="","",IF(DV38=DX38,"","変更")) | DX38: =DV38
B39: 追加NIC-port2 | D39: NIC冗長化グループをご記入ください | J39: =IF(ImportExport!CL2=0,"",ImportExport!CL2) | K39: =IF(L13="","",IF(J39=L39,"","変更")) | L39: =J39 | N39: =IF(ImportExport!CL3=0,"",ImportExport!CL3) | O39: =IF(P13="","",IF(N39=P39,"","変更")) | P39: =N39 | R39: =IF(ImportExport!CL4=0,"",ImportExport!CL4) | S39: =IF(T13="","",IF(R39=T39,"","変更")) | T39: =R39 | V39: =IF(ImportExport!CL5=0,"",ImportExport!CL5) | W39: =IF(X13="","",IF(V39=X39,"","変更")) | X39: =V39 | Z39: =IF(ImportExport!CL6=0,"",ImportExport!CL6) | AA39: =IF(AB13="","",IF(Z39=AB39,"","変更")) | AB39: =Z39 | AD39: =IF(ImportExport!CL7=0,"",ImportExport!CL7) | AE39: =IF(AF13="","",IF(AD39=AF39,"","変更")) | AF39: =AD39 | AH39: =IF(ImportExport!CL8=0,"",ImportExport!CL8) | AI39: =IF(AJ13="","",IF(AH39=AJ39,"","変更")) | AJ39: =AH39 | AL39: =IF(ImportExport!CL9=0,"",ImportExport!CL9) | AM39: =IF(AN13="","",IF(AL39=AN39,"","変更")) | AN39: =AL39 | AP39: =IF(ImportExport!CL10=0,"",ImportExport!CL10) | AQ39: =IF(AR13="","",IF(AP39=AR39,"","変更")) | AR39: =AP39 | AT39: =IF(ImportExport!CL11=0,"",ImportExport!CL11) | AU39: =IF(AV13="","",IF(AT39=AV39,"","変更")) | AV39: =AT39 | AX39: =IF(ImportExport!CL12=0,"",ImportExport!CL12) | AY39: =IF(AZ13="","",IF(AX39=AZ39,"","変更")) | AZ39: =AX39 | BB39: =IF(ImportExport!CL13=0,"",ImportExport!CL13) | BC39: =IF(BD13="","",IF(BB39=BD39,"","変更")) | BD39: =BB39 | BF39: =IF(ImportExport!CL14=0,"",ImportExport!CL14) | BG39: =IF(BH13="","",IF(BF39=BH39,"","変更")) | BH39: =BF39 | BJ39: =IF(ImportExport!CL15=0,"",ImportExport!CL15) | BK39: =IF(BL13="","",IF(BJ39=BL39,"","変更")) | BL39: =BJ39 | BN39: =IF(ImportExport!CL16=0,"",ImportExport!CL16) | BO39: =IF(BP13="","",IF(BN39=BP39,"","変更")) | BP39: =BN39 | BR39: =IF(ImportExport!CL17=0,"",ImportExport!CL17) | BS39: =IF(BT13="","",IF(BR39=BT39,"","変更")) | BT39: =BR39 | BV39: =IF(ImportExport!CL18=0,"",ImportExport!CL18) | BW39: =IF(BX13="","",IF(BV39=BX39,"","変更")) | BX39: =BV39 | BZ39: =IF(ImportExport!CL19=0,"",ImportExport!CL19) | CA39: =IF(CB13="","",IF(BZ39=CB39,"","変更")) | CB39: =BZ39 | CD39: =IF(ImportExport!CL20=0,"",ImportExport!CL20) | CE39: =IF(CF13="","",IF(CD39=CF39,"","変更")) | CF39: =CD39 | CH39: =IF(ImportExport!CL21=0,"",ImportExport!CL21) | CI39: =IF(CJ13="","",IF(CH39=CJ39,"","変更")) | CJ39: =CH39 | CL39: =IF(ImportExport!CL22=0,"",ImportExport!CL22) | CM39: =IF(CN13="","",IF(CL39=CN39,"","変更")) | CN39: =CL39 | CP39: =IF(ImportExport!CL23=0,"",ImportExport!CL23) | CQ39: =IF(CR13="","",IF(CP39=CR39,"","変更")) | CR39: =CP39 | CT39: =IF(ImportExport!CL24=0,"",ImportExport!CL24) | CU39: =IF(CV13="","",IF(CT39=CV39,"","変更")) | CV39: =CT39 | CX39: =IF(ImportExport!CL25=0,"",ImportExport!CL25) | CY39: =IF(CZ13="","",IF(CX39=CZ39,"","変更")) | CZ39: =CX39 | DB39: =IF(ImportExport!CL26=0,"",ImportExport!CL26) | DC39: =IF(DD13="","",IF(DB39=DD39,"","変更")) | DD39: =DB39 | DF39: =IF(ImportExport!CL27=0,"",ImportExport!CL27) | DG39: =IF(DH13="","",IF(DF39=DH39,"","変更")) | DH39: =DF39 | DJ39: =IF(ImportExport!CL28=0,"",ImportExport!CL28) | DK39: =IF(DL13="","",IF(DJ39=DL39,"","変更")) | DL39: =DJ39 | DN39: =IF(ImportExport!CL29=0,"",ImportExport!CL29) | DO39: =IF(DP13="","",IF(DN39=DP39,"","変更")) | DP39: =DN39 | DR39: =IF(ImportExport!CL30=0,"",ImportExport!CL30) | DS39: =IF(DT13="","",IF(DR39=DT39,"","変更")) | DT39: =DR39 | DV39: =IF(ImportExport!CL31=0,"",ImportExport!CL31) | DW39: =IF(DX13="","",IF(DV39=DX39,"","変更")) | DX39: =DV39
A40: ③リモートコンソール設定 | B40: VLAN管理番号 | D40: 【注意事項】 ・リモートコンソールはVLAN管理番号1に接続されます。 ・リモートコンソールへ接続されるセグメントは「VLAN管理番号 1」へ設定してください。 ・ネットワークアドレス、IPアドレス、デフォルトゲートウェイアドレスについて、 198.18.0.0/15のセグメントはご指定できません。 ・ログインIDについては、最大長39文字の英数字記号でのご指定をお願いいたします。 「administrator」「smcadmin」の文字列は大文字小文字含め、ご指定できません。 | J40: =IF(ImportExport!CM2=0,"",ImportExport!CM2) | K40: =IF(L13="","",IF(J40=L40,"","変更")) | L40: =J40 | N40: =IF(ImportExport!CM3=0,"",ImportExport!CM3) | O40: =IF(P13="","",IF(N40=P40,"","変更")) | P40: =N40 | R40: =IF(ImportExport!CM4=0,"",ImportExport!CM4) | S40: =IF(T13="","",IF(R40=T40,"","変更")) | T40: =R40 | V40: =IF(ImportExport!CM5=0,"",ImportExport!CM5) | W40: =IF(X13="","",IF(V40=X40,"","変更")) | X40: =V40 | Z40: =IF(ImportExport!CM6=0,"",ImportExport!CM6) | AA40: =IF(AB13="","",IF(Z40=AB40,"","変更")) | AB40: =Z40 | AD40: =IF(ImportExport!CM7=0,"",ImportExport!CM7) | AE40: =IF(AF13="","",IF(AD40=AF40,"","変更")) | AF40: =AD40 | AH40: =IF(ImportExport!CM8=0,"",ImportExport!CM8) | AI40: =IF(AJ13="","",IF(AH40=AJ40,"","変更")) | AJ40: =AH40 | AL40: =IF(ImportExport!CM9=0,"",ImportExport!CM9) | AM40: =IF(AN13="","",IF(AL40=AN40,"","変更")) | AN40: =AL40 | AP40: =IF(ImportExport!CM10=0,"",ImportExport!CM10) | AQ40: =IF(AR13="","",IF(AP40=AR40,"","変更")) | AR40: =AP40 | AT40: =IF(ImportExport!CM11=0,"",ImportExport!CM11) | AU40: =IF(AV13="","",IF(AT40=AV40,"","変更")) | AV40: =AT40 | AX40: =IF(ImportExport!CM12=0,"",ImportExport!CM12) | AY40: =IF(AZ13="","",IF(AX40=AZ40,"","変更")) | AZ40: =AX40 | BB40: =IF(ImportExport!CM13=0,"",ImportExport!CM13) | BC40: =IF(BD13="","",IF(BB40=BD40,"","変更")) | BD40: =BB40 | BF40: =IF(ImportExport!CM14=0,"",ImportExport!CM14) | BG40: =IF(BH13="","",IF(BF40=BH40,"","変更")) | BH40: =BF40 | BJ40: =IF(ImportExport!CM15=0,"",ImportExport!CM15) | BK40: =IF(BL13="","",IF(BJ40=BL40,"","変更")) | BL40: =BJ40 | BN40: =IF(ImportExport!CM16=0,"",ImportExport!CM16) | BO40: =IF(BP13="","",IF(BN40=BP40,"","変更")) | BP40: =BN40 | BR40: =IF(ImportExport!CM17=0,"",ImportExport!CM17) | BS40: =IF(BT13="","",IF(BR40=BT40,"","変更")) | BT40: =BR40 | BV40: =IF(ImportExport!CM18=0,"",ImportExport!CM18) | BW40: =IF(BX13="","",IF(BV40=BX40,"","変更")) | BX40: =BV40 | BZ40: =IF(ImportExport!CM19=0,"",ImportExport!CM19) | CA40: =IF(CB13="","",IF(BZ40=CB40,"","変更")) | CB40: =BZ40 | CD40: =IF(ImportExport!CM20=0,"",ImportExport!CM20) | CE40: =IF(CF13="","",IF(CD40=CF40,"","変更")) | CF40: =CD40 | CH40: =IF(ImportExport!CM21=0,"",ImportExport!CM21) | CI40: =IF(CJ13="","",IF(CH40=CJ40,"","変更")) | CJ40: =CH40 | CL40: =IF(ImportExport!CM22=0,"",ImportExport!CM22) | CM40: =IF(CN13="","",IF(CL40=CN40,"","変更")) | CN40: =CL40 | CP40: =IF(ImportExport!CM23=0,"",ImportExport!CM23) | CQ40: =IF(CR13="","",IF(CP40=CR40,"","変更")) | CR40: =CP40 | CT40: =IF(ImportExport!CM24=0,"",ImportExport!CM24) | CU40: =IF(CV13="","",IF(CT40=CV40,"","変更")) | CV40: =CT40 | CX40: =IF(ImportExport!CM25=0,"",ImportExport!CM25) | CY40: =IF(CZ13="","",IF(CX40=CZ40,"","変更")) | CZ40: =CX40 | DB40: =IF(ImportExport!CM26=0,"",ImportExport!CM26) | DC40: =IF(DD13="","",IF(DB40=DD40,"","変更")) | DD40: =DB40 | DF40: =IF(ImportExport!CM27=0,"",ImportExport!CM27) | DG40: =IF(DH13="","",IF(DF40=DH40,"","変更")) | DH40: =DF40 | DJ40: =IF(ImportExport!CM28=0,"",ImportExport!CM28) | DK40: =IF(DL13="","",IF(DJ40=DL40,"","変更")) | DL40: =DJ40 | DN40: =IF(ImportExport!CM29=0,"",ImportExport!CM29) | DO40: =IF(DP13="","",IF(DN40=DP40,"","変更")) | DP40: =DN40 | DR40: =IF(ImportExport!CM30=0,"",ImportExport!CM30) | DS40: =IF(DT13="","",IF(DR40=DT40,"","変更")) | DT40: =DR40 | DV40: =IF(ImportExport!CM31=0,"",ImportExport!CM31) | DW40: =IF(DX13="","",IF(DV40=DX40,"","変更")) | DX40: =DV40
B41: ネットワークアドレス | J41: =IF(ImportExport!CN2=0,"",ImportExport!CN2) | K41: =IF(L13="","",IF(J41=L41,"","変更")) | L41: =J41 | N41: =IF(ImportExport!CN3=0,"",ImportExport!CN3) | O41: =IF(P13="","",IF(N41=P41,"","変更")) | P41: =N41 | R41: =IF(ImportExport!CN4=0,"",ImportExport!CN4) | S41: =IF(T13="","",IF(R41=T41,"","変更")) | T41: =R41 | V41: =IF(ImportExport!CN5=0,"",ImportExport!CN5) | W41: =IF(X13="","",IF(V41=X41,"","変更")) | X41: =V41 | Z41: =IF(ImportExport!CN6=0,"",ImportExport!CN6) | AA41: =IF(AB13="","",IF(Z41=AB41,"","変更")) | AB41: =Z41 | AD41: =IF(ImportExport!CN7=0,"",ImportExport!CN7) | AE41: =IF(AF13="","",IF(AD41=AF41,"","変更")) | AF41: =AD41 | AH41: =IF(ImportExport!CN8=0,"",ImportExport!CN8) | AI41: =IF(AJ13="","",IF(AH41=AJ41,"","変更")) | AJ41: =AH41 | AL41: =IF(ImportExport!CN9=0,"",ImportExport!CN9) | AM41: =IF(AN13="","",IF(AL41=AN41,"","変更")) | AN41: =AL41 | AP41: =IF(ImportExport!CN10=0,"",ImportExport!CN10) | AQ41: =IF(AR13="","",IF(AP41=AR41,"","変更")) | AR41: =AP41 | AT41: =IF(ImportExport!CN11=0,"",ImportExport!CN11) | AU41: =IF(AV13="","",IF(AT41=AV41,"","変更")) | AV41: =AT41 | AX41: =IF(ImportExport!CN12=0,"",ImportExport!CN12) | AY41: =IF(AZ13="","",IF(AX41=AZ41,"","変更")) | AZ41: =AX41 | BB41: =IF(ImportExport!CN13=0,"",ImportExport!CN13) | BC41: =IF(BD13="","",IF(BB41=BD41,"","変更")) | BD41: =BB41 | BF41: =IF(ImportExport!CN14=0,"",ImportExport!CN14) | BG41: =IF(BH13="","",IF(BF41=BH41,"","変更")) | BH41: =BF41 | BJ41: =IF(ImportExport!CN15=0,"",ImportExport!CN15) | BK41: =IF(BL13="","",IF(BJ41=BL41,"","変更")) | BL41: =BJ41 | BN41: =IF(ImportExport!CN16=0,"",ImportExport!CN16) | BO41: =IF(BP13="","",IF(BN41=BP41,"","変更")) | BP41: =BN41 | BR41: =IF(ImportExport!CN17=0,"",ImportExport!CN17) | BS41: =IF(BT13="","",IF(BR41=BT41,"","変更")) | BT41: =BR41 | BV41: =IF(ImportExport!CN18=0,"",ImportExport!CN18) | BW41: =IF(BX13="","",IF(BV41=BX41,"","変更")) | BX41: =BV41 | BZ41: =IF(ImportExport!CN19=0,"",ImportExport!CN19) | CA41: =IF(CB13="","",IF(BZ41=CB41,"","変更")) | CB41: =BZ41 | CD41: =IF(ImportExport!CN20=0,"",ImportExport!CN20) | CE41: =IF(CF13="","",IF(CD41=CF41,"","変更")) | CF41: =CD41 | CH41: =IF(ImportExport!CN21=0,"",ImportExport!CN21) | CI41: =IF(CJ13="","",IF(CH41=CJ41,"","変更")) | CJ41: =CH41 | CL41: =IF(ImportExport!CN22=0,"",ImportExport!CN22) | CM41: =IF(CN13="","",IF(CL41=CN41,"","変更")) | CN41: =CL41 | CP41: =IF(ImportExport!CN23=0,"",ImportExport!CN23) | CQ41: =IF(CR13="","",IF(CP41=CR41,"","変更")) | CR41: =CP41 | CT41: =IF(ImportExport!CN24=0,"",ImportExport!CN24) | CU41: =IF(CV13="","",IF(CT41=CV41,"","変更")) | CV41: =CT41 | CX41: =IF(ImportExport!CN25=0,"",ImportExport!CN25) | CY41: =IF(CZ13="","",IF(CX41=CZ41,"","変更")) | CZ41: =CX41 | DB41: =IF(ImportExport!CN26=0,"",ImportExport!CN26) | DC41: =IF(DD13="","",IF(DB41=DD41,"","変更")) | DD41: =DB41 | DF41: =IF(ImportExport!CN27=0,"",ImportExport!CN27) | DG41: =IF(DH13="","",IF(DF41=DH41,"","変更")) | DH41: =DF41 | DJ41: =IF(ImportExport!CN28=0,"",ImportExport!CN28) | DK41: =IF(DL13="","",IF(DJ41=DL41,"","変更")) | DL41: =DJ41 | DN41: =IF(ImportExport!CN29=0,"",ImportExport!CN29) | DO41: =IF(DP13="","",IF(DN41=DP41,"","変更")) | DP41: =DN41 | DR41: =IF(ImportExport!CN30=0,"",ImportExport!CN30) | DS41: =IF(DT13="","",IF(DR41=DT41,"","変更")) | DT41: =DR41 | DV41: =IF(ImportExport!CN31=0,"",ImportExport!CN31) | DW41: =IF(DX13="","",IF(DV41=DX41,"","変更")) | DX41: =DV41
B42: デフォルトゲートウェイ | J42: =IF(ImportExport!CO2=0,"",ImportExport!CO2) | K42: =IF(L13="","",IF(J42=L42,"","変更")) | L42: =J42 | N42: =IF(ImportExport!CO3=0,"",ImportExport!CO3) | O42: =IF(P13="","",IF(N42=P42,"","変更")) | P42: =N42 | R42: =IF(ImportExport!CO4=0,"",ImportExport!CO4) | S42: =IF(T13="","",IF(R42=T42,"","変更")) | T42: =R42 | V42: =IF(ImportExport!CO5=0,"",ImportExport!CO5) | W42: =IF(X13="","",IF(V42=X42,"","変更")) | X42: =V42 | Z42: =IF(ImportExport!CO6=0,"",ImportExport!CO6) | AA42: =IF(AB13="","",IF(Z42=AB42,"","変更")) | AB42: =Z42 | AD42: =IF(ImportExport!CO7=0,"",ImportExport!CO7) | AE42: =IF(AF13="","",IF(AD42=AF42,"","変更")) | AF42: =AD42 | AH42: =IF(ImportExport!CO8=0,"",ImportExport!CO8) | AI42: =IF(AJ13="","",IF(AH42=AJ42,"","変更")) | AJ42: =AH42 | AL42: =IF(ImportExport!CO9=0,"",ImportExport!CO9) | AM42: =IF(AN13="","",IF(AL42=AN42,"","変更")) | AN42: =AL42 | AP42: =IF(ImportExport!CO10=0,"",ImportExport!CO10) | AQ42: =IF(AR13="","",IF(AP42=AR42,"","変更")) | AR42: =AP42 | AT42: =IF(ImportExport!CO11=0,"",ImportExport!CO11) | AU42: =IF(AV13="","",IF(AT42=AV42,"","変更")) | AV42: =AT42 | AX42: =IF(ImportExport!CO12=0,"",ImportExport!CO12) | AY42: =IF(AZ13="","",IF(AX42=AZ42,"","変更")) | AZ42: =AX42 | BB42: =IF(ImportExport!CO13=0,"",ImportExport!CO13) | BC42: =IF(BD13="","",IF(BB42=BD42,"","変更")) | BD42: =BB42 | BF42: =IF(ImportExport!CO14=0,"",ImportExport!CO14) | BG42: =IF(BH13="","",IF(BF42=BH42,"","変更")) | BH42: =BF42 | BJ42: =IF(ImportExport!CO15=0,"",ImportExport!CO15) | BK42: =IF(BL13="","",IF(BJ42=BL42,"","変更")) | BL42: =BJ42 | BN42: =IF(ImportExport!CO16=0,"",ImportExport!CO16) | BO42: =IF(BP13="","",IF(BN42=BP42,"","変更")) | BP42: =BN42 | BR42: =IF(ImportExport!CO17=0,"",ImportExport!CO17) | BS42: =IF(BT13="","",IF(BR42=BT42,"","変更")) | BT42: =BR42 | BV42: =IF(ImportExport!CO18=0,"",ImportExport!CO18) | BW42: =IF(BX13="","",IF(BV42=BX42,"","変更")) | BX42: =BV42 | BZ42: =IF(ImportExport!CO19=0,"",ImportExport!CO19) | CA42: =IF(CB13="","",IF(BZ42=CB42,"","変更")) | CB42: =BZ42 | CD42: =IF(ImportExport!CO20=0,"",ImportExport!CO20) | CE42: =IF(CF13="","",IF(CD42=CF42,"","変更")) | CF42: =CD42 | CH42: =IF(ImportExport!CO21=0,"",ImportExport!CO21) | CI42: =IF(CJ13="","",IF(CH42=CJ42,"","変更")) | CJ42: =CH42 | CL42: =IF(ImportExport!CO22=0,"",ImportExport!CO22) | CM42: =IF(CN13="","",IF(CL42=CN42,"","変更")) | CN42: =CL42 | CP42: =IF(ImportExport!CO23=0,"",ImportExport!CO23) | CQ42: =IF(CR13="","",IF(CP42=CR42,"","変更")) | CR42: =CP42 | CT42: =IF(ImportExport!CO24=0,"",ImportExport!CO24) | CU42: =IF(CV13="","",IF(CT42=CV42,"","変更")) | CV42: =CT42 | CX42: =IF(ImportExport!CO25=0,"",ImportExport!CO25) | CY42: =IF(CZ13="","",IF(CX42=CZ42,"","変更")) | CZ42: =CX42 | DB42: =IF(ImportExport!CO26=0,"",ImportExport!CO26) | DC42: =IF(DD13="","",IF(DB42=DD42,"","変更")) | DD42: =DB42 | DF42: =IF(ImportExport!CO27=0,"",ImportExport!CO27) | DG42: =IF(DH13="","",IF(DF42=DH42,"","変更")) | DH42: =DF42 | DJ42: =IF(ImportExport!CO28=0,"",ImportExport!CO28) | DK42: =IF(DL13="","",IF(DJ42=DL42,"","変更")) | DL42: =DJ42 | DN42: =IF(ImportExport!CO29=0,"",ImportExport!CO29) | DO42: =IF(DP13="","",IF(DN42=DP42,"","変更")) | DP42: =DN42 | DR42: =IF(ImportExport!CO30=0,"",ImportExport!CO30) | DS42: =IF(DT13="","",IF(DR42=DT42,"","変更")) | DT42: =DR42 | DV42: =IF(ImportExport!CO31=0,"",ImportExport!CO31) | DW42: =IF(DX13="","",IF(DV42=DX42,"","変更")) | DX42: =DV42
B43: IPアドレス | J43: =IF(ImportExport!CP2=0,"",ImportExport!CP2) | K43: =IF(L13="","",IF(J43=L43,"","変更")) | L43: =J43 | N43: =IF(ImportExport!CP3=0,"",ImportExport!CP3) | O43: =IF(P13="","",IF(N43=P43,"","変更")) | P43: =N43 | R43: =IF(ImportExport!CP4=0,"",ImportExport!CP4) | S43: =IF(T13="","",IF(R43=T43,"","変更")) | T43: =R43 | V43: =IF(ImportExport!CP5=0,"",ImportExport!CP5) | W43: =IF(X13="","",IF(V43=X43,"","変更")) | X43: =V43 | Z43: =IF(ImportExport!CP6=0,"",ImportExport!CP6) | AA43: =IF(AB13="","",IF(Z43=AB43,"","変更")) | AB43: =Z43 | AD43: =IF(ImportExport!CP7=0,"",ImportExport!CP7) | AE43: =IF(AF13="","",IF(AD43=AF43,"","変更")) | AF43: =AD43 | AH43: =IF(ImportExport!CP8=0,"",ImportExport!CP8) | AI43: =IF(AJ13="","",IF(AH43=AJ43,"","変更")) | AJ43: =AH43 | AL43: =IF(ImportExport!CP9=0,"",ImportExport!CP9) | AM43: =IF(AN13="","",IF(AL43=AN43,"","変更")) | AN43: =AL43 | AP43: =IF(ImportExport!CP10=0,"",ImportExport!CP10) | AQ43: =IF(AR13="","",IF(AP43=AR43,"","変更")) | AR43: =AP43 | AT43: =IF(ImportExport!CP11=0,"",ImportExport!CP11) | AU43: =IF(AV13="","",IF(AT43=AV43,"","変更")) | AV43: =AT43 | AX43: =IF(ImportExport!CP12=0,"",ImportExport!CP12) | AY43: =IF(AZ13="","",IF(AX43=AZ43,"","変更")) | AZ43: =AX43 | BB43: =IF(ImportExport!CP13=0,"",ImportExport!CP13) | BC43: =IF(BD13="","",IF(BB43=BD43,"","変更")) | BD43: =BB43 | BF43: =IF(ImportExport!CP14=0,"",ImportExport!CP14) | BG43: =IF(BH13="","",IF(BF43=BH43,"","変更")) | BH43: =BF43 | BJ43: =IF(ImportExport!CP15=0,"",ImportExport!CP15) | BK43: =IF(BL13="","",IF(BJ43=BL43,"","変更")) | BL43: =BJ43 | BN43: =IF(ImportExport!CP16=0,"",ImportExport!CP16) | BO43: =IF(BP13="","",IF(BN43=BP43,"","変更")) | BP43: =BN43 | BR43: =IF(ImportExport!CP17=0,"",ImportExport!CP17) | BS43: =IF(BT13="","",IF(BR43=BT43,"","変更")) | BT43: =BR43 | BV43: =IF(ImportExport!CP18=0,"",ImportExport!CP18) | BW43: =IF(BX13="","",IF(BV43=BX43,"","変更")) | BX43: =BV43 | BZ43: =IF(ImportExport!CP19=0,"",ImportExport!CP19) | CA43: =IF(CB13="","",IF(BZ43=CB43,"","変更")) | CB43: =BZ43 | CD43: =IF(ImportExport!CP20=0,"",ImportExport!CP20) | CE43: =IF(CF13="","",IF(CD43=CF43,"","変更")) | CF43: =CD43 | CH43: =IF(ImportExport!CP21=0,"",ImportExport!CP21) | CI43: =IF(CJ13="","",IF(CH43=CJ43,"","変更")) | CJ43: =CH43 | CL43: =IF(ImportExport!CP22=0,"",ImportExport!CP22) | CM43: =IF(CN13="","",IF(CL43=CN43,"","変更")) | CN43: =CL43 | CP43: =IF(ImportExport!CP23=0,"",ImportExport!CP23) | CQ43: =IF(CR13="","",IF(CP43=CR43,"","変更")) | CR43: =CP43 | CT43: =IF(ImportExport!CP24=0,"",ImportExport!CP24) | CU43: =IF(CV13="","",IF(CT43=CV43,"","変更")) | CV43: =CT43 | CX43: =IF(ImportExport!CP25=0,"",ImportExport!CP25) | CY43: =IF(CZ13="","",IF(CX43=CZ43,"","変更")) | CZ43: =CX43 | DB43: =IF(ImportExport!CP26=0,"",ImportExport!CP26) | DC43: =IF(DD13="","",IF(DB43=DD43,"","変更")) | DD43: =DB43 | DF43: =IF(ImportExport!CP27=0,"",ImportExport!CP27) | DG43: =IF(DH13="","",IF(DF43=DH43,"","変更")) | DH43: =DF43 | DJ43: =IF(ImportExport!CP28=0,"",ImportExport!CP28) | DK43: =IF(DL13="","",IF(DJ43=DL43,"","変更")) | DL43: =DJ43 | DN43: =IF(ImportExport!CP29=0,"",ImportExport!CP29) | DO43: =IF(DP13="","",IF(DN43=DP43,"","変更")) | DP43: =DN43 | DR43: =IF(ImportExport!CP30=0,"",ImportExport!CP30) | DS43: =IF(DT13="","",IF(DR43=DT43,"","変更")) | DT43: =DR43 | DV43: =IF(ImportExport!CP31=0,"",ImportExport!CP31) | DW43: =IF(DX13="","",IF(DV43=DX43,"","変更")) | DX43: =DV43
B44: ログインID | J44: =IF(ImportExport!CQ2=0,"",ImportExport!CQ2) | K44: =IF(L13="","",IF(J44=L44,"","変更")) | L44: =J44 | N44: =IF(ImportExport!CQ3=0,"",ImportExport!CQ3) | O44: =IF(P13="","",IF(N44=P44,"","変更")) | P44: =N44 | R44: =IF(ImportExport!CQ4=0,"",ImportExport!CQ4) | S44: =IF(T13="","",IF(R44=T44,"","変更")) | T44: =R44 | V44: =IF(ImportExport!CQ5=0,"",ImportExport!CQ5) | W44: =IF(X13="","",IF(V44=X44,"","変更")) | X44: =V44 | Z44: =IF(ImportExport!CQ6=0,"",ImportExport!CQ6) | AA44: =IF(AB13="","",IF(Z44=AB44,"","変更")) | AB44: =Z44 | AD44: =IF(ImportExport!CQ7=0,"",ImportExport!CQ7) | AE44: =IF(AF13="","",IF(AD44=AF44,"","変更")) | AF44: =AD44 | AH44: =IF(ImportExport!CQ8=0,"",ImportExport!CQ8) | AI44: =IF(AJ13="","",IF(AH44=AJ44,"","変更")) | AJ44: =AH44 | AL44: =IF(ImportExport!CQ9=0,"",ImportExport!CQ9) | AM44: =IF(AN13="","",IF(AL44=AN44,"","変更")) | AN44: =AL44 | AP44: =IF(ImportExport!CQ10=0,"",ImportExport!CQ10) | AQ44: =IF(AR13="","",IF(AP44=AR44,"","変更")) | AR44: =AP44 | AT44: =IF(ImportExport!CQ11=0,"",ImportExport!CQ11) | AU44: =IF(AV13="","",IF(AT44=AV44,"","変更")) | AV44: =AT44 | AX44: =IF(ImportExport!CQ12=0,"",ImportExport!CQ12) | AY44: =IF(AZ13="","",IF(AX44=AZ44,"","変更")) | AZ44: =AX44 | BB44: =IF(ImportExport!CQ13=0,"",ImportExport!CQ13) | BC44: =IF(BD13="","",IF(BB44=BD44,"","変更")) | BD44: =BB44 | BF44: =IF(ImportExport!CQ14=0,"",ImportExport!CQ14) | BG44: =IF(BH13="","",IF(BF44=BH44,"","変更")) | BH44: =BF44 | BJ44: =IF(ImportExport!CQ15=0,"",ImportExport!CQ15) | BK44: =IF(BL13="","",IF(BJ44=BL44,"","変更")) | BL44: =BJ44 | BN44: =IF(ImportExport!CQ16=0,"",ImportExport!CQ16) | BO44: =IF(BP13="","",IF(BN44=BP44,"","変更")) | BP44: =BN44 | BR44: =IF(ImportExport!CQ17=0,"",ImportExport!CQ17) | BS44: =IF(BT13="","",IF(BR44=BT44,"","変更")) | BT44: =BR44 | BV44: =IF(ImportExport!CQ18=0,"",ImportExport!CQ18) | BW44: =IF(BX13="","",IF(BV44=BX44,"","変更")) | BX44: =BV44 | BZ44: =IF(ImportExport!CQ19=0,"",ImportExport!CQ19) | CA44: =IF(CB13="","",IF(BZ44=CB44,"","変更")) | CB44: =BZ44 | CD44: =IF(ImportExport!CQ20=0,"",ImportExport!CQ20) | CE44: =IF(CF13="","",IF(CD44=CF44,"","変更")) | CF44: =CD44 | CH44: =IF(ImportExport!CQ21=0,"",ImportExport!CQ21) | CI44: =IF(CJ13="","",IF(CH44=CJ44,"","変更")) | CJ44: =CH44 | CL44: =IF(ImportExport!CQ22=0,"",ImportExport!CQ22) | CM44: =IF(CN13="","",IF(CL44=CN44,"","変更")) | CN44: =CL44 | CP44: =IF(ImportExport!CQ23=0,"",ImportExport!CQ23) | CQ44: =IF(CR13="","",IF(CP44=CR44,"","変更")) | CR44: =CP44 | CT44: =IF(ImportExport!CQ24=0,"",ImportExport!CQ24) | CU44: =IF(CV13="","",IF(CT44=CV44,"","変更")) | CV44: =CT44 | CX44: =IF(ImportExport!CQ25=0,"",ImportExport!CQ25) | CY44: =IF(CZ13="","",IF(CX44=CZ44,"","変更")) | CZ44: =CX44 | DB44: =IF(ImportExport!CQ26=0,"",ImportExport!CQ26) | DC44: =IF(DD13="","",IF(DB44=DD44,"","変更")) | DD44: =DB44 | DF44: =IF(ImportExport!CQ27=0,"",ImportExport!CQ27) | DG44: =IF(DH13="","",IF(DF44=DH44,"","変更")) | DH44: =DF44 | DJ44: =IF(ImportExport!CQ28=0,"",ImportExport!CQ28) | DK44: =IF(DL13="","",IF(DJ44=DL44,"","変更")) | DL44: =DJ44 | DN44: =IF(ImportExport!CQ29=0,"",ImportExport!CQ29) | DO44: =IF(DP13="","",IF(DN44=DP44,"","変更")) | DP44: =DN44 | DR44: =IF(ImportExport!CQ30=0,"",ImportExport!CQ30) | DS44: =IF(DT13="","",IF(DR44=DT44,"","変更")) | DT44: =DR44 | DV44: =IF(ImportExport!CQ31=0,"",ImportExport!CQ31) | DW44: =IF(DX13="","",IF(DV44=DX44,"","変更")) | DX44: =DV44
A45: ④OSインストールオプション OSインストールオプションを利用される場合のみご記入ください。 | B45: OSインストールオプション申込み | D45: OSインストールオプションあり、なしをご記入ください。 | J45: =IF(ImportExport!CR2=0,"",ImportExport!CR2) | K45: =IF(L13="","",IF(J45=L45,"","変更")) | L45: =J45 | N45: =IF(ImportExport!CR3=0,"",ImportExport!CR3) | O45: =IF(P13="","",IF(N45=P45,"","変更")) | P45: =N45 | R45: =IF(ImportExport!CR4=0,"",ImportExport!CR4) | S45: =IF(T13="","",IF(R45=T45,"","変更")) | T45: =R45 | V45: =IF(ImportExport!CR5=0,"",ImportExport!CR5) | W45: =IF(X13="","",IF(V45=X45,"","変更")) | X45: =V45 | Z45: =IF(ImportExport!CR6=0,"",ImportExport!CR6) | AA45: =IF(AB13="","",IF(Z45=AB45,"","変更")) | AB45: =Z45 | AD45: =IF(ImportExport!CR7=0,"",ImportExport!CR7) | AE45: =IF(AF13="","",IF(AD45=AF45,"","変更")) | AF45: =AD45 | AH45: =IF(ImportExport!CR8=0,"",ImportExport!CR8) | AI45: =IF(AJ13="","",IF(AH45=AJ45,"","変更")) | AJ45: =AH45 | AL45: =IF(ImportExport!CR9=0,"",ImportExport!CR9) | AM45: =IF(AN13="","",IF(AL45=AN45,"","変更")) | AN45: =AL45 | AP45: =IF(ImportExport!CR10=0,"",ImportExport!CR10) | AQ45: =IF(AR13="","",IF(AP45=AR45,"","変更")) | AR45: =AP45 | AT45: =IF(ImportExport!CR11=0,"",ImportExport!CR11) | AU45: =IF(AV13="","",IF(AT45=AV45,"","変更")) | AV45: =AT45 | AX45: =IF(ImportExport!CR12=0,"",ImportExport!CR12) | AY45: =IF(AZ13="","",IF(AX45=AZ45,"","変更")) | AZ45: =AX45 | BB45: =IF(ImportExport!CR13=0,"",ImportExport!CR13) | BC45: =IF(BD13="","",IF(BB45=BD45,"","変更")) | BD45: =BB45 | BF45: =IF(ImportExport!CR14=0,"",ImportExport!CR14) | BG45: =IF(BH13="","",IF(BF45=BH45,"","変更")) | BH45: =BF45 | BJ45: =IF(ImportExport!CR15=0,"",ImportExport!CR15) | BK45: =IF(BL13="","",IF(BJ45=BL45,"","変更")) | BL45: =BJ45 | BN45: =IF(ImportExport!CR16=0,"",ImportExport!CR16) | BO45: =IF(BP13="","",IF(BN45=BP45,"","変更")) | BP45: =BN45 | BR45: =IF(ImportExport!CR17=0,"",ImportExport!CR17) | BS45: =IF(BT13="","",IF(BR45=BT45,"","変更")) | BT45: =BR45 | BV45: =IF(ImportExport!CR18=0,"",ImportExport!CR18) | BW45: =IF(BX13="","",IF(BV45=BX45,"","変更")) | BX45: =BV45 | BZ45: =IF(ImportExport!CR19=0,"",ImportExport!CR19) | CA45: =IF(CB13="","",IF(BZ45=CB45,"","変更")) | CB45: =BZ45 | CD45: =IF(ImportExport!CR20=0,"",ImportExport!CR20) | CE45: =IF(CF13="","",IF(CD45=CF45,"","変更")) | CF45: =CD45 | CH45: =IF(ImportExport!CR21=0,"",ImportExport!CR21) | CI45: =IF(CJ13="","",IF(CH45=CJ45,"","変更")) | CJ45: =CH45 | CL45: =IF(ImportExport!CR22=0,"",ImportExport!CR22) | CM45: =IF(CN13="","",IF(CL45=CN45,"","変更")) | CN45: =CL45 | CP45: =IF(ImportExport!CR23=0,"",ImportExport!CR23) | CQ45: =IF(CR13="","",IF(CP45=CR45,"","変更")) | CR45: =CP45 | CT45: =IF(ImportExport!CR24=0,"",ImportExport!CR24) | CU45: =IF(CV13="","",IF(CT45=CV45,"","変更")) | CV45: =CT45 | CX45: =IF(ImportExport!CR25=0,"",ImportExport!CR25) | CY45: =IF(CZ13="","",IF(CX45=CZ45,"","変更")) | CZ45: =CX45 | DB45: =IF(ImportExport!CR26=0,"",ImportExport!CR26) | DC45: =IF(DD13="","",IF(DB45=DD45,"","変更")) | DD45: =DB45 | DF45: =IF(ImportExport!CR27=0,"",ImportExport!CR27) | DG45: =IF(DH13="","",IF(DF45=DH45,"","変更")) | DH45: =DF45 | DJ45: =IF(ImportExport!CR28=0,"",ImportExport!CR28) | DK45: =IF(DL13="","",IF(DJ45=DL45,"","変更")) | DL45: =DJ45 | DN45: =IF(ImportExport!CR29=0,"",ImportExport!CR29) | DO45: =IF(DP13="","",IF(DN45=DP45,"","変更")) | DP45: =DN45 | DR45: =IF(ImportExport!CR30=0,"",ImportExport!CR30) | DS45: =IF(DT13="","",IF(DR45=DT45,"","変更")) | DT45: =DR45 | DV45: =IF(ImportExport!CR31=0,"",ImportExport!CR31) | DW45: =IF(DX13="","",IF(DV45=DX45,"","変更")) | DX45: =DV45
B46: インストールOS種別 | D46: インストールするOSをご記入ください。 | J46: =IF(ImportExport!CS2=0,"",ImportExport!CS2) | K46: =IF(L13="","",IF(J46=L46,"","変更")) | L46: =J46 | N46: =IF(ImportExport!CS3=0,"",ImportExport!CS3) | O46: =IF(P13="","",IF(N46=P46,"","変更")) | P46: =N46 | R46: =IF(ImportExport!CS4=0,"",ImportExport!CS4) | S46: =IF(T13="","",IF(R46=T46,"","変更")) | T46: =R46 | V46: =IF(ImportExport!CS5=0,"",ImportExport!CS5) | W46: =IF(X13="","",IF(V46=X46,"","変更")) | X46: =V46 | Z46: =IF(ImportExport!CS6=0,"",ImportExport!CS6) | AA46: =IF(AB13="","",IF(Z46=AB46,"","変更")) | AB46: =Z46 | AD46: =IF(ImportExport!CS7=0,"",ImportExport!CS7) | AE46: =IF(AF13="","",IF(AD46=AF46,"","変更")) | AF46: =AD46 | AH46: =IF(ImportExport!CS8=0,"",ImportExport!CS8) | AI46: =IF(AJ13="","",IF(AH46=AJ46,"","変更")) | AJ46: =AH46 | AL46: =IF(ImportExport!CS9=0,"",ImportExport!CS9) | AM46: =IF(AN13="","",IF(AL46=AN46,"","変更")) | AN46: =AL46 | AP46: =IF(ImportExport!CS10=0,"",ImportExport!CS10) | AQ46: =IF(AR13="","",IF(AP46=AR46,"","変更")) | AR46: =AP46 | AT46: =IF(ImportExport!CS11=0,"",ImportExport!CS11) | AU46: =IF(AV13="","",IF(AT46=AV46,"","変更")) | AV46: =AT46 | AX46: =IF(ImportExport!CS12=0,"",ImportExport!CS12) | AY46: =IF(AZ13="","",IF(AX46=AZ46,"","変更")) | AZ46: =AX46 | BB46: =IF(ImportExport!CS13=0,"",ImportExport!CS13) | BC46: =IF(BD13="","",IF(BB46=BD46,"","変更")) | BD46: =BB46 | BF46: =IF(ImportExport!CS14=0,"",ImportExport!CS14) | BG46: =IF(BH13="","",IF(BF46=BH46,"","変更")) | BH46: =BF46 | BJ46: =IF(ImportExport!CS15=0,"",ImportExport!CS15) | BK46: =IF(BL13="","",IF(BJ46=BL46,"","変更")) | BL46: =BJ46 | BN46: =IF(ImportExport!CS16=0,"",ImportExport!CS16) | BO46: =IF(BP13="","",IF(BN46=BP46,"","変更")) | BP46: =BN46 | BR46: =IF(ImportExport!CS17=0,"",ImportExport!CS17) | BS46: =IF(BT13="","",IF(BR46=BT46,"","変更")) | BT46: =BR46 | BV46: =IF(ImportExport!CS18=0,"",ImportExport!CS18) | BW46: =IF(BX13="","",IF(BV46=BX46,"","変更")) | BX46: =BV46 | BZ46: =IF(ImportExport!CS19=0,"",ImportExport!CS19) | CA46: =IF(CB13="","",IF(BZ46=CB46,"","変更")) | CB46: =BZ46 | CD46: =IF(ImportExport!CS20=0,"",ImportExport!CS20) | CE46: =IF(CF13="","",IF(CD46=CF46,"","変更")) | CF46: =CD46 | CH46: =IF(ImportExport!CS21=0,"",ImportExport!CS21) | CI46: =IF(CJ13="","",IF(CH46=CJ46,"","変更")) | CJ46: =CH46 | CL46: =IF(ImportExport!CS22=0,"",ImportExport!CS22) | CM46: =IF(CN13="","",IF(CL46=CN46,"","変更")) | CN46: =CL46 | CP46: =IF(ImportExport!CS23=0,"",ImportExport!CS23) | CQ46: =IF(CR13="","",IF(CP46=CR46,"","変更")) | CR46: =CP46 | CT46: =IF(ImportExport!CS24=0,"",ImportExport!CS24) | CU46: =IF(CV13="","",IF(CT46=CV46,"","変更")) | CV46: =CT46 | CX46: =IF(ImportExport!CS25=0,"",ImportExport!CS25) | CY46: =IF(CZ13="","",IF(CX46=CZ46,"","変更")) | CZ46: =CX46 | DB46: =IF(ImportExport!CS26=0,"",ImportExport!CS26) | DC46: =IF(DD13="","",IF(DB46=DD46,"","変更")) | DD46: =DB46 | DF46: =IF(ImportExport!CS27=0,"",ImportExport!CS27) | DG46: =IF(DH13="","",IF(DF46=DH46,"","変更")) | DH46: =DF46 | DJ46: =IF(ImportExport!CS28=0,"",ImportExport!CS28) | DK46: =IF(DL13="","",IF(DJ46=DL46,"","変更")) | DL46: =DJ46 | DN46: =IF(ImportExport!CS29=0,"",ImportExport!CS29) | DO46: =IF(DP13="","",IF(DN46=DP46,"","変更")) | DP46: =DN46 | DR46: =IF(ImportExport!CS30=0,"",ImportExport!CS30) | DS46: =IF(DT13="","",IF(DR46=DT46,"","変更")) | DT46: =DR46 | DV46: =IF(ImportExport!CS31=0,"",ImportExport!CS31) | DW46: =IF(DX13="","",IF(DV46=DX46,"","変更")) | DX46: =DV46
A47: ⑤その他 | B47: 備考 | D47: GPU搭載サーバをご希望のお客さまはお問合せください。 | J47: =IF(ImportExport!CT2=0,"",ImportExport!CT2) | K47: =IF(L13="","",IF(J47=L47,"","変更")) | L47: =J47 | N47: =IF(ImportExport!CT3=0,"",ImportExport!CT3) | O47: =IF(P13="","",IF(N47=P47,"","変更")) | P47: =N47 | R47: =IF(ImportExport!CT4=0,"",ImportExport!CT4) | S47: =IF(T13="","",IF(R47=T47,"","変更")) | T47: =R47 | V47: =IF(ImportExport!CT5=0,"",ImportExport!CT5) | W47: =IF(X13="","",IF(V47=X47,"","変更")) | X47: =V47 | Z47: =IF(ImportExport!CT6=0,"",ImportExport!CT6) | AA47: =IF(AB13="","",IF(Z47=AB47,"","変更")) | AB47: =Z47 | AD47: =IF(ImportExport!CT7=0,"",ImportExport!CT7) | AE47: =IF(AF13="","",IF(AD47=AF47,"","変更")) | AF47: =AD47 | AH47: =IF(ImportExport!CT8=0,"",ImportExport!CT8) | AI47: =IF(AJ13="","",IF(AH47=AJ47,"","変更")) | AJ47: =AH47 | AL47: =IF(ImportExport!CT9=0,"",ImportExport!CT9) | AM47: =IF(AN13="","",IF(AL47=AN47,"","変更")) | AN47: =AL47 | AP47: =IF(ImportExport!CT10=0,"",ImportExport!CT10) | AQ47: =IF(AR13="","",IF(AP47=AR47,"","変更")) | AR47: =AP47 | AT47: =IF(ImportExport!CT11=0,"",ImportExport!CT11) | AU47: =IF(AV13="","",IF(AT47=AV47,"","変更")) | AV47: =AT47 | AX47: =IF(ImportExport!CT12=0,"",ImportExport!CT12) | AY47: =IF(AZ13="","",IF(AX47=AZ47,"","変更")) | AZ47: =AX47 | BB47: =IF(ImportExport!CT13=0,"",ImportExport!CT13) | BC47: =IF(BD13="","",IF(BB47=BD47,"","変更")) | BD47: =BB47 | BF47: =IF(ImportExport!CT14=0,"",ImportExport!CT14) | BG47: =IF(BH13="","",IF(BF47=BH47,"","変更")) | BH47: =BF47 | BJ47: =IF(ImportExport!CT15=0,"",ImportExport!CT15) | BK47: =IF(BL13="","",IF(BJ47=BL47,"","変更")) | BL47: =BJ47 | BN47: =IF(ImportExport!CT16=0,"",ImportExport!CT16) | BO47: =IF(BP13="","",IF(BN47=BP47,"","変更")) | BP47: =BN47 | BR47: =IF(ImportExport!CT17=0,"",ImportExport!CT17) | BS47: =IF(BT13="","",IF(BR47=BT47,"","変更")) | BT47: =BR47 | BV47: =IF(ImportExport!CT18=0,"",ImportExport!CT18) | BW47: =IF(BX13="","",IF(BV47=BX47,"","変更")) | BX47: =BV47 | BZ47: =IF(ImportExport!CT19=0,"",ImportExport!CT19) | CA47: =IF(CB13="","",IF(BZ47=CB47,"","変更")) | CB47: =BZ47 | CD47: =IF(ImportExport!CT20=0,"",ImportExport!CT20) | CE47: =IF(CF13="","",IF(CD47=CF47,"","変更")) | CF47: =CD47 | CH47: =IF(ImportExport!CT21=0,"",ImportExport!CT21) | CI47: =IF(CJ13="","",IF(CH47=CJ47,"","変更")) | CJ47: =CH47 | CL47: =IF(ImportExport!CT22=0,"",ImportExport!CT22) | CM47: =IF(CN13="","",IF(CL47=CN47,"","変更")) | CN47: =CL47 | CP47: =IF(ImportExport!CT23=0,"",ImportExport!CT23) | CQ47: =IF(CR13="","",IF(CP47=CR47,"","変更")) | CR47: =CP47 | CT47: =IF(ImportExport!CT24=0,"",ImportExport!CT24) | CU47: =IF(CV13="","",IF(CT47=CV47,"","変更")) | CV47: =CT47 | CX47: =IF(ImportExport!CT25=0,"",ImportExport!CT25) | CY47: =IF(CZ13="","",IF(CX47=CZ47,"","変更")) | CZ47: =CX47 | DB47: =IF(ImportExport!CT26=0,"",ImportExport!CT26) | DC47: =IF(DD13="","",IF(DB47=DD47,"","変更")) | DD47: =DB47 | DF47: =IF(ImportExport!CT27=0,"",ImportExport!CT27) | DG47: =IF(DH13="","",IF(DF47=DH47,"","変更")) | DH47: =DF47 | DJ47: =IF(ImportExport!CT28=0,"",ImportExport!CT28) | DK47: =IF(DL13="","",IF(DJ47=DL47,"","変更")) | DL47: =DJ47 | DN47: =IF(ImportExport!CT29=0,"",ImportExport!CT29) | DO47: =IF(DP13="","",IF(DN47=DP47,"","変更")) | DP47: =DN47 | DR47: =IF(ImportExport!CT30=0,"",ImportExport!CT30) | DS47: =IF(DT13="","",IF(DR47=DT47,"","変更")) | DT47: =DR47 | DV47: =IF(ImportExport!CT31=0,"",ImportExport!CT31) | DW47: =IF(DX13="","",IF(DV47=DX47,"","変更")) | DX47: =DV47

Sheet Selection
A1: 契約内容 | B1: プレフィックス値 | C1: ベースサーバプラン | D1: CPU追加 | E1: メモリ追加(CPU1個) | F1: 標準搭載メモリの容量 | H1: ディスクの種類 | I1: ディスク数量 | J1: GPU種類 | K1: GPU数量 | L1: NIC追加 | M1: NIC冗長化グループ | N1: タグVLAN | O1: NIC冗長化グループ選択 | P1: 接続VLAN管理番号 | Q1: サーバー間の直接接続 | R1: 申込み | S1: インストールOS種別 | T1: NIC冗長化グループ
A2: 新規 | D2: なし | E2: 0 | H2: - | I2: - | J2: - | K2: - | L2: なし | M2: LAGなし | N2: なし | O2: グループ1 | P2: - | Q2: - | R2: なし | S2: - | T2: -
A3: 変更 | B3: (/8) 255.0.0.0 | C3: スタンダードv3 | D3: あり | E3: 1 | F3: スタンダード | G3: 16GB | H3: SATA SSD 480GB | I3: 1 | J3: A30 | K3: 1 | L3: あり | M3: LACP | N3: あり | O3: グループ2 | P3: 1 | Q3: 1 | R3: あり | S3: Red Hat Enterprise Linux(BYOL)インストールオプション | T3: NIC冗長化グループ1
A4: 解約 | B4: (/9) 255.128.0.0 | C4: ハイスペックv3 | E4: 2 | F4: ハイスペック | G4: 16GB | H4: SAS SSD 800GB | I4: 2 | J4: A40 | K4: 2 | M4: StaticLAG | P4: 2 | Q4: 2 | S4: Windows Serverインストールオプション(Standard Edition/ｽﾀﾝﾀﾞｰﾄﾞ向け) | T4: NIC冗長化グループ2
B5: (/10) 255.192.0.0 | C5: カスタマイズ | E5: 3 | F5: スタンダードv2 | G5: 16GB | H5: SAS SSD 1.6TB | I5: 3 | P5: 3 | Q5: 3 | S5: Windows Serverインストールオプション(Standard Edition/ﾊｲｽﾍﾟｯｸﾞ向け)
B6: (/11) 255.224.0.0 | E6: 4 | F6: ハイスペックv2 | G6: 32GB | I6: 4 | P6: 4 | Q6: 4 | S6: Windows Serverインストールオプション(Datacenter Edition/ｽﾀﾝﾀﾞｰﾄﾞ向け)
B7: (/12) 255.240.0.0 | E7: 5 | F7: スタンダードv3 | G7: 32GB | I7: 5 | P7: 5 | Q7: 5 | S7: Windows Serverインストールオプション(Datacenter Edition/ﾊｲｽﾍﾟｯｸ向け)
B8: (/13) 255.248.0.0 | E8: 6 | F8: ハイスペックv3 | G8: 32GB | I8: 6 | P8: 6 | Q8: 6 | S8: Windows Server Academicインストールオプション(Standard Edition/スタンダードv3向け)
B9: (/14) 255.252.0.0 | E9: 7 | F9: カスタマイズ | G9: 個別相談 | I9: 7 | P9: 7 | Q9: 7 | S9: Windows Server Academicインストールオプション(Standard Edition/ハイスペックv3向け)
B10: (/15) 255.254.0.0 | E10: 8 | F10: GPUセット | G10: 個別相談 | I10: 8 | P10: 8 | Q10: 8 | S10: Windows Server Academicインストールオプション(Datacenter Edition/スタンダードv3向け)
B11: (/16) 255.255.0.0 | E11: 9 | P11: 9 | Q11: 9 | S11: Windows Server Academicインストールオプション(Datacenter Edition/ハイスペックv3向け)
B12: (/17) 255.255.128.0 | E12: 10 | P12: 10 | Q12: 10 | S12: VMware vSphere(BYOL)インストールオプション
B13: (/18) 255.255.192.0 | E13: 11 | P13: MFN VLAN | Q13: 11
B14: (/19) 255.255.224.0 | E14: 12 | Q14: 12
B15: (/20) 255.255.240.0 | E15: 13 | Q15: 13
B16: (/21) 255.255.248.0 | E16: 14 | Q16: 14
B17: (/22) 255.255.252.0 | E17: 15 | Q17: 15
B18: (/23) 255.255.254.0 | E18: 16 | Q18: 16
B19: (/24) 255.255.255.0 | E19: 17 | Q19: 17
B20: (/25) 255.255.255.128 | E20: 18 | Q20: 18
B21: (/26) 255.255.255.192 | E21: 19 | Q21: 19
B22: (/27) 255.255.255.224 | E22: 20 | Q22: 20
B23: (/28) 255.255.255.240 | E23: 21 | Q23: 21
B24: (/29) 255.255.255.248 | E24: 22 | Q24: 22
B25: (/30) 255.255.255.252 | E25: 23 | Q25: 23
... B27: (/32) 255.255.255.255 | E27: 25 | Q27: 25
E28: 26 | Q28: 26
E29: 27 | Q29: 27
E30: 28 | Q30: 28
E31: 29 | Q31: 29
E32: 30 | Q32: 30
E33: 31
